* [dpdk-test-report] |SUCCESS| pw66679 [PATCH] vhost: cache guest/vhost physical address mapping
@ 2020-03-16 9:54 dpdklab
0 siblings, 0 replies; 5+ messages in thread
From: dpdklab @ 2020-03-16 9:54 UTC (permalink / raw)
To: Test Report; +Cc: dpdk-test-reports
[-- Attachment #1: Type: text/plain, Size: 2900 bytes --]
Test-Label: iol-testing
Test-Status: SUCCESS
http://dpdk.org/patch/66679
_Testing PASS_
Submitter: Marvin Liu <yong.liu@intel.com>
Date: Monday, March 16 2020 15:33:53
DPDK git baseline: Repo:dpdk
Branch: master
CommitID:341a793eb193a104c571172e724a98b2552c55cf
66679 --> testing pass
Test environment and result as below:
+---------------------+--------------------+-------------------+------------------+----------------+--------------+
| Environment | dpdk_meson_compile | dpdk_compile_spdk | dpdk_compile_ovs | dpdk_unit_test | dpdk_compile |
+=====================+====================+===================+==================+================+==============+
| Windows Server 2019 | PASS | SKIPPED | SKIPPED | SKIPPED | SKIPPED |
+---------------------+--------------------+-------------------+------------------+----------------+--------------+
| Ubuntu 18.04 | PASS | PASS | PASS | PASS | PASS |
+---------------------+--------------------+-------------------+------------------+----------------+--------------+
| CentOS 8 | PASS | PASS | PASS | SKIPPED | PASS |
+---------------------+--------------------+-------------------+------------------+----------------+--------------+
| FreeBSD 11.2 | PASS | PASS | SKIPPED | SKIPPED | PASS |
+---------------------+--------------------+-------------------+------------------+----------------+--------------+
| Fedora 31 | PASS | PASS | PASS | SKIPPED | PASS |
+---------------------+--------------------+-------------------+------------------+----------------+--------------+
| openSUSE Leap 15 | PASS | PASS | PASS | SKIPPED | PASS |
+---------------------+--------------------+-------------------+------------------+----------------+--------------+
| Arch Linux | PASS | SKIPPED | PASS | SKIPPED | PASS |
+---------------------+--------------------+-------------------+------------------+----------------+--------------+
Windows Server 2019
Kernel: 10.0
Compiler: clang 9.0
Ubuntu 18.04
Kernel: 4.15.0-generic
Compiler: gcc 7.4
CentOS 8
Kernel: 4.18.0.el8_0
Compiler: gcc 8.3.1
FreeBSD 11.2
Kernel: 11.2
Compiler: gcc 8.3
Fedora 31
Kernel: 5.3.16
Compiler: gcc 9.2.1
openSUSE Leap 15
Kernel: 4.12.14
Compiler: gcc 7.4.1
Arch Linux
Kernel: latest
Compiler: gcc latest
To view detailed results, visit:
https://lab.dpdk.org/results/dashboard/patchsets/9982/
UNH-IOL DPDK Community Lab
To manage your email subscriptions, visit:
https://lab.dpdk.org/results/dashboard/preferences/subscriptions/
^ permalink raw reply [flat|nested] 5+ messages in thread
* [dpdk-test-report] |SUCCESS| pw66679 [PATCH] vhost: cache guest/vhost physical address mapping
@ 2020-03-16 9:45 dpdklab
0 siblings, 0 replies; 5+ messages in thread
From: dpdklab @ 2020-03-16 9:45 UTC (permalink / raw)
To: Ali Alnubani, Test Report; +Cc: dpdk-test-reports
[-- Attachment #1: Type: text/plain, Size: 3955 bytes --]
Test-Label: iol-mellanox-Performance
Test-Status: SUCCESS
http://dpdk.org/patch/66679
_Performance Testing PASS_
Submitter: Marvin Liu <yong.liu@intel.com>
Date: Monday, March 16 2020 15:33:53
DPDK git baseline: Repo:dpdk
Branch: master
CommitID:341a793eb193a104c571172e724a98b2552c55cf
66679 --> performance testing pass
Test environment and result as below:
Ubuntu 18.04
Kernel: 4.15.0-generic
Compiler: gcc 7.4
NIC: Mellanox ConnectX-4 Lx 25000 Mbps
Target: x86_64-native-linuxapp-gcc
Fail/Total: 0/6
Detail performance results:
+------------+---------+-------------------------------------+
| frame_size | txd/rxd | throughput difference from expected |
+============+=========+=====================================+
| 64 | 256 | -0.220 |
+------------+---------+-------------------------------------+
| 128 | 256 | -0.116 |
+------------+---------+-------------------------------------+
| 256 | 256 | -0.056 |
+------------+---------+-------------------------------------+
| 512 | 256 | 0.021 |
+------------+---------+-------------------------------------+
| 1024 | 256 | -0.010 |
+------------+---------+-------------------------------------+
| 1518 | 256 | 0.007 |
+------------+---------+-------------------------------------+
Ubuntu 18.04
Kernel: 4.15.0-generic
Compiler: gcc 7.4
NIC: Mellanox ConnectX-5 100000 Mbps
Target: x86_64-native-linuxapp-gcc
Fail/Total: 0/6
Detail performance results:
+------------+---------+-------------------------------------+
| frame_size | txd/rxd | throughput difference from expected |
+============+=========+=====================================+
| 64 | 256 | -0.748 |
+------------+---------+-------------------------------------+
| 128 | 256 | -0.101 |
+------------+---------+-------------------------------------+
| 256 | 256 | -0.001 |
+------------+---------+-------------------------------------+
| 512 | 256 | 0.175 |
+------------+---------+-------------------------------------+
| 1024 | 256 | -0.174 |
+------------+---------+-------------------------------------+
| 1518 | 256 | -0.001 |
+------------+---------+-------------------------------------+
Ubuntu 18.04
Kernel: 4.15.0-generic
Compiler: gcc 7.4
NIC: Mellanox ConnectX-4 Lx 40000 Mbps
Target: x86_64-native-linuxapp-gcc
Fail/Total: 0/6
Detail performance results:
+------------+---------+-------------------------------------+
| frame_size | txd/rxd | throughput difference from expected |
+============+=========+=====================================+
| 64 | 256 | -0.386 |
+------------+---------+-------------------------------------+
| 128 | 256 | 0.031 |
+------------+---------+-------------------------------------+
| 256 | 256 | -0.024 |
+------------+---------+-------------------------------------+
| 512 | 256 | 0.002 |
+------------+---------+-------------------------------------+
| 1024 | 256 | 0.023 |
+------------+---------+-------------------------------------+
| 1518 | 256 | 0.004 |
+------------+---------+-------------------------------------+
To view detailed results, visit:
https://lab.dpdk.org/results/dashboard/patchsets/9982/
UNH-IOL DPDK Community Lab
To manage your email subscriptions, visit:
https://lab.dpdk.org/results/dashboard/preferences/subscriptions/
^ permalink raw reply [flat|nested] 5+ messages in thread
* [dpdk-test-report] |SUCCESS| pw66679 [PATCH] vhost: cache guest/vhost physical address mapping
@ 2020-03-16 9:45 dpdklab
0 siblings, 0 replies; 5+ messages in thread
From: dpdklab @ 2020-03-16 9:45 UTC (permalink / raw)
To: Test Report; +Cc: dpdk-test-reports
[-- Attachment #1: Type: text/plain, Size: 1251 bytes --]
Test-Label: iol-intel-Performance
Test-Status: SUCCESS
http://dpdk.org/patch/66679
_Performance Testing PASS_
Submitter: Marvin Liu <yong.liu@intel.com>
Date: Monday, March 16 2020 15:33:53
DPDK git baseline: Repo:dpdk
Branch: master
CommitID:341a793eb193a104c571172e724a98b2552c55cf
66679 --> performance testing pass
Test environment and result as below:
Ubuntu 18.04
Kernel: 4.15.0-generic
Compiler: gcc 7.4
NIC: Intel Corporation Ethernet Converged Network Adapter XL710-QDA2 40000 Mbps
Target: x86_64-native-linuxapp-gcc
Fail/Total: 0/2
Detail performance results:
+------------+---------+-------------------------------------+
| frame_size | txd/rxd | throughput difference from expected |
+============+=========+=====================================+
| 64 | 512 | -0.577 |
+------------+---------+-------------------------------------+
| 64 | 2048 | 0.500 |
+------------+---------+-------------------------------------+
To view detailed results, visit:
https://lab.dpdk.org/results/dashboard/patchsets/9982/
UNH-IOL DPDK Community Lab
To manage your email subscriptions, visit:
https://lab.dpdk.org/results/dashboard/preferences/subscriptions/
^ permalink raw reply [flat|nested] 5+ messages in thread
end of thread, other threads:[~2020-03-16 10:08 UTC | newest]
Thread overview: 5+ messages (download: mbox.gz / follow: Atom feed)
-- links below jump to the message on this page --
[not found] <20200316153353.112897-1-yong.liu@intel.com>
2020-03-16 7:59 ` [dpdk-test-report] |SUCCESS| pw66679 [PATCH] vhost: cache guest/vhost physical address mapping checkpatch
2020-03-16 10:06 ` [dpdk-test-report] |WARNING| pw66679 " 0-day Robot
2020-03-16 9:54 [dpdk-test-report] |SUCCESS| pw66679 [PATCH] " dpdklab
-- strict thread matches above, loose matches on Subject: below --
2020-03-16 9:45 dpdklab
2020-03-16 9:45 dpdklab
This is a public inbox, see mirroring instructions
for how to clone and mirror all data and code used for this inbox;
as well as URLs for NNTP newsgroup(s).