* [dpdk-test-report] |SUCCESS| pw66776-66783 [PATCH] [v2, 1/7] net/hinic: fix LRO problems
@ 2020-03-17 15:55 dpdklab
0 siblings, 0 replies; 2+ messages in thread
From: dpdklab @ 2020-03-17 15:55 UTC (permalink / raw)
To: Test Report; +Cc: dpdk-test-reports
[-- Attachment #1: Type: text/plain, Size: 2929 bytes --]
Test-Label: iol-testing
Test-Status: SUCCESS
http://dpdk.org/patch/66776
_Testing PASS_
Submitter: Xiaoyun wang <cloud.wangxiaoyun@huawei.com>
Date: Tuesday, March 17 2020 15:01:11
DPDK git baseline: Repo:dpdk-next-net
Branch: master
CommitID:077149daecfd8508ddceb29f486f37dd54886d6a
66776-66783 --> testing pass
Test environment and result as below:
+---------------------+--------------------+-------------------+--------------+------------------+----------------+
| Environment | dpdk_meson_compile | dpdk_compile_spdk | dpdk_compile | dpdk_compile_ovs | dpdk_unit_test |
+=====================+====================+===================+==============+==================+================+
| Windows Server 2019 | PASS | SKIPPED | SKIPPED | SKIPPED | SKIPPED |
+---------------------+--------------------+-------------------+--------------+------------------+----------------+
| Fedora 31 | PASS | PASS | PASS | PASS | SKIPPED |
+---------------------+--------------------+-------------------+--------------+------------------+----------------+
| CentOS 8 | PASS | PASS | PASS | PASS | SKIPPED |
+---------------------+--------------------+-------------------+--------------+------------------+----------------+
| Ubuntu 18.04 | PASS | PASS | PASS | PASS | PASS |
+---------------------+--------------------+-------------------+--------------+------------------+----------------+
| openSUSE Leap 15 | PASS | PASS | PASS | PASS | SKIPPED |
+---------------------+--------------------+-------------------+--------------+------------------+----------------+
| FreeBSD 11.2 | PASS | PASS | PASS | SKIPPED | SKIPPED |
+---------------------+--------------------+-------------------+--------------+------------------+----------------+
| Arch Linux | PASS | SKIPPED | PASS | PASS | SKIPPED |
+---------------------+--------------------+-------------------+--------------+------------------+----------------+
Windows Server 2019
Kernel: 10.0
Compiler: clang 9.0
Fedora 31
Kernel: 5.3.16
Compiler: gcc 9.2.1
CentOS 8
Kernel: 4.18.0.el8_0
Compiler: gcc 8.3.1
Ubuntu 18.04
Kernel: 4.15.0-generic
Compiler: gcc 7.4
openSUSE Leap 15
Kernel: 4.12.14
Compiler: gcc 7.4.1
FreeBSD 11.2
Kernel: 11.2
Compiler: gcc 8.3
Arch Linux
Kernel: latest
Compiler: gcc latest
To view detailed results, visit:
https://lab.dpdk.org/results/dashboard/patchsets/10017/
UNH-IOL DPDK Community Lab
To manage your email subscriptions, visit:
https://lab.dpdk.org/results/dashboard/preferences/subscriptions/
^ permalink raw reply [flat|nested] 2+ messages in thread
* [dpdk-test-report] |SUCCESS| pw66776-66783 [PATCH] [v2, 1/7] net/hinic: fix LRO problems
@ 2020-03-17 15:52 dpdklab
0 siblings, 0 replies; 2+ messages in thread
From: dpdklab @ 2020-03-17 15:52 UTC (permalink / raw)
To: Ali Alnubani, Test Report; +Cc: dpdk-test-reports
[-- Attachment #1: Type: text/plain, Size: 3984 bytes --]
Test-Label: iol-mellanox-Performance
Test-Status: SUCCESS
http://dpdk.org/patch/66776
_Performance Testing PASS_
Submitter: Xiaoyun wang <cloud.wangxiaoyun@huawei.com>
Date: Tuesday, March 17 2020 15:01:11
DPDK git baseline: Repo:dpdk-next-net
Branch: master
CommitID:077149daecfd8508ddceb29f486f37dd54886d6a
66776-66783 --> performance testing pass
Test environment and result as below:
Ubuntu 18.04
Kernel: 4.15.0-generic
Compiler: gcc 7.4
NIC: Mellanox ConnectX-5 100000 Mbps
Target: x86_64-native-linuxapp-gcc
Fail/Total: 0/6
Detail performance results:
+------------+---------+-------------------------------------+
| frame_size | txd/rxd | throughput difference from expected |
+============+=========+=====================================+
| 64 | 256 | -0.486 |
+------------+---------+-------------------------------------+
| 128 | 256 | -0.077 |
+------------+---------+-------------------------------------+
| 256 | 256 | -0.009 |
+------------+---------+-------------------------------------+
| 512 | 256 | -0.202 |
+------------+---------+-------------------------------------+
| 1024 | 256 | 0.025 |
+------------+---------+-------------------------------------+
| 1518 | 256 | -0.014 |
+------------+---------+-------------------------------------+
Ubuntu 18.04
Kernel: 4.15.0-generic
Compiler: gcc 7.4
NIC: Mellanox ConnectX-4 Lx 25000 Mbps
Target: x86_64-native-linuxapp-gcc
Fail/Total: 0/6
Detail performance results:
+------------+---------+-------------------------------------+
| frame_size | txd/rxd | throughput difference from expected |
+============+=========+=====================================+
| 64 | 256 | -0.362 |
+------------+---------+-------------------------------------+
| 128 | 256 | -0.254 |
+------------+---------+-------------------------------------+
| 256 | 256 | -0.012 |
+------------+---------+-------------------------------------+
| 512 | 256 | 0.015 |
+------------+---------+-------------------------------------+
| 1024 | 256 | -0.007 |
+------------+---------+-------------------------------------+
| 1518 | 256 | 0.007 |
+------------+---------+-------------------------------------+
Ubuntu 18.04
Kernel: 4.15.0-generic
Compiler: gcc 7.4
NIC: Mellanox ConnectX-4 Lx 40000 Mbps
Target: x86_64-native-linuxapp-gcc
Fail/Total: 0/6
Detail performance results:
+------------+---------+-------------------------------------+
| frame_size | txd/rxd | throughput difference from expected |
+============+=========+=====================================+
| 64 | 256 | 0.132 |
+------------+---------+-------------------------------------+
| 128 | 256 | 0.009 |
+------------+---------+-------------------------------------+
| 256 | 256 | -0.078 |
+------------+---------+-------------------------------------+
| 512 | 256 | 0.027 |
+------------+---------+-------------------------------------+
| 1024 | 256 | -0.005 |
+------------+---------+-------------------------------------+
| 1518 | 256 | 0.004 |
+------------+---------+-------------------------------------+
To view detailed results, visit:
https://lab.dpdk.org/results/dashboard/patchsets/10017/
UNH-IOL DPDK Community Lab
To manage your email subscriptions, visit:
https://lab.dpdk.org/results/dashboard/preferences/subscriptions/
^ permalink raw reply [flat|nested] 2+ messages in thread
end of thread, other threads:[~2020-03-17 15:55 UTC | newest]
Thread overview: 2+ messages (download: mbox.gz / follow: Atom feed)
-- links below jump to the message on this page --
2020-03-17 15:55 [dpdk-test-report] |SUCCESS| pw66776-66783 [PATCH] [v2, 1/7] net/hinic: fix LRO problems dpdklab
-- strict thread matches above, loose matches on Subject: below --
2020-03-17 15:52 dpdklab
This is a public inbox, see mirroring instructions
for how to clone and mirror all data and code used for this inbox;
as well as URLs for NNTP newsgroup(s).