* [dpdk-test-report] |SUCCESS| pw66921 [PATCH] kvargs: fix a heap-buffer-overflow when detect list
@ 2020-03-19 5:56 dpdklab
0 siblings, 0 replies; 3+ messages in thread
From: dpdklab @ 2020-03-19 5:56 UTC (permalink / raw)
To: Test Report; +Cc: dpdk-test-reports
[-- Attachment #1: Type: text/plain, Size: 2908 bytes --]
Test-Label: iol-testing
Test-Status: SUCCESS
http://dpdk.org/patch/66921
_Testing PASS_
Submitter: wangyunjian <wangyunjian@huawei.com>
Date: Thursday, March 19 2020 04:38:00
DPDK git baseline: Repo:dpdk
Branch: master
CommitID:716f9bb42ecb6df640d4dffebe1ec55aaab29ba0
66921 --> testing pass
Test environment and result as below:
+---------------------+--------------------+-------------------+--------------+----------------+------------------+
| Environment | dpdk_meson_compile | dpdk_compile_spdk | dpdk_compile | dpdk_unit_test | dpdk_compile_ovs |
+=====================+====================+===================+==============+================+==================+
| Windows Server 2019 | PASS | SKIPPED | SKIPPED | SKIPPED | SKIPPED |
+---------------------+--------------------+-------------------+--------------+----------------+------------------+
| CentOS 8 | PASS | PASS | PASS | SKIPPED | PASS |
+---------------------+--------------------+-------------------+--------------+----------------+------------------+
| Fedora 31 | PASS | PASS | PASS | SKIPPED | PASS |
+---------------------+--------------------+-------------------+--------------+----------------+------------------+
| Ubuntu 18.04 | PASS | PASS | PASS | PASS | PASS |
+---------------------+--------------------+-------------------+--------------+----------------+------------------+
| openSUSE Leap 15 | PASS | PASS | PASS | SKIPPED | PASS |
+---------------------+--------------------+-------------------+--------------+----------------+------------------+
| FreeBSD 11.2 | PASS | PASS | PASS | SKIPPED | SKIPPED |
+---------------------+--------------------+-------------------+--------------+----------------+------------------+
| Arch Linux | PASS | SKIPPED | PASS | SKIPPED | PASS |
+---------------------+--------------------+-------------------+--------------+----------------+------------------+
Windows Server 2019
Kernel: 10.0
Compiler: clang 9.0
CentOS 8
Kernel: 4.18.0.el8_0
Compiler: gcc 8.3.1
Fedora 31
Kernel: 5.3.16
Compiler: gcc 9.2.1
Ubuntu 18.04
Kernel: 4.15.0-generic
Compiler: gcc 7.4
openSUSE Leap 15
Kernel: 4.12.14
Compiler: gcc 7.4.1
FreeBSD 11.2
Kernel: 11.2
Compiler: gcc 8.3
Arch Linux
Kernel: latest
Compiler: gcc latest
To view detailed results, visit:
https://lab.dpdk.org/results/dashboard/patchsets/10038/
UNH-IOL DPDK Community Lab
To manage your email subscriptions, visit:
https://lab.dpdk.org/results/dashboard/preferences/subscriptions/
^ permalink raw reply [flat|nested] 3+ messages in thread
* [dpdk-test-report] |SUCCESS| pw66921 [PATCH] kvargs: fix a heap-buffer-overflow when detect list
@ 2020-03-19 5:52 dpdklab
0 siblings, 0 replies; 3+ messages in thread
From: dpdklab @ 2020-03-19 5:52 UTC (permalink / raw)
To: Ali Alnubani, Test Report; +Cc: dpdk-test-reports
[-- Attachment #1: Type: text/plain, Size: 3963 bytes --]
Test-Label: iol-mellanox-Performance
Test-Status: SUCCESS
http://dpdk.org/patch/66921
_Performance Testing PASS_
Submitter: wangyunjian <wangyunjian@huawei.com>
Date: Thursday, March 19 2020 04:38:00
DPDK git baseline: Repo:dpdk
Branch: master
CommitID:716f9bb42ecb6df640d4dffebe1ec55aaab29ba0
66921 --> performance testing pass
Test environment and result as below:
Ubuntu 18.04
Kernel: 4.15.0-generic
Compiler: gcc 7.4
NIC: Mellanox ConnectX-5 100000 Mbps
Target: x86_64-native-linuxapp-gcc
Fail/Total: 0/6
Detail performance results:
+------------+---------+-------------------------------------+
| frame_size | txd/rxd | throughput difference from expected |
+============+=========+=====================================+
| 64 | 256 | 0.081 |
+------------+---------+-------------------------------------+
| 128 | 256 | -0.257 |
+------------+---------+-------------------------------------+
| 256 | 256 | 0.033 |
+------------+---------+-------------------------------------+
| 512 | 256 | -0.150 |
+------------+---------+-------------------------------------+
| 1024 | 256 | -0.094 |
+------------+---------+-------------------------------------+
| 1518 | 256 | -0.025 |
+------------+---------+-------------------------------------+
Ubuntu 18.04
Kernel: 4.15.0-generic
Compiler: gcc 7.4
NIC: Mellanox ConnectX-4 Lx 25000 Mbps
Target: x86_64-native-linuxapp-gcc
Fail/Total: 0/6
Detail performance results:
+------------+---------+-------------------------------------+
| frame_size | txd/rxd | throughput difference from expected |
+============+=========+=====================================+
| 64 | 256 | -0.106 |
+------------+---------+-------------------------------------+
| 128 | 256 | 0.092 |
+------------+---------+-------------------------------------+
| 256 | 256 | -0.036 |
+------------+---------+-------------------------------------+
| 512 | 256 | 0.032 |
+------------+---------+-------------------------------------+
| 1024 | 256 | 0.003 |
+------------+---------+-------------------------------------+
| 1518 | 256 | 0.012 |
+------------+---------+-------------------------------------+
Ubuntu 18.04
Kernel: 4.15.0-generic
Compiler: gcc 7.4
NIC: Mellanox ConnectX-4 Lx 40000 Mbps
Target: x86_64-native-linuxapp-gcc
Fail/Total: 0/6
Detail performance results:
+------------+---------+-------------------------------------+
| frame_size | txd/rxd | throughput difference from expected |
+============+=========+=====================================+
| 64 | 256 | -0.173 |
+------------+---------+-------------------------------------+
| 128 | 256 | 0.032 |
+------------+---------+-------------------------------------+
| 256 | 256 | -0.024 |
+------------+---------+-------------------------------------+
| 512 | 256 | 0.003 |
+------------+---------+-------------------------------------+
| 1024 | 256 | 0.002 |
+------------+---------+-------------------------------------+
| 1518 | 256 | 0.017 |
+------------+---------+-------------------------------------+
To view detailed results, visit:
https://lab.dpdk.org/results/dashboard/patchsets/10038/
UNH-IOL DPDK Community Lab
To manage your email subscriptions, visit:
https://lab.dpdk.org/results/dashboard/preferences/subscriptions/
^ permalink raw reply [flat|nested] 3+ messages in thread
* [dpdk-test-report] |SUCCESS| pw66921 [PATCH] kvargs: fix a heap-buffer-overflow when detect list
[not found] <1584592680-14000-1-git-send-email-wangyunjian@huawei.com>
@ 2020-03-19 4:38 ` checkpatch
0 siblings, 0 replies; 3+ messages in thread
From: checkpatch @ 2020-03-19 4:38 UTC (permalink / raw)
To: test-report
Test-Label: checkpatch
Test-Status: SUCCESS
http://dpdk.org/patch/66921
_coding style OK_
^ permalink raw reply [flat|nested] 3+ messages in thread
end of thread, other threads:[~2020-03-19 5:56 UTC | newest]
Thread overview: 3+ messages (download: mbox.gz / follow: Atom feed)
-- links below jump to the message on this page --
2020-03-19 5:56 [dpdk-test-report] |SUCCESS| pw66921 [PATCH] kvargs: fix a heap-buffer-overflow when detect list dpdklab
-- strict thread matches above, loose matches on Subject: below --
2020-03-19 5:52 dpdklab
[not found] <1584592680-14000-1-git-send-email-wangyunjian@huawei.com>
2020-03-19 4:38 ` checkpatch
This is a public inbox, see mirroring instructions
for how to clone and mirror all data and code used for this inbox;
as well as URLs for NNTP newsgroup(s).