* [dpdk-test-report] |SUCCESS| pw66971 [PATCH] [v2] usertools/dpdk-setup.sh: fix dpdk-setup's behaviour on non-alphanumeric inputs
@ 2020-03-20 7:52 dpdklab
0 siblings, 0 replies; 5+ messages in thread
From: dpdklab @ 2020-03-20 7:52 UTC (permalink / raw)
To: Test Report; +Cc: dpdk-test-reports
[-- Attachment #1: Type: text/plain, Size: 2906 bytes --]
Test-Label: iol-testing
Test-Status: SUCCESS
http://dpdk.org/patch/66971
_Testing PASS_
Submitter: Sarosh Arif <sarosh.arif@emumba.com>
Date: Friday, March 20 2020 06:50:02
DPDK git baseline: Repo:dpdk
Branch: master
CommitID:4a3c160742ab4ea7eca7c6e6eec81edbb6906d22
66971 --> testing pass
Test environment and result as below:
+---------------------+--------------------+-------------------+------------------+--------------+----------------+
| Environment | dpdk_meson_compile | dpdk_compile_spdk | dpdk_compile_ovs | dpdk_compile | dpdk_unit_test |
+=====================+====================+===================+==================+==============+================+
| Windows Server 2019 | PASS | SKIPPED | SKIPPED | SKIPPED | SKIPPED |
+---------------------+--------------------+-------------------+------------------+--------------+----------------+
| Ubuntu 18.04 | PASS | PASS | PASS | PASS | PASS |
+---------------------+--------------------+-------------------+------------------+--------------+----------------+
| Fedora 31 | PASS | PASS | PASS | PASS | SKIPPED |
+---------------------+--------------------+-------------------+------------------+--------------+----------------+
| CentOS 8 | PASS | PASS | PASS | PASS | SKIPPED |
+---------------------+--------------------+-------------------+------------------+--------------+----------------+
| openSUSE Leap 15 | PASS | PASS | PASS | PASS | SKIPPED |
+---------------------+--------------------+-------------------+------------------+--------------+----------------+
| FreeBSD 11.2 | PASS | PASS | SKIPPED | PASS | SKIPPED |
+---------------------+--------------------+-------------------+------------------+--------------+----------------+
| Arch Linux | PASS | SKIPPED | PASS | PASS | SKIPPED |
+---------------------+--------------------+-------------------+------------------+--------------+----------------+
Windows Server 2019
Kernel: 10.0
Compiler: clang 9.0
Ubuntu 18.04
Kernel: 4.15.0-generic
Compiler: gcc 7.4
Fedora 31
Kernel: 5.3.16
Compiler: gcc 9.2.1
CentOS 8
Kernel: 4.18.0.el8_0
Compiler: gcc 8.3.1
openSUSE Leap 15
Kernel: 4.12.14
Compiler: gcc 7.4.1
FreeBSD 11.2
Kernel: 11.2
Compiler: gcc 8.3
Arch Linux
Kernel: latest
Compiler: gcc latest
To view detailed results, visit:
https://lab.dpdk.org/results/dashboard/patchsets/10057/
UNH-IOL DPDK Community Lab
To manage your email subscriptions, visit:
https://lab.dpdk.org/results/dashboard/preferences/subscriptions/
^ permalink raw reply [flat|nested] 5+ messages in thread
* [dpdk-test-report] |SUCCESS| pw66971 [PATCH] [v2] usertools/dpdk-setup.sh: fix dpdk-setup's behaviour on non-alphanumeric inputs
@ 2020-03-20 7:51 dpdklab
0 siblings, 0 replies; 5+ messages in thread
From: dpdklab @ 2020-03-20 7:51 UTC (permalink / raw)
To: Ali Alnubani, Test Report; +Cc: dpdk-test-reports
[-- Attachment #1: Type: text/plain, Size: 2843 bytes --]
Test-Label: iol-mellanox-Performance
Test-Status: SUCCESS
http://dpdk.org/patch/66971
_Performance Testing PASS_
Submitter: Sarosh Arif <sarosh.arif@emumba.com>
Date: Friday, March 20 2020 06:50:02
DPDK git baseline: Repo:dpdk
Branch: master
CommitID:4a3c160742ab4ea7eca7c6e6eec81edbb6906d22
66971 --> performance testing pass
Test environment and result as below:
Ubuntu 18.04
Kernel: 4.15.0-generic
Compiler: gcc 7.4
NIC: Mellanox ConnectX-4 Lx 25000 Mbps
Target: x86_64-native-linuxapp-gcc
Fail/Total: 0/6
Detail performance results:
+------------+---------+-------------------------------------+
| frame_size | txd/rxd | throughput difference from expected |
+============+=========+=====================================+
| 64 | 256 | 0.063 |
+------------+---------+-------------------------------------+
| 128 | 256 | -0.041 |
+------------+---------+-------------------------------------+
| 256 | 256 | -0.233 |
+------------+---------+-------------------------------------+
| 512 | 256 | 0.002 |
+------------+---------+-------------------------------------+
| 1024 | 256 | -0.002 |
+------------+---------+-------------------------------------+
| 1518 | 256 | -0.010 |
+------------+---------+-------------------------------------+
Ubuntu 18.04
Kernel: 4.15.0-generic
Compiler: gcc 7.4
NIC: Mellanox ConnectX-4 Lx 40000 Mbps
Target: x86_64-native-linuxapp-gcc
Fail/Total: 0/6
Detail performance results:
+------------+---------+-------------------------------------+
| frame_size | txd/rxd | throughput difference from expected |
+============+=========+=====================================+
| 64 | 256 | 0.161 |
+------------+---------+-------------------------------------+
| 128 | 256 | -0.321 |
+------------+---------+-------------------------------------+
| 256 | 256 | -0.107 |
+------------+---------+-------------------------------------+
| 512 | 256 | -0.003 |
+------------+---------+-------------------------------------+
| 1024 | 256 | -0.004 |
+------------+---------+-------------------------------------+
| 1518 | 256 | -0.007 |
+------------+---------+-------------------------------------+
To view detailed results, visit:
https://lab.dpdk.org/results/dashboard/patchsets/10057/
UNH-IOL DPDK Community Lab
To manage your email subscriptions, visit:
https://lab.dpdk.org/results/dashboard/preferences/subscriptions/
^ permalink raw reply [flat|nested] 5+ messages in thread
* [dpdk-test-report] |SUCCESS| pw66971 [PATCH] [v2] usertools/dpdk-setup.sh: fix dpdk-setup's behaviour on non-alphanumeric inputs
@ 2020-03-20 7:32 dpdklab
0 siblings, 0 replies; 5+ messages in thread
From: dpdklab @ 2020-03-20 7:32 UTC (permalink / raw)
To: Test Report; +Cc: dpdk-test-reports
[-- Attachment #1: Type: text/plain, Size: 1257 bytes --]
Test-Label: iol-intel-Performance
Test-Status: SUCCESS
http://dpdk.org/patch/66971
_Performance Testing PASS_
Submitter: Sarosh Arif <sarosh.arif@emumba.com>
Date: Friday, March 20 2020 06:50:02
DPDK git baseline: Repo:dpdk
Branch: master
CommitID:4a3c160742ab4ea7eca7c6e6eec81edbb6906d22
66971 --> performance testing pass
Test environment and result as below:
Ubuntu 18.04
Kernel: 4.15.0-generic
Compiler: gcc 7.4
NIC: Intel Corporation Ethernet Converged Network Adapter XL710-QDA2 40000 Mbps
Target: x86_64-native-linuxapp-gcc
Fail/Total: 0/2
Detail performance results:
+------------+---------+-------------------------------------+
| frame_size | txd/rxd | throughput difference from expected |
+============+=========+=====================================+
| 64 | 512 | 0.640 |
+------------+---------+-------------------------------------+
| 64 | 2048 | -0.188 |
+------------+---------+-------------------------------------+
To view detailed results, visit:
https://lab.dpdk.org/results/dashboard/patchsets/10057/
UNH-IOL DPDK Community Lab
To manage your email subscriptions, visit:
https://lab.dpdk.org/results/dashboard/preferences/subscriptions/
^ permalink raw reply [flat|nested] 5+ messages in thread
* [dpdk-test-report] |SUCCESS| pw66971 [PATCH] [v2] usertools/dpdk-setup.sh: fix dpdk-setup's behaviour on non-alphanumeric inputs
@ 2020-03-20 7:32 dpdklab
0 siblings, 0 replies; 5+ messages in thread
From: dpdklab @ 2020-03-20 7:32 UTC (permalink / raw)
To: Ali Alnubani, Test Report; +Cc: dpdk-test-reports
[-- Attachment #1: Type: text/plain, Size: 1721 bytes --]
Test-Label: iol-mellanox-Performance
Test-Status: SUCCESS
http://dpdk.org/patch/66971
_Performance Testing PASS_
Submitter: Sarosh Arif <sarosh.arif@emumba.com>
Date: Friday, March 20 2020 06:50:02
DPDK git baseline: Repo:dpdk
Branch: master
CommitID:4a3c160742ab4ea7eca7c6e6eec81edbb6906d22
66971 --> performance testing pass
Test environment and result as below:
Ubuntu 18.04
Kernel: 4.15.0-generic
Compiler: gcc 7.4
NIC: Mellanox ConnectX-5 100000 Mbps
Target: x86_64-native-linuxapp-gcc
Fail/Total: 0/6
Detail performance results:
+------------+---------+-------------------------------------+
| frame_size | txd/rxd | throughput difference from expected |
+============+=========+=====================================+
| 64 | 256 | 0.299 |
+------------+---------+-------------------------------------+
| 128 | 256 | 0.108 |
+------------+---------+-------------------------------------+
| 256 | 256 | 0.098 |
+------------+---------+-------------------------------------+
| 512 | 256 | -0.089 |
+------------+---------+-------------------------------------+
| 1024 | 256 | 0.039 |
+------------+---------+-------------------------------------+
| 1518 | 256 | -0.011 |
+------------+---------+-------------------------------------+
To view detailed results, visit:
https://lab.dpdk.org/results/dashboard/patchsets/10057/
UNH-IOL DPDK Community Lab
To manage your email subscriptions, visit:
https://lab.dpdk.org/results/dashboard/preferences/subscriptions/
^ permalink raw reply [flat|nested] 5+ messages in thread
* [dpdk-test-report] |SUCCESS| pw66971 [PATCH v2] usertools/dpdk-setup.sh: fix dpdk-setup's behaviour on non-alphanumeric inputs
[not found] <20200320065002.5410-1-sarosh.arif@emumba.com>
@ 2020-03-20 6:52 ` checkpatch
0 siblings, 0 replies; 5+ messages in thread
From: checkpatch @ 2020-03-20 6:52 UTC (permalink / raw)
To: test-report
Test-Label: checkpatch
Test-Status: SUCCESS
http://dpdk.org/patch/66971
_coding style OK_
^ permalink raw reply [flat|nested] 5+ messages in thread
end of thread, other threads:[~2020-03-20 7:52 UTC | newest]
Thread overview: 5+ messages (download: mbox.gz / follow: Atom feed)
-- links below jump to the message on this page --
2020-03-20 7:52 [dpdk-test-report] |SUCCESS| pw66971 [PATCH] [v2] usertools/dpdk-setup.sh: fix dpdk-setup's behaviour on non-alphanumeric inputs dpdklab
-- strict thread matches above, loose matches on Subject: below --
2020-03-20 7:51 dpdklab
2020-03-20 7:32 dpdklab
2020-03-20 7:32 dpdklab
[not found] <20200320065002.5410-1-sarosh.arif@emumba.com>
2020-03-20 6:52 ` [dpdk-test-report] |SUCCESS| pw66971 [PATCH v2] " checkpatch
This is a public inbox, see mirroring instructions
for how to clone and mirror all data and code used for this inbox;
as well as URLs for NNTP newsgroup(s).