Test-Label: checkpatch Test-Status: SUCCESS http://dpdk.org/patch/67100 _coding style OK_
[-- Attachment #1: Type: text/plain, Size: 1911 bytes --] Test-Label: iol-intel-Performance Test-Status: SUCCESS http://dpdk.org/patch/67100 _Performance Testing PASS_ Submitter: Dekel Peled <dekelp@mellanox.com> Date: Wednesday, March 25 2020 08:12:31 DPDK git baseline: Repo:dpdk Branch: master CommitID:83bc8bb1a8ec5e57515778216351fa0cdef9599a 67100 --> performance testing pass Test environment and result as below: Ubuntu 18.04 Kernel: 4.15.0-generic Compiler: gcc 7.4 NIC: Intel Corporation Ethernet Converged Network Adapter XL710-QDA2 40000 Mbps Target: x86_64-native-linuxapp-gcc Fail/Total: 0/2 Detail performance results: +------------+---------+-------------------------------------+ | frame_size | txd/rxd | throughput difference from expected | +============+=========+=====================================+ | 64 | 512 | 0.463 | +------------+---------+-------------------------------------+ | 64 | 2048 | -0.464 | +------------+---------+-------------------------------------+ Ubuntu 18.04 Kernel: 4.15.0-generic Compiler: gcc 7.4 NIC: Intel Corporation Ethernet Converged Network Adapter 82599ES 10000 Mbps Target: x86_64-native-linuxapp-gcc Fail/Total: 0/2 Detail performance results: +------------+---------+-------------------------------------+ | frame_size | txd/rxd | throughput difference from expected | +============+=========+=====================================+ | 64 | 512 | -0.087 | +------------+---------+-------------------------------------+ | 64 | 2048 | -0.009 | +------------+---------+-------------------------------------+ To view detailed results, visit: https://lab.dpdk.org/results/dashboard/patchsets/10099/ UNH-IOL DPDK Community Lab To manage your email subscriptions, visit: https://lab.dpdk.org/results/dashboard/preferences/subscriptions/
[-- Attachment #1: Type: text/plain, Size: 1721 bytes --] Test-Label: iol-mellanox-Performance Test-Status: SUCCESS http://dpdk.org/patch/67100 _Performance Testing PASS_ Submitter: Dekel Peled <dekelp@mellanox.com> Date: Wednesday, March 25 2020 08:12:31 DPDK git baseline: Repo:dpdk Branch: master CommitID:83bc8bb1a8ec5e57515778216351fa0cdef9599a 67100 --> performance testing pass Test environment and result as below: Ubuntu 18.04 Kernel: 4.15.0-generic Compiler: gcc 7.4 NIC: Mellanox ConnectX-5 100000 Mbps Target: x86_64-native-linuxapp-gcc Fail/Total: 0/6 Detail performance results: +------------+---------+-------------------------------------+ | frame_size | txd/rxd | throughput difference from expected | +============+=========+=====================================+ | 64 | 256 | 0.238 | +------------+---------+-------------------------------------+ | 128 | 256 | 0.133 | +------------+---------+-------------------------------------+ | 256 | 256 | 0.064 | +------------+---------+-------------------------------------+ | 512 | 256 | -0.003 | +------------+---------+-------------------------------------+ | 1024 | 256 | 0.053 | +------------+---------+-------------------------------------+ | 1518 | 256 | 0.006 | +------------+---------+-------------------------------------+ To view detailed results, visit: https://lab.dpdk.org/results/dashboard/patchsets/10099/ UNH-IOL DPDK Community Lab To manage your email subscriptions, visit: https://lab.dpdk.org/results/dashboard/preferences/subscriptions/
[-- Attachment #1: Type: text/plain, Size: 2843 bytes --] Test-Label: iol-mellanox-Performance Test-Status: SUCCESS http://dpdk.org/patch/67100 _Performance Testing PASS_ Submitter: Dekel Peled <dekelp@mellanox.com> Date: Wednesday, March 25 2020 08:12:31 DPDK git baseline: Repo:dpdk Branch: master CommitID:83bc8bb1a8ec5e57515778216351fa0cdef9599a 67100 --> performance testing pass Test environment and result as below: Ubuntu 18.04 Kernel: 4.15.0-generic Compiler: gcc 7.4 NIC: Mellanox ConnectX-4 Lx 40000 Mbps Target: x86_64-native-linuxapp-gcc Fail/Total: 0/6 Detail performance results: +------------+---------+-------------------------------------+ | frame_size | txd/rxd | throughput difference from expected | +============+=========+=====================================+ | 64 | 256 | 0.544 | +------------+---------+-------------------------------------+ | 128 | 256 | -0.085 | +------------+---------+-------------------------------------+ | 256 | 256 | -0.063 | +------------+---------+-------------------------------------+ | 512 | 256 | -0.008 | +------------+---------+-------------------------------------+ | 1024 | 256 | -0.003 | +------------+---------+-------------------------------------+ | 1518 | 256 | -0.018 | +------------+---------+-------------------------------------+ Ubuntu 18.04 Kernel: 4.15.0-generic Compiler: gcc 7.4 NIC: Mellanox ConnectX-4 Lx 25000 Mbps Target: x86_64-native-linuxapp-gcc Fail/Total: 0/6 Detail performance results: +------------+---------+-------------------------------------+ | frame_size | txd/rxd | throughput difference from expected | +============+=========+=====================================+ | 64 | 256 | 0.095 | +------------+---------+-------------------------------------+ | 128 | 256 | 0.001 | +------------+---------+-------------------------------------+ | 256 | 256 | 0.043 | +------------+---------+-------------------------------------+ | 512 | 256 | 0.007 | +------------+---------+-------------------------------------+ | 1024 | 256 | -0.007 | +------------+---------+-------------------------------------+ | 1518 | 256 | -0.006 | +------------+---------+-------------------------------------+ To view detailed results, visit: https://lab.dpdk.org/results/dashboard/patchsets/10099/ UNH-IOL DPDK Community Lab To manage your email subscriptions, visit: https://lab.dpdk.org/results/dashboard/preferences/subscriptions/
[-- Attachment #1: Type: text/plain, Size: 2626 bytes --] Test-Label: iol-testing Test-Status: SUCCESS http://dpdk.org/patch/67100 _Testing PASS_ Submitter: Dekel Peled <dekelp@mellanox.com> Date: Wednesday, March 25 2020 08:12:31 DPDK git baseline: Repo:dpdk Branch: master CommitID:83bc8bb1a8ec5e57515778216351fa0cdef9599a 67100 --> testing pass Test environment and result as below: +---------------------+--------------------+-------------------+------------------+----------------+--------------+ | Environment | dpdk_meson_compile | dpdk_compile_spdk | dpdk_compile_ovs | dpdk_unit_test | dpdk_compile | +=====================+====================+===================+==================+================+==============+ | Windows Server 2019 | PASS | SKIPPED | SKIPPED | SKIPPED | SKIPPED | +---------------------+--------------------+-------------------+------------------+----------------+--------------+ | Ubuntu 18.04 | PASS | PASS | PASS | PASS | PASS | +---------------------+--------------------+-------------------+------------------+----------------+--------------+ | CentOS 8 | PASS | PASS | PASS | SKIPPED | PASS | +---------------------+--------------------+-------------------+------------------+----------------+--------------+ | openSUSE Leap 15 | PASS | PASS | PASS | SKIPPED | PASS | +---------------------+--------------------+-------------------+------------------+----------------+--------------+ | FreeBSD 11.2 | PASS | PASS | SKIPPED | SKIPPED | PASS | +---------------------+--------------------+-------------------+------------------+----------------+--------------+ | Arch Linux | PASS | SKIPPED | PASS | SKIPPED | PASS | +---------------------+--------------------+-------------------+------------------+----------------+--------------+ Windows Server 2019 Kernel: 10.0 Compiler: clang 9.0 Ubuntu 18.04 Kernel: 4.15.0-generic Compiler: gcc 7.4 CentOS 8 Kernel: 4.18.0.el8_0 Compiler: gcc 8.3.1 openSUSE Leap 15 Kernel: 4.12.14 Compiler: gcc 7.4.1 FreeBSD 11.2 Kernel: 11.2 Compiler: gcc 8.3 Arch Linux Kernel: latest Compiler: gcc latest To view detailed results, visit: https://lab.dpdk.org/results/dashboard/patchsets/10099/ UNH-IOL DPDK Community Lab To manage your email subscriptions, visit: https://lab.dpdk.org/results/dashboard/preferences/subscriptions/