[-- Attachment #1: Type: text/plain, Size: 2843 bytes --] Test-Label: iol-mellanox-Performance Test-Status: SUCCESS http://dpdk.org/patch/67101 _Performance Testing PASS_ Submitter: Kevin Laatz <kevin.laatz@intel.com> Date: Wednesday, March 25 2020 11:10:16 DPDK git baseline: Repo:dpdk Branch: master CommitID:83bc8bb1a8ec5e57515778216351fa0cdef9599a 67101 --> performance testing pass Test environment and result as below: Ubuntu 18.04 Kernel: 4.15.0-generic Compiler: gcc 7.4 NIC: Mellanox ConnectX-5 100000 Mbps Target: x86_64-native-linuxapp-gcc Fail/Total: 0/6 Detail performance results: +------------+---------+-------------------------------------+ | frame_size | txd/rxd | throughput difference from expected | +============+=========+=====================================+ | 64 | 256 | -0.114 | +------------+---------+-------------------------------------+ | 128 | 256 | -0.040 | +------------+---------+-------------------------------------+ | 256 | 256 | 0.142 | +------------+---------+-------------------------------------+ | 512 | 256 | 0.057 | +------------+---------+-------------------------------------+ | 1024 | 256 | 0.055 | +------------+---------+-------------------------------------+ | 1518 | 256 | 0.001 | +------------+---------+-------------------------------------+ Ubuntu 18.04 Kernel: 4.15.0-generic Compiler: gcc 7.4 NIC: Mellanox ConnectX-4 Lx 40000 Mbps Target: x86_64-native-linuxapp-gcc Fail/Total: 0/6 Detail performance results: +------------+---------+-------------------------------------+ | frame_size | txd/rxd | throughput difference from expected | +============+=========+=====================================+ | 64 | 256 | 0.389 | +------------+---------+-------------------------------------+ | 128 | 256 | -0.063 | +------------+---------+-------------------------------------+ | 256 | 256 | -0.031 | +------------+---------+-------------------------------------+ | 512 | 256 | -0.009 | +------------+---------+-------------------------------------+ | 1024 | 256 | -0.001 | +------------+---------+-------------------------------------+ | 1518 | 256 | -0.019 | +------------+---------+-------------------------------------+ To view detailed results, visit: https://lab.dpdk.org/results/dashboard/patchsets/10100/ UNH-IOL DPDK Community Lab To manage your email subscriptions, visit: https://lab.dpdk.org/results/dashboard/preferences/subscriptions/
[-- Attachment #1: Type: text/plain, Size: 1913 bytes --] Test-Label: iol-intel-Performance Test-Status: SUCCESS http://dpdk.org/patch/67101 _Performance Testing PASS_ Submitter: Kevin Laatz <kevin.laatz@intel.com> Date: Wednesday, March 25 2020 11:10:16 DPDK git baseline: Repo:dpdk Branch: master CommitID:83bc8bb1a8ec5e57515778216351fa0cdef9599a 67101 --> performance testing pass Test environment and result as below: Ubuntu 18.04 Kernel: 4.15.0-generic Compiler: gcc 7.4 NIC: Intel Corporation Ethernet Converged Network Adapter XL710-QDA2 40000 Mbps Target: x86_64-native-linuxapp-gcc Fail/Total: 0/2 Detail performance results: +------------+---------+-------------------------------------+ | frame_size | txd/rxd | throughput difference from expected | +============+=========+=====================================+ | 64 | 512 | 0.428 | +------------+---------+-------------------------------------+ | 64 | 2048 | -0.130 | +------------+---------+-------------------------------------+ Ubuntu 18.04 Kernel: 4.15.0-generic Compiler: gcc 7.4 NIC: Intel Corporation Ethernet Converged Network Adapter 82599ES 10000 Mbps Target: x86_64-native-linuxapp-gcc Fail/Total: 0/2 Detail performance results: +------------+---------+-------------------------------------+ | frame_size | txd/rxd | throughput difference from expected | +============+=========+=====================================+ | 64 | 512 | -0.101 | +------------+---------+-------------------------------------+ | 64 | 2048 | 0.241 | +------------+---------+-------------------------------------+ To view detailed results, visit: https://lab.dpdk.org/results/dashboard/patchsets/10100/ UNH-IOL DPDK Community Lab To manage your email subscriptions, visit: https://lab.dpdk.org/results/dashboard/preferences/subscriptions/
[-- Attachment #1: Type: text/plain, Size: 1725 bytes --] Test-Label: iol-mellanox-Performance Test-Status: SUCCESS http://dpdk.org/patch/67101 _Performance Testing PASS_ Submitter: Kevin Laatz <kevin.laatz@intel.com> Date: Wednesday, March 25 2020 11:10:16 DPDK git baseline: Repo:dpdk Branch: master CommitID:83bc8bb1a8ec5e57515778216351fa0cdef9599a 67101 --> performance testing pass Test environment and result as below: Ubuntu 18.04 Kernel: 4.15.0-generic Compiler: gcc 7.4 NIC: Mellanox ConnectX-4 Lx 25000 Mbps Target: x86_64-native-linuxapp-gcc Fail/Total: 0/6 Detail performance results: +------------+---------+-------------------------------------+ | frame_size | txd/rxd | throughput difference from expected | +============+=========+=====================================+ | 64 | 256 | -0.030 | +------------+---------+-------------------------------------+ | 128 | 256 | 0.140 | +------------+---------+-------------------------------------+ | 256 | 256 | -0.186 | +------------+---------+-------------------------------------+ | 512 | 256 | 0.033 | +------------+---------+-------------------------------------+ | 1024 | 256 | -0.006 | +------------+---------+-------------------------------------+ | 1518 | 256 | 0.006 | +------------+---------+-------------------------------------+ To view detailed results, visit: https://lab.dpdk.org/results/dashboard/patchsets/10100/ UNH-IOL DPDK Community Lab To manage your email subscriptions, visit: https://lab.dpdk.org/results/dashboard/preferences/subscriptions/
[-- Attachment #1: Type: text/plain, Size: 2628 bytes --] Test-Label: iol-testing Test-Status: SUCCESS http://dpdk.org/patch/67101 _Testing PASS_ Submitter: Kevin Laatz <kevin.laatz@intel.com> Date: Wednesday, March 25 2020 11:10:16 DPDK git baseline: Repo:dpdk Branch: master CommitID:83bc8bb1a8ec5e57515778216351fa0cdef9599a 67101 --> testing pass Test environment and result as below: +---------------------+--------------------+--------------+-------------------+------------------+----------------+ | Environment | dpdk_meson_compile | dpdk_compile | dpdk_compile_spdk | dpdk_compile_ovs | dpdk_unit_test | +=====================+====================+==============+===================+==================+================+ | Windows Server 2019 | PASS | SKIPPED | SKIPPED | SKIPPED | SKIPPED | +---------------------+--------------------+--------------+-------------------+------------------+----------------+ | Ubuntu 18.04 | PASS | PASS | PASS | PASS | PASS | +---------------------+--------------------+--------------+-------------------+------------------+----------------+ | CentOS 8 | PASS | PASS | PASS | PASS | SKIPPED | +---------------------+--------------------+--------------+-------------------+------------------+----------------+ | openSUSE Leap 15 | PASS | PASS | PASS | PASS | SKIPPED | +---------------------+--------------------+--------------+-------------------+------------------+----------------+ | FreeBSD 11.2 | PASS | PASS | PASS | SKIPPED | SKIPPED | +---------------------+--------------------+--------------+-------------------+------------------+----------------+ | Arch Linux | PASS | PASS | SKIPPED | PASS | SKIPPED | +---------------------+--------------------+--------------+-------------------+------------------+----------------+ Windows Server 2019 Kernel: 10.0 Compiler: clang 9.0 Ubuntu 18.04 Kernel: 4.15.0-generic Compiler: gcc 7.4 CentOS 8 Kernel: 4.18.0.el8_0 Compiler: gcc 8.3.1 openSUSE Leap 15 Kernel: 4.12.14 Compiler: gcc 7.4.1 FreeBSD 11.2 Kernel: 11.2 Compiler: gcc 8.3 Arch Linux Kernel: latest Compiler: gcc latest To view detailed results, visit: https://lab.dpdk.org/results/dashboard/patchsets/10100/ UNH-IOL DPDK Community Lab To manage your email subscriptions, visit: https://lab.dpdk.org/results/dashboard/preferences/subscriptions/