automatic DPDK test reports
 help / color / Atom feed
* [dpdk-test-report] |SUCCESS| pw67106 [PATCH] [v2, 1/3] librte_ethdev: add RSS offload types for ESP and AH
@ 2020-03-25 21:22 dpdklab
  0 siblings, 0 replies; 4+ messages in thread
From: dpdklab @ 2020-03-25 21:22 UTC (permalink / raw)
  To: Test Report; +Cc: dpdk-test-reports

[-- Attachment #1: Type: text/plain, Size: 1925 bytes --]

Test-Label: iol-intel-Performance
Test-Status: SUCCESS
http://dpdk.org/patch/67106

_Performance Testing PASS_

Submitter: Bernard Iremonger <bernard.iremonger@intel.com>
Date: Wednesday, March 25 2020 15:55:53 
DPDK git baseline: Repo:dpdk
  Branch: master
  CommitID:83bc8bb1a8ec5e57515778216351fa0cdef9599a

67106 --> performance testing pass

Test environment and result as below:

Ubuntu 18.04
Kernel: 4.15.0-generic
Compiler: gcc 7.4
NIC: Intel Corporation Ethernet Converged Network Adapter XL710-QDA2 40000 Mbps
Target: x86_64-native-linuxapp-gcc
Fail/Total: 0/2

Detail performance results: 
+------------+---------+-------------------------------------+
| frame_size | txd/rxd | throughput difference from expected |
+============+=========+=====================================+
| 64         | 512     | 0.517                               |
+------------+---------+-------------------------------------+
| 64         | 2048    | -0.094                              |
+------------+---------+-------------------------------------+

Ubuntu 18.04
Kernel: 4.15.0-generic
Compiler: gcc 7.4
NIC: Intel Corporation Ethernet Converged Network Adapter 82599ES 10000 Mbps
Target: x86_64-native-linuxapp-gcc
Fail/Total: 0/2

Detail performance results: 
+------------+---------+-------------------------------------+
| frame_size | txd/rxd | throughput difference from expected |
+============+=========+=====================================+
| 64         | 512     | -0.505                              |
+------------+---------+-------------------------------------+
| 64         | 2048    | 0.315                               |
+------------+---------+-------------------------------------+

To view detailed results, visit:
https://lab.dpdk.org/results/dashboard/patchsets/10102/

UNH-IOL DPDK Community Lab

To manage your email subscriptions, visit: 
https://lab.dpdk.org/results/dashboard/preferences/subscriptions/

^ permalink raw reply	[flat|nested] 4+ messages in thread

* [dpdk-test-report] |SUCCESS| pw67106 [PATCH] [v2, 1/3] librte_ethdev: add RSS offload types for ESP and AH
@ 2020-03-26  0:25 dpdklab
  0 siblings, 0 replies; 4+ messages in thread
From: dpdklab @ 2020-03-26  0:25 UTC (permalink / raw)
  To: Test Report; +Cc: dpdk-test-reports

[-- Attachment #1: Type: text/plain, Size: 2640 bytes --]

Test-Label: iol-testing
Test-Status: SUCCESS
http://dpdk.org/patch/67106

_Testing PASS_

Submitter: Bernard Iremonger <bernard.iremonger@intel.com>
Date: Wednesday, March 25 2020 15:55:53 
DPDK git baseline: Repo:dpdk
  Branch: master
  CommitID:83bc8bb1a8ec5e57515778216351fa0cdef9599a

67106 --> testing pass

Test environment and result as below:

+---------------------+--------------------+-------------------+------------------+--------------+----------------+
|     Environment     | dpdk_meson_compile | dpdk_compile_spdk | dpdk_compile_ovs | dpdk_compile | dpdk_unit_test |
+=====================+====================+===================+==================+==============+================+
| Windows Server 2019 | PASS               | SKIPPED           | SKIPPED          | SKIPPED      | SKIPPED        |
+---------------------+--------------------+-------------------+------------------+--------------+----------------+
| CentOS 8            | PASS               | PASS              | PASS             | PASS         | SKIPPED        |
+---------------------+--------------------+-------------------+------------------+--------------+----------------+
| Ubuntu 18.04        | PASS               | PASS              | PASS             | PASS         | PASS           |
+---------------------+--------------------+-------------------+------------------+--------------+----------------+
| openSUSE Leap 15    | PASS               | PASS              | PASS             | PASS         | SKIPPED        |
+---------------------+--------------------+-------------------+------------------+--------------+----------------+
| FreeBSD 11.2        | PASS               | PASS              | SKIPPED          | PASS         | SKIPPED        |
+---------------------+--------------------+-------------------+------------------+--------------+----------------+
| Arch Linux          | PASS               | SKIPPED           | PASS             | PASS         | SKIPPED        |
+---------------------+--------------------+-------------------+------------------+--------------+----------------+

Windows Server 2019
	Kernel: 10.0
	Compiler: clang 9.0

CentOS 8
	Kernel: 4.18.0.el8_0
	Compiler: gcc 8.3.1

Ubuntu 18.04
	Kernel: 4.15.0-generic
	Compiler: gcc 7.4

openSUSE Leap 15
	Kernel: 4.12.14
	Compiler: gcc 7.4.1

FreeBSD 11.2
	Kernel: 11.2
	Compiler: gcc 8.3

Arch Linux
	Kernel: latest
	Compiler: gcc latest

To view detailed results, visit:
https://lab.dpdk.org/results/dashboard/patchsets/10102/

UNH-IOL DPDK Community Lab

To manage your email subscriptions, visit: 
https://lab.dpdk.org/results/dashboard/preferences/subscriptions/

^ permalink raw reply	[flat|nested] 4+ messages in thread

* [dpdk-test-report] |SUCCESS| pw67106 [PATCH] [v2, 1/3] librte_ethdev: add RSS offload types for ESP and AH
@ 2020-03-25 22:18 dpdklab
  0 siblings, 0 replies; 4+ messages in thread
From: dpdklab @ 2020-03-25 22:18 UTC (permalink / raw)
  To: Ali Alnubani, Test Report; +Cc: dpdk-test-reports

[-- Attachment #1: Type: text/plain, Size: 3975 bytes --]

Test-Label: iol-mellanox-Performance
Test-Status: SUCCESS
http://dpdk.org/patch/67106

_Performance Testing PASS_

Submitter: Bernard Iremonger <bernard.iremonger@intel.com>
Date: Wednesday, March 25 2020 15:55:53 
DPDK git baseline: Repo:dpdk
  Branch: master
  CommitID:83bc8bb1a8ec5e57515778216351fa0cdef9599a

67106 --> performance testing pass

Test environment and result as below:

Ubuntu 18.04
Kernel: 4.15.0-generic
Compiler: gcc 7.4
NIC: Mellanox ConnectX-4 Lx 40000 Mbps
Target: x86_64-native-linuxapp-gcc
Fail/Total: 0/6

Detail performance results: 
+------------+---------+-------------------------------------+
| frame_size | txd/rxd | throughput difference from expected |
+============+=========+=====================================+
| 64         | 256     | 0.190                               |
+------------+---------+-------------------------------------+
| 128        | 256     | -0.115                              |
+------------+---------+-------------------------------------+
| 256        | 256     | -0.043                              |
+------------+---------+-------------------------------------+
| 512        | 256     | -0.006                              |
+------------+---------+-------------------------------------+
| 1024       | 256     | -0.001                              |
+------------+---------+-------------------------------------+
| 1518       | 256     | -0.014                              |
+------------+---------+-------------------------------------+

Ubuntu 18.04
Kernel: 4.15.0-generic
Compiler: gcc 7.4
NIC: Mellanox ConnectX-4 Lx 25000 Mbps
Target: x86_64-native-linuxapp-gcc
Fail/Total: 0/6

Detail performance results: 
+------------+---------+-------------------------------------+
| frame_size | txd/rxd | throughput difference from expected |
+============+=========+=====================================+
| 64         | 256     | 0.011                               |
+------------+---------+-------------------------------------+
| 128        | 256     | 0.136                               |
+------------+---------+-------------------------------------+
| 256        | 256     | -0.301                              |
+------------+---------+-------------------------------------+
| 512        | 256     | 0.003                               |
+------------+---------+-------------------------------------+
| 1024       | 256     | 0.004                               |
+------------+---------+-------------------------------------+
| 1518       | 256     | 0                                   |
+------------+---------+-------------------------------------+

Ubuntu 18.04
Kernel: 4.15.0-generic
Compiler: gcc 7.4
NIC: Mellanox ConnectX-5 100000 Mbps
Target: x86_64-native-linuxapp-gcc
Fail/Total: 0/6

Detail performance results: 
+------------+---------+-------------------------------------+
| frame_size | txd/rxd | throughput difference from expected |
+============+=========+=====================================+
| 64         | 256     | -0.392                              |
+------------+---------+-------------------------------------+
| 128        | 256     | 0.180                               |
+------------+---------+-------------------------------------+
| 256        | 256     | 0.112                               |
+------------+---------+-------------------------------------+
| 512        | 256     | -0.004                              |
+------------+---------+-------------------------------------+
| 1024       | 256     | 0.031                               |
+------------+---------+-------------------------------------+
| 1518       | 256     | 0.024                               |
+------------+---------+-------------------------------------+

To view detailed results, visit:
https://lab.dpdk.org/results/dashboard/patchsets/10102/

UNH-IOL DPDK Community Lab

To manage your email subscriptions, visit: 
https://lab.dpdk.org/results/dashboard/preferences/subscriptions/

^ permalink raw reply	[flat|nested] 4+ messages in thread

* [dpdk-test-report] |SUCCESS| pw67106 [PATCH v2 1/3] librte_ethdev: add RSS offload types for ESP and AH
       [not found] <1585151755-15837-2-git-send-email-bernard.iremonger@intel.com>
@ 2020-03-25 15:56 ` " checkpatch
  0 siblings, 0 replies; 4+ messages in thread
From: checkpatch @ 2020-03-25 15:56 UTC (permalink / raw)
  To: test-report

Test-Label: checkpatch
Test-Status: SUCCESS
http://dpdk.org/patch/67106

_coding style OK_



^ permalink raw reply	[flat|nested] 4+ messages in thread

end of thread, back to index

Thread overview: 4+ messages (download: mbox.gz / follow: Atom feed)
-- links below jump to the message on this page --
2020-03-25 21:22 [dpdk-test-report] |SUCCESS| pw67106 [PATCH] [v2, 1/3] librte_ethdev: add RSS offload types for ESP and AH dpdklab
  -- strict thread matches above, loose matches on Subject: below --
2020-03-26  0:25 dpdklab
2020-03-25 22:18 dpdklab
     [not found] <1585151755-15837-2-git-send-email-bernard.iremonger@intel.com>
2020-03-25 15:56 ` [dpdk-test-report] |SUCCESS| pw67106 [PATCH v2 " checkpatch

automatic DPDK test reports

Archives are clonable:
	git clone --mirror http://inbox.dpdk.org/test-report/0 test-report/git/0.git

	# If you have public-inbox 1.1+ installed, you may
	# initialize and index your mirror using the following commands:
	public-inbox-init -V2 test-report test-report/ http://inbox.dpdk.org/test-report \
		test-report@dpdk.org
	public-inbox-index test-report


Newsgroup available over NNTP:
	nntp://inbox.dpdk.org/inbox.dpdk.test-report


AGPL code for this site: git clone https://public-inbox.org/ public-inbox