Test-Label: checkpatch Test-Status: SUCCESS http://dpdk.org/patch/67186 _coding style OK_
[-- Attachment #1: Type: text/plain, Size: 1723 bytes --] Test-Label: iol-mellanox-Performance Test-Status: SUCCESS http://dpdk.org/patch/67186 _Performance Testing PASS_ Submitter: Junyu Jiang <junyux.jiang@intel.com> Date: Thursday, March 26 2020 06:57:25 DPDK git baseline: Repo:dpdk Branch: master CommitID:bcf789da7335b80e792ba926b5a95a12fa2e1e9a 67186 --> performance testing pass Test environment and result as below: Ubuntu 18.04 Kernel: 4.15.0-generic Compiler: gcc 7.4 NIC: Mellanox ConnectX-5 100000 Mbps Target: x86_64-native-linuxapp-gcc Fail/Total: 0/6 Detail performance results: +------------+---------+-------------------------------------+ | frame_size | txd/rxd | throughput difference from expected | +============+=========+=====================================+ | 64 | 256 | -0.154 | +------------+---------+-------------------------------------+ | 128 | 256 | 0.209 | +------------+---------+-------------------------------------+ | 256 | 256 | -0.022 | +------------+---------+-------------------------------------+ | 512 | 256 | 0.046 | +------------+---------+-------------------------------------+ | 1024 | 256 | -0.031 | +------------+---------+-------------------------------------+ | 1518 | 256 | 0.018 | +------------+---------+-------------------------------------+ To view detailed results, visit: https://lab.dpdk.org/results/dashboard/patchsets/10119/ UNH-IOL DPDK Community Lab To manage your email subscriptions, visit: https://lab.dpdk.org/results/dashboard/preferences/subscriptions/
[-- Attachment #1: Type: text/plain, Size: 1913 bytes --] Test-Label: iol-intel-Performance Test-Status: SUCCESS http://dpdk.org/patch/67186 _Performance Testing PASS_ Submitter: Junyu Jiang <junyux.jiang@intel.com> Date: Thursday, March 26 2020 06:57:25 DPDK git baseline: Repo:dpdk Branch: master CommitID:bcf789da7335b80e792ba926b5a95a12fa2e1e9a 67186 --> performance testing pass Test environment and result as below: Ubuntu 18.04 Kernel: 4.15.0-generic Compiler: gcc 7.4 NIC: Intel Corporation Ethernet Converged Network Adapter XL710-QDA2 40000 Mbps Target: x86_64-native-linuxapp-gcc Fail/Total: 0/2 Detail performance results: +------------+---------+-------------------------------------+ | frame_size | txd/rxd | throughput difference from expected | +============+=========+=====================================+ | 64 | 512 | 0.090 | +------------+---------+-------------------------------------+ | 64 | 2048 | 0.162 | +------------+---------+-------------------------------------+ Ubuntu 18.04 Kernel: 4.15.0-generic Compiler: gcc 7.4 NIC: Intel Corporation Ethernet Converged Network Adapter 82599ES 10000 Mbps Target: x86_64-native-linuxapp-gcc Fail/Total: 0/2 Detail performance results: +------------+---------+-------------------------------------+ | frame_size | txd/rxd | throughput difference from expected | +============+=========+=====================================+ | 64 | 512 | -0.127 | +------------+---------+-------------------------------------+ | 64 | 2048 | 0.225 | +------------+---------+-------------------------------------+ To view detailed results, visit: https://lab.dpdk.org/results/dashboard/patchsets/10119/ UNH-IOL DPDK Community Lab To manage your email subscriptions, visit: https://lab.dpdk.org/results/dashboard/preferences/subscriptions/
From: robot@bytheb.org Test-Label: travis-robot Test-Status: http://dpdk.org/patch/67186 _Travis build: errored_ Build URL: https://travis-ci.com/ovsrobot/dpdk/builds/155369190
[-- Attachment #1: Type: text/plain, Size: 2845 bytes --] Test-Label: iol-mellanox-Performance Test-Status: SUCCESS http://dpdk.org/patch/67186 _Performance Testing PASS_ Submitter: Junyu Jiang <junyux.jiang@intel.com> Date: Thursday, March 26 2020 06:57:25 DPDK git baseline: Repo:dpdk Branch: master CommitID:bcf789da7335b80e792ba926b5a95a12fa2e1e9a 67186 --> performance testing pass Test environment and result as below: Ubuntu 18.04 Kernel: 4.15.0-generic Compiler: gcc 7.4 NIC: Mellanox ConnectX-4 Lx 25000 Mbps Target: x86_64-native-linuxapp-gcc Fail/Total: 0/6 Detail performance results: +------------+---------+-------------------------------------+ | frame_size | txd/rxd | throughput difference from expected | +============+=========+=====================================+ | 64 | 256 | -0.077 | +------------+---------+-------------------------------------+ | 128 | 256 | 0.062 | +------------+---------+-------------------------------------+ | 256 | 256 | 0.103 | +------------+---------+-------------------------------------+ | 512 | 256 | 0.031 | +------------+---------+-------------------------------------+ | 1024 | 256 | 0.004 | +------------+---------+-------------------------------------+ | 1518 | 256 | 0 | +------------+---------+-------------------------------------+ Ubuntu 18.04 Kernel: 4.15.0-generic Compiler: gcc 7.4 NIC: Mellanox ConnectX-4 Lx 40000 Mbps Target: x86_64-native-linuxapp-gcc Fail/Total: 0/6 Detail performance results: +------------+---------+-------------------------------------+ | frame_size | txd/rxd | throughput difference from expected | +============+=========+=====================================+ | 64 | 256 | 0.131 | +------------+---------+-------------------------------------+ | 128 | 256 | -0.746 | +------------+---------+-------------------------------------+ | 256 | 256 | 0.033 | +------------+---------+-------------------------------------+ | 512 | 256 | 0.001 | +------------+---------+-------------------------------------+ | 1024 | 256 | -0.001 | +------------+---------+-------------------------------------+ | 1518 | 256 | -0.010 | +------------+---------+-------------------------------------+ To view detailed results, visit: https://lab.dpdk.org/results/dashboard/patchsets/10119/ UNH-IOL DPDK Community Lab To manage your email subscriptions, visit: https://lab.dpdk.org/results/dashboard/preferences/subscriptions/
[-- Attachment #1: Type: text/plain, Size: 2628 bytes --] Test-Label: iol-testing Test-Status: SUCCESS http://dpdk.org/patch/67186 _Testing PASS_ Submitter: Junyu Jiang <junyux.jiang@intel.com> Date: Thursday, March 26 2020 06:57:25 DPDK git baseline: Repo:dpdk Branch: master CommitID:bcf789da7335b80e792ba926b5a95a12fa2e1e9a 67186 --> testing pass Test environment and result as below: +---------------------+--------------------+-------------------+------------------+--------------+----------------+ | Environment | dpdk_meson_compile | dpdk_compile_spdk | dpdk_compile_ovs | dpdk_compile | dpdk_unit_test | +=====================+====================+===================+==================+==============+================+ | Windows Server 2019 | PASS | SKIPPED | SKIPPED | SKIPPED | SKIPPED | +---------------------+--------------------+-------------------+------------------+--------------+----------------+ | CentOS 8 | PASS | PASS | PASS | PASS | SKIPPED | +---------------------+--------------------+-------------------+------------------+--------------+----------------+ | Ubuntu 18.04 | PASS | PASS | PASS | PASS | PASS | +---------------------+--------------------+-------------------+------------------+--------------+----------------+ | openSUSE Leap 15 | PASS | PASS | PASS | PASS | SKIPPED | +---------------------+--------------------+-------------------+------------------+--------------+----------------+ | FreeBSD 11.2 | PASS | PASS | SKIPPED | PASS | SKIPPED | +---------------------+--------------------+-------------------+------------------+--------------+----------------+ | Arch Linux | PASS | SKIPPED | PASS | PASS | SKIPPED | +---------------------+--------------------+-------------------+------------------+--------------+----------------+ Windows Server 2019 Kernel: 10.0 Compiler: clang 9.0 CentOS 8 Kernel: 4.18.0.el8_0 Compiler: gcc 8.3.1 Ubuntu 18.04 Kernel: 4.15.0-generic Compiler: gcc 7.4 openSUSE Leap 15 Kernel: 4.12.14 Compiler: gcc 7.4.1 FreeBSD 11.2 Kernel: 11.2 Compiler: gcc 8.3 Arch Linux Kernel: latest Compiler: gcc latest To view detailed results, visit: https://lab.dpdk.org/results/dashboard/patchsets/10119/ UNH-IOL DPDK Community Lab To manage your email subscriptions, visit: https://lab.dpdk.org/results/dashboard/preferences/subscriptions/