* [dpdk-test-report] |SUCCESS| pw67178 [PATCH] [v3] mempool/octeontx2: add devargs to lock ctx in cache
@ 2020-03-26 7:21 dpdklab
0 siblings, 0 replies; 4+ messages in thread
From: dpdklab @ 2020-03-26 7:21 UTC (permalink / raw)
To: Ali Alnubani, Test Report; +Cc: dpdk-test-reports
[-- Attachment #1: Type: text/plain, Size: 1743 bytes --]
Test-Label: iol-mellanox-Performance
Test-Status: SUCCESS
http://dpdk.org/patch/67178
_Performance Testing PASS_
Submitter: Pavan Nikhilesh Bhagavatula <pbhagavatula@marvell.com>
Date: Thursday, March 26 2020 06:34:19
DPDK git baseline: Repo:dpdk
Branch: master
CommitID:bcf789da7335b80e792ba926b5a95a12fa2e1e9a
67178 --> performance testing pass
Test environment and result as below:
Ubuntu 18.04
Kernel: 4.15.0-generic
Compiler: gcc 7.4
NIC: Mellanox ConnectX-4 Lx 40000 Mbps
Target: x86_64-native-linuxapp-gcc
Fail/Total: 0/6
Detail performance results:
+------------+---------+-------------------------------------+
| frame_size | txd/rxd | throughput difference from expected |
+============+=========+=====================================+
| 64 | 256 | 0.053 |
+------------+---------+-------------------------------------+
| 128 | 256 | -0.943 |
+------------+---------+-------------------------------------+
| 256 | 256 | -0.045 |
+------------+---------+-------------------------------------+
| 512 | 256 | 0.001 |
+------------+---------+-------------------------------------+
| 1024 | 256 | 0 |
+------------+---------+-------------------------------------+
| 1518 | 256 | -0.009 |
+------------+---------+-------------------------------------+
To view detailed results, visit:
https://lab.dpdk.org/results/dashboard/patchsets/10115/
UNH-IOL DPDK Community Lab
To manage your email subscriptions, visit:
https://lab.dpdk.org/results/dashboard/preferences/subscriptions/
^ permalink raw reply [flat|nested] 4+ messages in thread
* [dpdk-test-report] |SUCCESS| pw67178 [PATCH] [v3] mempool/octeontx2: add devargs to lock ctx in cache
@ 2020-03-26 7:46 dpdklab
0 siblings, 0 replies; 4+ messages in thread
From: dpdklab @ 2020-03-26 7:46 UTC (permalink / raw)
To: Test Report; +Cc: dpdk-test-reports
[-- Attachment #1: Type: text/plain, Size: 2646 bytes --]
Test-Label: iol-testing
Test-Status: SUCCESS
http://dpdk.org/patch/67178
_Testing PASS_
Submitter: Pavan Nikhilesh Bhagavatula <pbhagavatula@marvell.com>
Date: Thursday, March 26 2020 06:34:19
DPDK git baseline: Repo:dpdk
Branch: master
CommitID:bcf789da7335b80e792ba926b5a95a12fa2e1e9a
67178 --> testing pass
Test environment and result as below:
+---------------------+--------------------+-------------------+------------------+--------------+----------------+
| Environment | dpdk_meson_compile | dpdk_compile_spdk | dpdk_compile_ovs | dpdk_compile | dpdk_unit_test |
+=====================+====================+===================+==================+==============+================+
| Windows Server 2019 | PASS | SKIPPED | SKIPPED | SKIPPED | SKIPPED |
+---------------------+--------------------+-------------------+------------------+--------------+----------------+
| CentOS 8 | PASS | PASS | PASS | PASS | SKIPPED |
+---------------------+--------------------+-------------------+------------------+--------------+----------------+
| Ubuntu 18.04 | PASS | PASS | PASS | PASS | PASS |
+---------------------+--------------------+-------------------+------------------+--------------+----------------+
| openSUSE Leap 15 | PASS | PASS | PASS | PASS | SKIPPED |
+---------------------+--------------------+-------------------+------------------+--------------+----------------+
| FreeBSD 11.2 | PASS | PASS | SKIPPED | PASS | SKIPPED |
+---------------------+--------------------+-------------------+------------------+--------------+----------------+
| Arch Linux | SKIPPED | SKIPPED | PASS | PASS | SKIPPED |
+---------------------+--------------------+-------------------+------------------+--------------+----------------+
Windows Server 2019
Kernel: 10.0
Compiler: clang 9.0
CentOS 8
Kernel: 4.18.0.el8_0
Compiler: gcc 8.3.1
Ubuntu 18.04
Kernel: 4.15.0-generic
Compiler: gcc 7.4
openSUSE Leap 15
Kernel: 4.12.14
Compiler: gcc 7.4.1
FreeBSD 11.2
Kernel: 11.2
Compiler: gcc 8.3
Arch Linux
Kernel: latest
Compiler: gcc latest
To view detailed results, visit:
https://lab.dpdk.org/results/dashboard/patchsets/10115/
UNH-IOL DPDK Community Lab
To manage your email subscriptions, visit:
https://lab.dpdk.org/results/dashboard/preferences/subscriptions/
^ permalink raw reply [flat|nested] 4+ messages in thread
* [dpdk-test-report] |SUCCESS| pw67178 [PATCH] [v3] mempool/octeontx2: add devargs to lock ctx in cache
@ 2020-03-26 7:10 dpdklab
0 siblings, 0 replies; 4+ messages in thread
From: dpdklab @ 2020-03-26 7:10 UTC (permalink / raw)
To: Test Report; +Cc: dpdk-test-reports
[-- Attachment #1: Type: text/plain, Size: 1931 bytes --]
Test-Label: iol-intel-Performance
Test-Status: SUCCESS
http://dpdk.org/patch/67178
_Performance Testing PASS_
Submitter: Pavan Nikhilesh Bhagavatula <pbhagavatula@marvell.com>
Date: Thursday, March 26 2020 06:34:19
DPDK git baseline: Repo:dpdk
Branch: master
CommitID:bcf789da7335b80e792ba926b5a95a12fa2e1e9a
67178 --> performance testing pass
Test environment and result as below:
Ubuntu 18.04
Kernel: 4.15.0-generic
Compiler: gcc 7.4
NIC: Intel Corporation Ethernet Converged Network Adapter XL710-QDA2 40000 Mbps
Target: x86_64-native-linuxapp-gcc
Fail/Total: 0/2
Detail performance results:
+------------+---------+-------------------------------------+
| frame_size | txd/rxd | throughput difference from expected |
+============+=========+=====================================+
| 64 | 512 | 0.200 |
+------------+---------+-------------------------------------+
| 64 | 2048 | -0.158 |
+------------+---------+-------------------------------------+
Ubuntu 18.04
Kernel: 4.15.0-generic
Compiler: gcc 7.4
NIC: Intel Corporation Ethernet Converged Network Adapter 82599ES 10000 Mbps
Target: x86_64-native-linuxapp-gcc
Fail/Total: 0/2
Detail performance results:
+------------+---------+-------------------------------------+
| frame_size | txd/rxd | throughput difference from expected |
+============+=========+=====================================+
| 64 | 512 | -0.703 |
+------------+---------+-------------------------------------+
| 64 | 2048 | 0.330 |
+------------+---------+-------------------------------------+
To view detailed results, visit:
https://lab.dpdk.org/results/dashboard/patchsets/10115/
UNH-IOL DPDK Community Lab
To manage your email subscriptions, visit:
https://lab.dpdk.org/results/dashboard/preferences/subscriptions/
^ permalink raw reply [flat|nested] 4+ messages in thread
* [dpdk-test-report] |SUCCESS| pw67178 [PATCH] [v3] mempool/octeontx2: add devargs to lock ctx in cache
@ 2020-03-26 7:10 dpdklab
0 siblings, 0 replies; 4+ messages in thread
From: dpdklab @ 2020-03-26 7:10 UTC (permalink / raw)
To: Ali Alnubani, Test Report; +Cc: dpdk-test-reports
[-- Attachment #1: Type: text/plain, Size: 2861 bytes --]
Test-Label: iol-mellanox-Performance
Test-Status: SUCCESS
http://dpdk.org/patch/67178
_Performance Testing PASS_
Submitter: Pavan Nikhilesh Bhagavatula <pbhagavatula@marvell.com>
Date: Thursday, March 26 2020 06:34:19
DPDK git baseline: Repo:dpdk
Branch: master
CommitID:bcf789da7335b80e792ba926b5a95a12fa2e1e9a
67178 --> performance testing pass
Test environment and result as below:
Ubuntu 18.04
Kernel: 4.15.0-generic
Compiler: gcc 7.4
NIC: Mellanox ConnectX-4 Lx 25000 Mbps
Target: x86_64-native-linuxapp-gcc
Fail/Total: 0/6
Detail performance results:
+------------+---------+-------------------------------------+
| frame_size | txd/rxd | throughput difference from expected |
+============+=========+=====================================+
| 64 | 256 | 0.121 |
+------------+---------+-------------------------------------+
| 128 | 256 | 0.073 |
+------------+---------+-------------------------------------+
| 256 | 256 | 0.123 |
+------------+---------+-------------------------------------+
| 512 | 256 | 0.001 |
+------------+---------+-------------------------------------+
| 1024 | 256 | -0.002 |
+------------+---------+-------------------------------------+
| 1518 | 256 | 0.002 |
+------------+---------+-------------------------------------+
Ubuntu 18.04
Kernel: 4.15.0-generic
Compiler: gcc 7.4
NIC: Mellanox ConnectX-5 100000 Mbps
Target: x86_64-native-linuxapp-gcc
Fail/Total: 0/6
Detail performance results:
+------------+---------+-------------------------------------+
| frame_size | txd/rxd | throughput difference from expected |
+============+=========+=====================================+
| 64 | 256 | -0.001 |
+------------+---------+-------------------------------------+
| 128 | 256 | -0.010 |
+------------+---------+-------------------------------------+
| 256 | 256 | 0.065 |
+------------+---------+-------------------------------------+
| 512 | 256 | -0.088 |
+------------+---------+-------------------------------------+
| 1024 | 256 | 0.006 |
+------------+---------+-------------------------------------+
| 1518 | 256 | -0.020 |
+------------+---------+-------------------------------------+
To view detailed results, visit:
https://lab.dpdk.org/results/dashboard/patchsets/10115/
UNH-IOL DPDK Community Lab
To manage your email subscriptions, visit:
https://lab.dpdk.org/results/dashboard/preferences/subscriptions/
^ permalink raw reply [flat|nested] 4+ messages in thread
end of thread, other threads:[~2020-03-26 7:46 UTC | newest]
Thread overview: 4+ messages (download: mbox.gz / follow: Atom feed)
-- links below jump to the message on this page --
2020-03-26 7:21 [dpdk-test-report] |SUCCESS| pw67178 [PATCH] [v3] mempool/octeontx2: add devargs to lock ctx in cache dpdklab
-- strict thread matches above, loose matches on Subject: below --
2020-03-26 7:46 dpdklab
2020-03-26 7:10 dpdklab
2020-03-26 7:10 dpdklab
This is a public inbox, see mirroring instructions
for how to clone and mirror all data and code used for this inbox;
as well as URLs for NNTP newsgroup(s).