automatic DPDK test reports
 help / color / Atom feed
* [dpdk-test-report] |SUCCESS| pw67182-67185 [PATCH] [1/4] net/hns3: fix RSS indirection table configuration
@ 2020-03-26  8:34 dpdklab
  0 siblings, 0 replies; 3+ messages in thread
From: dpdklab @ 2020-03-26  8:34 UTC (permalink / raw)
  To: Ali Alnubani, Test Report; +Cc: dpdk-test-reports

[-- Attachment #1: Type: text/plain, Size: 2856 bytes --]

Test-Label: iol-mellanox-Performance
Test-Status: SUCCESS
http://dpdk.org/patch/67182

_Performance Testing PASS_

Submitter: Wei Hu (Xavier) <huwei013@chinasoftinc.com>
Date: Thursday, March 26 2020 07:14:30 
DPDK git baseline: Repo:dpdk
  Branch: master
  CommitID:bcf789da7335b80e792ba926b5a95a12fa2e1e9a

67182-67185 --> performance testing pass

Test environment and result as below:

Ubuntu 18.04
Kernel: 4.15.0-generic
Compiler: gcc 7.4
NIC: Mellanox ConnectX-5 100000 Mbps
Target: x86_64-native-linuxapp-gcc
Fail/Total: 0/6

Detail performance results: 
+------------+---------+-------------------------------------+
| frame_size | txd/rxd | throughput difference from expected |
+============+=========+=====================================+
| 64         | 256     | -0.105                              |
+------------+---------+-------------------------------------+
| 128        | 256     | 0.169                               |
+------------+---------+-------------------------------------+
| 256        | 256     | -0.033                              |
+------------+---------+-------------------------------------+
| 512        | 256     | 0.039                               |
+------------+---------+-------------------------------------+
| 1024       | 256     | 0.019                               |
+------------+---------+-------------------------------------+
| 1518       | 256     | -0.014                              |
+------------+---------+-------------------------------------+

Ubuntu 18.04
Kernel: 4.15.0-generic
Compiler: gcc 7.4
NIC: Mellanox ConnectX-4 Lx 40000 Mbps
Target: x86_64-native-linuxapp-gcc
Fail/Total: 0/6

Detail performance results: 
+------------+---------+-------------------------------------+
| frame_size | txd/rxd | throughput difference from expected |
+============+=========+=====================================+
| 64         | 256     | 0.332                               |
+------------+---------+-------------------------------------+
| 128        | 256     | -0.841                              |
+------------+---------+-------------------------------------+
| 256        | 256     | -0.040                              |
+------------+---------+-------------------------------------+
| 512        | 256     | -0.001                              |
+------------+---------+-------------------------------------+
| 1024       | 256     | 0.005                               |
+------------+---------+-------------------------------------+
| 1518       | 256     | -0.006                              |
+------------+---------+-------------------------------------+

To view detailed results, visit:
https://lab.dpdk.org/results/dashboard/patchsets/10118/

UNH-IOL DPDK Community Lab

To manage your email subscriptions, visit: 
https://lab.dpdk.org/results/dashboard/preferences/subscriptions/

^ permalink raw reply	[flat|nested] 3+ messages in thread

* [dpdk-test-report] |SUCCESS| pw67182-67185 [PATCH] [1/4] net/hns3: fix RSS indirection table configuration
@ 2020-03-26  9:50 dpdklab
  0 siblings, 0 replies; 3+ messages in thread
From: dpdklab @ 2020-03-26  9:50 UTC (permalink / raw)
  To: Test Report; +Cc: dpdk-test-reports

[-- Attachment #1: Type: text/plain, Size: 2641 bytes --]

Test-Label: iol-testing
Test-Status: SUCCESS
http://dpdk.org/patch/67182

_Testing PASS_

Submitter: Wei Hu (Xavier) <huwei013@chinasoftinc.com>
Date: Thursday, March 26 2020 07:14:30 
DPDK git baseline: Repo:dpdk
  Branch: master
  CommitID:bcf789da7335b80e792ba926b5a95a12fa2e1e9a

67182-67185 --> testing pass

Test environment and result as below:

+---------------------+--------------------+-------------------+----------------+--------------+------------------+
|     Environment     | dpdk_meson_compile | dpdk_compile_spdk | dpdk_unit_test | dpdk_compile | dpdk_compile_ovs |
+=====================+====================+===================+================+==============+==================+
| Windows Server 2019 | PASS               | SKIPPED           | SKIPPED        | SKIPPED      | SKIPPED          |
+---------------------+--------------------+-------------------+----------------+--------------+------------------+
| Ubuntu 18.04        | PASS               | PASS              | PASS           | PASS         | PASS             |
+---------------------+--------------------+-------------------+----------------+--------------+------------------+
| CentOS 8            | PASS               | PASS              | SKIPPED        | PASS         | PASS             |
+---------------------+--------------------+-------------------+----------------+--------------+------------------+
| FreeBSD 11.2        | PASS               | PASS              | SKIPPED        | PASS         | SKIPPED          |
+---------------------+--------------------+-------------------+----------------+--------------+------------------+
| openSUSE Leap 15    | PASS               | PASS              | SKIPPED        | PASS         | PASS             |
+---------------------+--------------------+-------------------+----------------+--------------+------------------+
| Arch Linux          | PASS               | SKIPPED           | SKIPPED        | PASS         | PASS             |
+---------------------+--------------------+-------------------+----------------+--------------+------------------+

Windows Server 2019
	Kernel: 10.0
	Compiler: clang 9.0

Ubuntu 18.04
	Kernel: 4.15.0-generic
	Compiler: gcc 7.4

CentOS 8
	Kernel: 4.18.0.el8_0
	Compiler: gcc 8.3.1

FreeBSD 11.2
	Kernel: 11.2
	Compiler: gcc 8.3

openSUSE Leap 15
	Kernel: 4.12.14
	Compiler: gcc 7.4.1

Arch Linux
	Kernel: latest
	Compiler: gcc latest

To view detailed results, visit:
https://lab.dpdk.org/results/dashboard/patchsets/10118/

UNH-IOL DPDK Community Lab

To manage your email subscriptions, visit: 
https://lab.dpdk.org/results/dashboard/preferences/subscriptions/

^ permalink raw reply	[flat|nested] 3+ messages in thread

* [dpdk-test-report] |SUCCESS| pw67182-67185 [PATCH] [1/4] net/hns3: fix RSS indirection table configuration
@ 2020-03-26  8:46 dpdklab
  0 siblings, 0 replies; 3+ messages in thread
From: dpdklab @ 2020-03-26  8:46 UTC (permalink / raw)
  To: Ali Alnubani, Test Report; +Cc: dpdk-test-reports

[-- Attachment #1: Type: text/plain, Size: 1738 bytes --]

Test-Label: iol-mellanox-Performance
Test-Status: SUCCESS
http://dpdk.org/patch/67182

_Performance Testing PASS_

Submitter: Wei Hu (Xavier) <huwei013@chinasoftinc.com>
Date: Thursday, March 26 2020 07:14:30 
DPDK git baseline: Repo:dpdk
  Branch: master
  CommitID:bcf789da7335b80e792ba926b5a95a12fa2e1e9a

67182-67185 --> performance testing pass

Test environment and result as below:

Ubuntu 18.04
Kernel: 4.15.0-generic
Compiler: gcc 7.4
NIC: Mellanox ConnectX-4 Lx 25000 Mbps
Target: x86_64-native-linuxapp-gcc
Fail/Total: 0/6

Detail performance results: 
+------------+---------+-------------------------------------+
| frame_size | txd/rxd | throughput difference from expected |
+============+=========+=====================================+
| 64         | 256     | -0.027                              |
+------------+---------+-------------------------------------+
| 128        | 256     | -0.004                              |
+------------+---------+-------------------------------------+
| 256        | 256     | 0.071                               |
+------------+---------+-------------------------------------+
| 512        | 256     | 0.013                               |
+------------+---------+-------------------------------------+
| 1024       | 256     | -0.001                              |
+------------+---------+-------------------------------------+
| 1518       | 256     | 0.001                               |
+------------+---------+-------------------------------------+

To view detailed results, visit:
https://lab.dpdk.org/results/dashboard/patchsets/10118/

UNH-IOL DPDK Community Lab

To manage your email subscriptions, visit: 
https://lab.dpdk.org/results/dashboard/preferences/subscriptions/

^ permalink raw reply	[flat|nested] 3+ messages in thread

end of thread, back to index

Thread overview: 3+ messages (download: mbox.gz / follow: Atom feed)
-- links below jump to the message on this page --
2020-03-26  8:34 [dpdk-test-report] |SUCCESS| pw67182-67185 [PATCH] [1/4] net/hns3: fix RSS indirection table configuration dpdklab
2020-03-26  8:46 dpdklab
2020-03-26  9:50 dpdklab

automatic DPDK test reports

Archives are clonable:
	git clone --mirror http://inbox.dpdk.org/test-report/0 test-report/git/0.git

	# If you have public-inbox 1.1+ installed, you may
	# initialize and index your mirror using the following commands:
	public-inbox-init -V2 test-report test-report/ http://inbox.dpdk.org/test-report \
		test-report@dpdk.org
	public-inbox-index test-report


Newsgroup available over NNTP:
	nntp://inbox.dpdk.org/inbox.dpdk.test-report


AGPL code for this site: git clone https://public-inbox.org/ public-inbox