automatic DPDK test reports
 help / color / Atom feed
* [dpdk-test-report] |SUCCESS| pw67202 [PATCH v2] net/mlx5: fix zero value validation for metadata
       [not found] <20200326102200.15281-1-wisamm@mellanox.com>
@ 2020-03-26 10:24 ` checkpatch
  2020-03-26 12:05 ` [dpdk-test-report] || pw67202 " 0-day Robot
  1 sibling, 0 replies; 4+ messages in thread
From: checkpatch @ 2020-03-26 10:24 UTC (permalink / raw)
  To: test-report

Test-Label: checkpatch
Test-Status: SUCCESS
http://dpdk.org/patch/67202

_coding style OK_



^ permalink raw reply	[flat|nested] 4+ messages in thread

* [dpdk-test-report] || pw67202 net/mlx5: fix zero value validation for metadata
       [not found] <20200326102200.15281-1-wisamm@mellanox.com>
  2020-03-26 10:24 ` [dpdk-test-report] |SUCCESS| pw67202 [PATCH v2] net/mlx5: fix zero value validation for metadata checkpatch
@ 2020-03-26 12:05 ` " 0-day Robot
  1 sibling, 0 replies; 4+ messages in thread
From: 0-day Robot @ 2020-03-26 12:05 UTC (permalink / raw)
  To: test-report; +Cc: wisamm, robot

From: robot@bytheb.org

Test-Label: travis-robot
Test-Status: 
http://dpdk.org/patch/67202

_Travis build: errored_
Build URL: https://travis-ci.com/ovsrobot/dpdk/builds/155458992

^ permalink raw reply	[flat|nested] 4+ messages in thread

* [dpdk-test-report] |SUCCESS| pw67202 [PATCH] [v2] net/mlx5: fix zero value validation for metadata
@ 2020-03-26 20:35 dpdklab
  0 siblings, 0 replies; 4+ messages in thread
From: dpdklab @ 2020-03-26 20:35 UTC (permalink / raw)
  To: Test Report; +Cc: dpdk-test-reports

[-- Attachment #1: Type: text/plain, Size: 2905 bytes --]

Test-Label: iol-testing
Test-Status: SUCCESS
http://dpdk.org/patch/67202

_Testing PASS_

Submitter: Wisam Jaddo <wisamm@mellanox.com>
Date: Thursday, March 26 2020 10:22:00 
DPDK git baseline: Repo:dpdk
  Branch: master
  CommitID:bcf789da7335b80e792ba926b5a95a12fa2e1e9a

67202 --> testing pass

Test environment and result as below:

+---------------------+--------------------+-------------------+----------------+--------------+------------------+
|     Environment     | dpdk_meson_compile | dpdk_compile_spdk | dpdk_unit_test | dpdk_compile | dpdk_compile_ovs |
+=====================+====================+===================+================+==============+==================+
| Windows Server 2019 | PASS               | SKIPPED           | SKIPPED        | SKIPPED      | SKIPPED          |
+---------------------+--------------------+-------------------+----------------+--------------+------------------+
| Fedora 31           | PASS               | PASS              | SKIPPED        | PASS         | PASS             |
+---------------------+--------------------+-------------------+----------------+--------------+------------------+
| Ubuntu 18.04        | PASS               | PASS              | PASS           | PASS         | PASS             |
+---------------------+--------------------+-------------------+----------------+--------------+------------------+
| CentOS 8            | PASS               | PASS              | SKIPPED        | PASS         | PASS             |
+---------------------+--------------------+-------------------+----------------+--------------+------------------+
| openSUSE Leap 15    | PASS               | PASS              | SKIPPED        | PASS         | PASS             |
+---------------------+--------------------+-------------------+----------------+--------------+------------------+
| FreeBSD 11.2        | PASS               | PASS              | SKIPPED        | PASS         | SKIPPED          |
+---------------------+--------------------+-------------------+----------------+--------------+------------------+
| Arch Linux          | PASS               | SKIPPED           | SKIPPED        | PASS         | PASS             |
+---------------------+--------------------+-------------------+----------------+--------------+------------------+

Windows Server 2019
	Kernel: 10.0
	Compiler: clang 9.0

Fedora 31
	Kernel: 5.3.16
	Compiler: gcc 9.2.1

Ubuntu 18.04
	Kernel: 4.15.0-generic
	Compiler: gcc 7.4

CentOS 8
	Kernel: 4.18.0.el8_0
	Compiler: gcc 8.3.1

openSUSE Leap 15
	Kernel: 4.12.14
	Compiler: gcc 7.4.1

FreeBSD 11.2
	Kernel: 11.2
	Compiler: gcc 8.3

Arch Linux
	Kernel: latest
	Compiler: gcc latest

To view detailed results, visit:
https://lab.dpdk.org/results/dashboard/patchsets/10124/

UNH-IOL DPDK Community Lab

To manage your email subscriptions, visit: 
https://lab.dpdk.org/results/dashboard/preferences/subscriptions/

^ permalink raw reply	[flat|nested] 4+ messages in thread

* [dpdk-test-report] |SUCCESS| pw67202 [PATCH] [v2] net/mlx5: fix zero value validation for metadata
@ 2020-03-26 19:26 " dpdklab
  0 siblings, 0 replies; 4+ messages in thread
From: dpdklab @ 2020-03-26 19:26 UTC (permalink / raw)
  To: Test Report; +Cc: dpdk-test-reports

[-- Attachment #1: Type: text/plain, Size: 1910 bytes --]

Test-Label: iol-intel-Performance
Test-Status: SUCCESS
http://dpdk.org/patch/67202

_Performance Testing PASS_

Submitter: Wisam Jaddo <wisamm@mellanox.com>
Date: Thursday, March 26 2020 10:22:00 
DPDK git baseline: Repo:dpdk
  Branch: master
  CommitID:bcf789da7335b80e792ba926b5a95a12fa2e1e9a

67202 --> performance testing pass

Test environment and result as below:

Ubuntu 18.04
Kernel: 4.15.0-generic
Compiler: gcc 7.4
NIC: Intel Corporation Ethernet Converged Network Adapter XL710-QDA2 40000 Mbps
Target: x86_64-native-linuxapp-gcc
Fail/Total: 0/2

Detail performance results: 
+------------+---------+-------------------------------------+
| frame_size | txd/rxd | throughput difference from expected |
+============+=========+=====================================+
| 64         | 512     | -0.177                              |
+------------+---------+-------------------------------------+
| 64         | 2048    | -0.360                              |
+------------+---------+-------------------------------------+

Ubuntu 18.04
Kernel: 4.15.0-generic
Compiler: gcc 7.4
NIC: Intel Corporation Ethernet Converged Network Adapter 82599ES 10000 Mbps
Target: x86_64-native-linuxapp-gcc
Fail/Total: 0/2

Detail performance results: 
+------------+---------+-------------------------------------+
| frame_size | txd/rxd | throughput difference from expected |
+============+=========+=====================================+
| 64         | 512     | -0.478                              |
+------------+---------+-------------------------------------+
| 64         | 2048    | 0.244                               |
+------------+---------+-------------------------------------+

To view detailed results, visit:
https://lab.dpdk.org/results/dashboard/patchsets/10124/

UNH-IOL DPDK Community Lab

To manage your email subscriptions, visit: 
https://lab.dpdk.org/results/dashboard/preferences/subscriptions/

^ permalink raw reply	[flat|nested] 4+ messages in thread

end of thread, back to index

Thread overview: 4+ messages (download: mbox.gz / follow: Atom feed)
-- links below jump to the message on this page --
     [not found] <20200326102200.15281-1-wisamm@mellanox.com>
2020-03-26 10:24 ` [dpdk-test-report] |SUCCESS| pw67202 [PATCH v2] net/mlx5: fix zero value validation for metadata checkpatch
2020-03-26 12:05 ` [dpdk-test-report] || pw67202 " 0-day Robot
2020-03-26 19:26 [dpdk-test-report] |SUCCESS| pw67202 [PATCH] [v2] " dpdklab
2020-03-26 20:35 dpdklab

automatic DPDK test reports

Archives are clonable:
	git clone --mirror http://inbox.dpdk.org/test-report/0 test-report/git/0.git

	# If you have public-inbox 1.1+ installed, you may
	# initialize and index your mirror using the following commands:
	public-inbox-init -V2 test-report test-report/ http://inbox.dpdk.org/test-report \
		test-report@dpdk.org
	public-inbox-index test-report


Newsgroup available over NNTP:
	nntp://inbox.dpdk.org/inbox.dpdk.test-report


AGPL code for this site: git clone https://public-inbox.org/ public-inbox