* [dpdk-test-report] |SUCCESS| pw67203 [PATCH] [v2] examples/ipsec-secgw: support 192/256 AES key sizes
@ 2020-03-26 19:01 dpdklab
0 siblings, 0 replies; 3+ messages in thread
From: dpdklab @ 2020-03-26 19:01 UTC (permalink / raw)
To: Test Report; +Cc: dpdk-test-reports
[-- Attachment #1: Type: text/plain, Size: 1910 bytes --]
Test-Label: iol-intel-Performance
Test-Status: SUCCESS
http://dpdk.org/patch/67203
_Performance Testing PASS_
Submitter: Anoob Joseph <anoobj@marvell.com>
Date: Thursday, March 26 2020 11:22:39
DPDK git baseline: Repo:dpdk
Branch: master
CommitID:bcf789da7335b80e792ba926b5a95a12fa2e1e9a
67203 --> performance testing pass
Test environment and result as below:
Ubuntu 18.04
Kernel: 4.15.0-generic
Compiler: gcc 7.4
NIC: Intel Corporation Ethernet Converged Network Adapter XL710-QDA2 40000 Mbps
Target: x86_64-native-linuxapp-gcc
Fail/Total: 0/2
Detail performance results:
+------------+---------+-------------------------------------+
| frame_size | txd/rxd | throughput difference from expected |
+============+=========+=====================================+
| 64 | 512 | -0.218 |
+------------+---------+-------------------------------------+
| 64 | 2048 | -0.234 |
+------------+---------+-------------------------------------+
Ubuntu 18.04
Kernel: 4.15.0-generic
Compiler: gcc 7.4
NIC: Intel Corporation Ethernet Converged Network Adapter 82599ES 10000 Mbps
Target: x86_64-native-linuxapp-gcc
Fail/Total: 0/2
Detail performance results:
+------------+---------+-------------------------------------+
| frame_size | txd/rxd | throughput difference from expected |
+============+=========+=====================================+
| 64 | 512 | -0.559 |
+------------+---------+-------------------------------------+
| 64 | 2048 | 0.233 |
+------------+---------+-------------------------------------+
To view detailed results, visit:
https://lab.dpdk.org/results/dashboard/patchsets/10125/
UNH-IOL DPDK Community Lab
To manage your email subscriptions, visit:
https://lab.dpdk.org/results/dashboard/preferences/subscriptions/
^ permalink raw reply [flat|nested] 3+ messages in thread
* [dpdk-test-report] |SUCCESS| pw67203 [PATCH] [v2] examples/ipsec-secgw: support 192/256 AES key sizes
@ 2020-03-26 19:57 dpdklab
0 siblings, 0 replies; 3+ messages in thread
From: dpdklab @ 2020-03-26 19:57 UTC (permalink / raw)
To: Test Report; +Cc: dpdk-test-reports
[-- Attachment #1: Type: text/plain, Size: 2905 bytes --]
Test-Label: iol-testing
Test-Status: SUCCESS
http://dpdk.org/patch/67203
_Testing PASS_
Submitter: Anoob Joseph <anoobj@marvell.com>
Date: Thursday, March 26 2020 11:22:39
DPDK git baseline: Repo:dpdk
Branch: master
CommitID:bcf789da7335b80e792ba926b5a95a12fa2e1e9a
67203 --> testing pass
Test environment and result as below:
+---------------------+--------------------+-------------------+----------------+--------------+------------------+
| Environment | dpdk_meson_compile | dpdk_compile_spdk | dpdk_unit_test | dpdk_compile | dpdk_compile_ovs |
+=====================+====================+===================+================+==============+==================+
| Windows Server 2019 | PASS | SKIPPED | SKIPPED | SKIPPED | SKIPPED |
+---------------------+--------------------+-------------------+----------------+--------------+------------------+
| Fedora 31 | PASS | PASS | SKIPPED | PASS | PASS |
+---------------------+--------------------+-------------------+----------------+--------------+------------------+
| Ubuntu 18.04 | PASS | PASS | PASS | PASS | PASS |
+---------------------+--------------------+-------------------+----------------+--------------+------------------+
| CentOS 8 | PASS | PASS | SKIPPED | PASS | PASS |
+---------------------+--------------------+-------------------+----------------+--------------+------------------+
| openSUSE Leap 15 | PASS | PASS | SKIPPED | PASS | PASS |
+---------------------+--------------------+-------------------+----------------+--------------+------------------+
| FreeBSD 11.2 | PASS | PASS | SKIPPED | PASS | SKIPPED |
+---------------------+--------------------+-------------------+----------------+--------------+------------------+
| Arch Linux | PASS | SKIPPED | SKIPPED | PASS | PASS |
+---------------------+--------------------+-------------------+----------------+--------------+------------------+
Windows Server 2019
Kernel: 10.0
Compiler: clang 9.0
Fedora 31
Kernel: 5.3.16
Compiler: gcc 9.2.1
Ubuntu 18.04
Kernel: 4.15.0-generic
Compiler: gcc 7.4
CentOS 8
Kernel: 4.18.0.el8_0
Compiler: gcc 8.3.1
openSUSE Leap 15
Kernel: 4.12.14
Compiler: gcc 7.4.1
FreeBSD 11.2
Kernel: 11.2
Compiler: gcc 8.3
Arch Linux
Kernel: latest
Compiler: gcc latest
To view detailed results, visit:
https://lab.dpdk.org/results/dashboard/patchsets/10125/
UNH-IOL DPDK Community Lab
To manage your email subscriptions, visit:
https://lab.dpdk.org/results/dashboard/preferences/subscriptions/
^ permalink raw reply [flat|nested] 3+ messages in thread
* [dpdk-test-report] |SUCCESS| pw67203 [PATCH v2] examples/ipsec-secgw: support 192/256 AES key sizes
[not found] <1585221759-23016-1-git-send-email-anoobj@marvell.com>
@ 2020-03-26 11:24 ` checkpatch
0 siblings, 0 replies; 3+ messages in thread
From: checkpatch @ 2020-03-26 11:24 UTC (permalink / raw)
To: test-report
Test-Label: checkpatch
Test-Status: SUCCESS
http://dpdk.org/patch/67203
_coding style OK_
^ permalink raw reply [flat|nested] 3+ messages in thread
end of thread, other threads:[~2020-03-26 19:57 UTC | newest]
Thread overview: 3+ messages (download: mbox.gz / follow: Atom feed)
-- links below jump to the message on this page --
2020-03-26 19:01 [dpdk-test-report] |SUCCESS| pw67203 [PATCH] [v2] examples/ipsec-secgw: support 192/256 AES key sizes dpdklab
-- strict thread matches above, loose matches on Subject: below --
2020-03-26 19:57 dpdklab
[not found] <1585221759-23016-1-git-send-email-anoobj@marvell.com>
2020-03-26 11:24 ` [dpdk-test-report] |SUCCESS| pw67203 [PATCH v2] " checkpatch
This is a public inbox, see mirroring instructions
for how to clone and mirror all data and code used for this inbox;
as well as URLs for NNTP newsgroup(s).