[-- Attachment #1: Type: text/plain, Size: 1718 bytes --] Test-Label: iol-mellanox-Performance Test-Status: SUCCESS http://dpdk.org/patch/67240 _Performance Testing PASS_ Submitter: None <zhihongx.peng@intel.com> Date: Wednesday, March 25 2020 03:31:11 DPDK git baseline: Repo:dpdk Branch: master CommitID:bcf789da7335b80e792ba926b5a95a12fa2e1e9a 67240 --> performance testing pass Test environment and result as below: Ubuntu 18.04 Kernel: 4.15.0-generic Compiler: gcc 7.4 NIC: Mellanox ConnectX-5 100000 Mbps Target: x86_64-native-linuxapp-gcc Fail/Total: 0/6 Detail performance results: +------------+---------+-------------------------------------+ | frame_size | txd/rxd | throughput difference from expected | +============+=========+=====================================+ | 64 | 256 | -0.213 | +------------+---------+-------------------------------------+ | 128 | 256 | 0.087 | +------------+---------+-------------------------------------+ | 256 | 256 | 0.047 | +------------+---------+-------------------------------------+ | 512 | 256 | -0.023 | +------------+---------+-------------------------------------+ | 1024 | 256 | 0.040 | +------------+---------+-------------------------------------+ | 1518 | 256 | -0.018 | +------------+---------+-------------------------------------+ To view detailed results, visit: https://lab.dpdk.org/results/dashboard/patchsets/10131/ UNH-IOL DPDK Community Lab To manage your email subscriptions, visit: https://lab.dpdk.org/results/dashboard/preferences/subscriptions/
[-- Attachment #1: Type: text/plain, Size: 1908 bytes --] Test-Label: iol-intel-Performance Test-Status: SUCCESS http://dpdk.org/patch/67240 _Performance Testing PASS_ Submitter: None <zhihongx.peng@intel.com> Date: Wednesday, March 25 2020 03:31:11 DPDK git baseline: Repo:dpdk Branch: master CommitID:bcf789da7335b80e792ba926b5a95a12fa2e1e9a 67240 --> performance testing pass Test environment and result as below: Ubuntu 18.04 Kernel: 4.15.0-generic Compiler: gcc 7.4 NIC: Intel Corporation Ethernet Converged Network Adapter XL710-QDA2 40000 Mbps Target: x86_64-native-linuxapp-gcc Fail/Total: 0/2 Detail performance results: +------------+---------+-------------------------------------+ | frame_size | txd/rxd | throughput difference from expected | +============+=========+=====================================+ | 64 | 512 | 0.131 | +------------+---------+-------------------------------------+ | 64 | 2048 | 0.044 | +------------+---------+-------------------------------------+ Ubuntu 18.04 Kernel: 4.15.0-generic Compiler: gcc 7.4 NIC: Intel Corporation Ethernet Converged Network Adapter 82599ES 10000 Mbps Target: x86_64-native-linuxapp-gcc Fail/Total: 0/2 Detail performance results: +------------+---------+-------------------------------------+ | frame_size | txd/rxd | throughput difference from expected | +============+=========+=====================================+ | 64 | 512 | -0.524 | +------------+---------+-------------------------------------+ | 64 | 2048 | 0.209 | +------------+---------+-------------------------------------+ To view detailed results, visit: https://lab.dpdk.org/results/dashboard/patchsets/10131/ UNH-IOL DPDK Community Lab To manage your email subscriptions, visit: https://lab.dpdk.org/results/dashboard/preferences/subscriptions/
[-- Attachment #1: Type: text/plain, Size: 2840 bytes --] Test-Label: iol-mellanox-Performance Test-Status: SUCCESS http://dpdk.org/patch/67240 _Performance Testing PASS_ Submitter: None <zhihongx.peng@intel.com> Date: Wednesday, March 25 2020 03:31:11 DPDK git baseline: Repo:dpdk Branch: master CommitID:bcf789da7335b80e792ba926b5a95a12fa2e1e9a 67240 --> performance testing pass Test environment and result as below: Ubuntu 18.04 Kernel: 4.15.0-generic Compiler: gcc 7.4 NIC: Mellanox ConnectX-4 Lx 25000 Mbps Target: x86_64-native-linuxapp-gcc Fail/Total: 0/6 Detail performance results: +------------+---------+-------------------------------------+ | frame_size | txd/rxd | throughput difference from expected | +============+=========+=====================================+ | 64 | 256 | 0.001 | +------------+---------+-------------------------------------+ | 128 | 256 | 0.012 | +------------+---------+-------------------------------------+ | 256 | 256 | -0.022 | +------------+---------+-------------------------------------+ | 512 | 256 | -0.001 | +------------+---------+-------------------------------------+ | 1024 | 256 | -0.001 | +------------+---------+-------------------------------------+ | 1518 | 256 | 0.005 | +------------+---------+-------------------------------------+ Ubuntu 18.04 Kernel: 4.15.0-generic Compiler: gcc 7.4 NIC: Mellanox ConnectX-4 Lx 40000 Mbps Target: x86_64-native-linuxapp-gcc Fail/Total: 0/6 Detail performance results: +------------+---------+-------------------------------------+ | frame_size | txd/rxd | throughput difference from expected | +============+=========+=====================================+ | 64 | 256 | -0.153 | +------------+---------+-------------------------------------+ | 128 | 256 | -0.374 | +------------+---------+-------------------------------------+ | 256 | 256 | 0.051 | +------------+---------+-------------------------------------+ | 512 | 256 | 0.016 | +------------+---------+-------------------------------------+ | 1024 | 256 | 0.019 | +------------+---------+-------------------------------------+ | 1518 | 256 | -0.005 | +------------+---------+-------------------------------------+ To view detailed results, visit: https://lab.dpdk.org/results/dashboard/patchsets/10131/ UNH-IOL DPDK Community Lab To manage your email subscriptions, visit: https://lab.dpdk.org/results/dashboard/preferences/subscriptions/
[-- Attachment #1: Type: text/plain, Size: 2903 bytes --] Test-Label: iol-testing Test-Status: SUCCESS http://dpdk.org/patch/67240 _Testing PASS_ Submitter: None <zhihongx.peng@intel.com> Date: Wednesday, March 25 2020 03:31:11 DPDK git baseline: Repo:dpdk Branch: master CommitID:bcf789da7335b80e792ba926b5a95a12fa2e1e9a 67240 --> testing pass Test environment and result as below: +---------------------+--------------------+-------------------+------------------+----------------+--------------+ | Environment | dpdk_meson_compile | dpdk_compile_spdk | dpdk_compile_ovs | dpdk_unit_test | dpdk_compile | +=====================+====================+===================+==================+================+==============+ | Windows Server 2019 | PASS | SKIPPED | SKIPPED | SKIPPED | SKIPPED | +---------------------+--------------------+-------------------+------------------+----------------+--------------+ | Fedora 31 | PASS | PASS | PASS | SKIPPED | PASS | +---------------------+--------------------+-------------------+------------------+----------------+--------------+ | CentOS 8 | PASS | PASS | PASS | SKIPPED | PASS | +---------------------+--------------------+-------------------+------------------+----------------+--------------+ | Ubuntu 18.04 | PASS | PASS | PASS | PASS | PASS | +---------------------+--------------------+-------------------+------------------+----------------+--------------+ | openSUSE Leap 15 | PASS | PASS | PASS | SKIPPED | PASS | +---------------------+--------------------+-------------------+------------------+----------------+--------------+ | FreeBSD 11.2 | PASS | PASS | SKIPPED | SKIPPED | PASS | +---------------------+--------------------+-------------------+------------------+----------------+--------------+ | Arch Linux | PASS | SKIPPED | PASS | SKIPPED | PASS | +---------------------+--------------------+-------------------+------------------+----------------+--------------+ Windows Server 2019 Kernel: 10.0 Compiler: clang 9.0 Fedora 31 Kernel: 5.3.16 Compiler: gcc 9.2.1 CentOS 8 Kernel: 4.18.0.el8_0 Compiler: gcc 8.3.1 Ubuntu 18.04 Kernel: 4.15.0-generic Compiler: gcc 7.4 openSUSE Leap 15 Kernel: 4.12.14 Compiler: gcc 7.4.1 FreeBSD 11.2 Kernel: 11.2 Compiler: gcc 8.3 Arch Linux Kernel: latest Compiler: gcc latest To view detailed results, visit: https://lab.dpdk.org/results/dashboard/patchsets/10131/ UNH-IOL DPDK Community Lab To manage your email subscriptions, visit: https://lab.dpdk.org/results/dashboard/preferences/subscriptions/