* [dpdk-test-report] |SUCCESS| pw68225 [PATCH] [v2] doc: use glob terminology
@ 2020-04-12 16:00 dpdklab
0 siblings, 0 replies; 6+ messages in thread
From: dpdklab @ 2020-04-12 16:00 UTC (permalink / raw)
To: Ali Alnubani, Test Report; +Cc: dpdk-test-reports
[-- Attachment #1: Type: text/plain, Size: 2851 bytes --]
Test-Label: iol-mellanox-Performance
Test-Status: SUCCESS
http://dpdk.org/patch/68225
_Performance Testing PASS_
Submitter: Jerin Jacob Kollanukkaran <jerinj@marvell.com>
Date: Sunday, April 12 2020 15:04:27
DPDK git baseline: Repo:dpdk
Branch: master
CommitID:dc38ae8d08269f1a7023f9f26045408f3d0e0e25
68225 --> performance testing pass
Test environment and result as below:
Ubuntu 18.04
Kernel: 4.15.0-generic
Compiler: gcc 7.4
NIC: Mellanox ConnectX-5 100000 Mbps
Target: x86_64-native-linuxapp-gcc
Fail/Total: 0/6
Detail performance results:
+------------+---------+-------------------------------------+
| frame_size | txd/rxd | throughput difference from expected |
+============+=========+=====================================+
| 64 | 256 | -0.226 |
+------------+---------+-------------------------------------+
| 128 | 256 | -0.118 |
+------------+---------+-------------------------------------+
| 256 | 256 | -0.003 |
+------------+---------+-------------------------------------+
| 512 | 256 | 0.047 |
+------------+---------+-------------------------------------+
| 1024 | 256 | 0.018 |
+------------+---------+-------------------------------------+
| 1518 | 256 | 0.020 |
+------------+---------+-------------------------------------+
Ubuntu 18.04
Kernel: 4.15.0-generic
Compiler: gcc 7.4
NIC: Mellanox ConnectX-4 Lx 25000 Mbps
Target: x86_64-native-linuxapp-gcc
Fail/Total: 0/6
Detail performance results:
+------------+---------+-------------------------------------+
| frame_size | txd/rxd | throughput difference from expected |
+============+=========+=====================================+
| 64 | 256 | 0.168 |
+------------+---------+-------------------------------------+
| 128 | 256 | 0.043 |
+------------+---------+-------------------------------------+
| 256 | 256 | 0.028 |
+------------+---------+-------------------------------------+
| 512 | 256 | 0.034 |
+------------+---------+-------------------------------------+
| 1024 | 256 | 0.003 |
+------------+---------+-------------------------------------+
| 1518 | 256 | -0.002 |
+------------+---------+-------------------------------------+
To view detailed results, visit:
https://lab.dpdk.org/results/dashboard/patchsets/10379/
UNH-IOL DPDK Community Lab
To manage your email subscriptions, visit:
https://lab.dpdk.org/results/dashboard/preferences/subscriptions/
^ permalink raw reply [flat|nested] 6+ messages in thread
* [dpdk-test-report] |SUCCESS| pw68225 [PATCH] [v2] doc: use glob terminology
@ 2020-04-12 16:00 dpdklab
0 siblings, 0 replies; 6+ messages in thread
From: dpdklab @ 2020-04-12 16:00 UTC (permalink / raw)
To: Test Report; +Cc: dpdk-test-reports
[-- Attachment #1: Type: text/plain, Size: 1921 bytes --]
Test-Label: iol-intel-Performance
Test-Status: SUCCESS
http://dpdk.org/patch/68225
_Performance Testing PASS_
Submitter: Jerin Jacob Kollanukkaran <jerinj@marvell.com>
Date: Sunday, April 12 2020 15:04:27
DPDK git baseline: Repo:dpdk
Branch: master
CommitID:dc38ae8d08269f1a7023f9f26045408f3d0e0e25
68225 --> performance testing pass
Test environment and result as below:
Ubuntu 18.04
Kernel: 4.15.0-generic
Compiler: gcc 7.4
NIC: Intel Corporation Ethernet Converged Network Adapter XL710-QDA2 40000 Mbps
Target: x86_64-native-linuxapp-gcc
Fail/Total: 0/2
Detail performance results:
+------------+---------+-------------------------------------+
| frame_size | txd/rxd | throughput difference from expected |
+============+=========+=====================================+
| 64 | 512 | -0.078 |
+------------+---------+-------------------------------------+
| 64 | 2048 | 0.183 |
+------------+---------+-------------------------------------+
Ubuntu 18.04
Kernel: 4.15.0-generic
Compiler: gcc 7.4
NIC: Intel Corporation Ethernet Converged Network Adapter 82599ES 10000 Mbps
Target: x86_64-native-linuxapp-gcc
Fail/Total: 0/2
Detail performance results:
+------------+---------+-------------------------------------+
| frame_size | txd/rxd | throughput difference from expected |
+============+=========+=====================================+
| 64 | 512 | 3.208 |
+------------+---------+-------------------------------------+
| 64 | 2048 | 1.265 |
+------------+---------+-------------------------------------+
To view detailed results, visit:
https://lab.dpdk.org/results/dashboard/patchsets/10379/
UNH-IOL DPDK Community Lab
To manage your email subscriptions, visit:
https://lab.dpdk.org/results/dashboard/preferences/subscriptions/
^ permalink raw reply [flat|nested] 6+ messages in thread
* [dpdk-test-report] |SUCCESS| pw68225 [PATCH] [v2] doc: use glob terminology
@ 2020-04-12 16:09 dpdklab
0 siblings, 0 replies; 6+ messages in thread
From: dpdklab @ 2020-04-12 16:09 UTC (permalink / raw)
To: Ali Alnubani, Test Report; +Cc: dpdk-test-reports
[-- Attachment #1: Type: text/plain, Size: 1733 bytes --]
Test-Label: iol-mellanox-Performance
Test-Status: SUCCESS
http://dpdk.org/patch/68225
_Performance Testing PASS_
Submitter: Jerin Jacob Kollanukkaran <jerinj@marvell.com>
Date: Sunday, April 12 2020 15:04:27
DPDK git baseline: Repo:dpdk
Branch: master
CommitID:dc38ae8d08269f1a7023f9f26045408f3d0e0e25
68225 --> performance testing pass
Test environment and result as below:
Ubuntu 18.04
Kernel: 4.15.0-generic
Compiler: gcc 7.4
NIC: Mellanox ConnectX-4 Lx 40000 Mbps
Target: x86_64-native-linuxapp-gcc
Fail/Total: 0/6
Detail performance results:
+------------+---------+-------------------------------------+
| frame_size | txd/rxd | throughput difference from expected |
+============+=========+=====================================+
| 64 | 256 | 0.056 |
+------------+---------+-------------------------------------+
| 128 | 256 | 0.042 |
+------------+---------+-------------------------------------+
| 256 | 256 | -0.007 |
+------------+---------+-------------------------------------+
| 512 | 256 | -0.045 |
+------------+---------+-------------------------------------+
| 1024 | 256 | 0.008 |
+------------+---------+-------------------------------------+
| 1518 | 256 | 0 |
+------------+---------+-------------------------------------+
To view detailed results, visit:
https://lab.dpdk.org/results/dashboard/patchsets/10379/
UNH-IOL DPDK Community Lab
To manage your email subscriptions, visit:
https://lab.dpdk.org/results/dashboard/preferences/subscriptions/
^ permalink raw reply [flat|nested] 6+ messages in thread
* [dpdk-test-report] |SUCCESS| pw68225 [PATCH] [v2] doc: use glob terminology
@ 2020-04-12 16:16 dpdklab
0 siblings, 0 replies; 6+ messages in thread
From: dpdklab @ 2020-04-12 16:16 UTC (permalink / raw)
To: Test Report; +Cc: dpdk-test-reports
[-- Attachment #1: Type: text/plain, Size: 2916 bytes --]
Test-Label: iol-testing
Test-Status: SUCCESS
http://dpdk.org/patch/68225
_Testing PASS_
Submitter: Jerin Jacob Kollanukkaran <jerinj@marvell.com>
Date: Sunday, April 12 2020 15:04:27
DPDK git baseline: Repo:dpdk
Branch: master
CommitID:dc38ae8d08269f1a7023f9f26045408f3d0e0e25
68225 --> testing pass
Test environment and result as below:
+---------------------+--------------------+--------------+------------------+----------------+-------------------+
| Environment | dpdk_meson_compile | dpdk_compile | dpdk_compile_ovs | dpdk_unit_test | dpdk_compile_spdk |
+=====================+====================+==============+==================+================+===================+
| Windows Server 2019 | PASS | SKIPPED | SKIPPED | SKIPPED | SKIPPED |
+---------------------+--------------------+--------------+------------------+----------------+-------------------+
| Ubuntu 18.04 | PASS | PASS | PASS | PASS | PASS |
+---------------------+--------------------+--------------+------------------+----------------+-------------------+
| CentOS 8 | PASS | PASS | PASS | SKIPPED | PASS |
+---------------------+--------------------+--------------+------------------+----------------+-------------------+
| openSUSE Leap 15 | PASS | PASS | PASS | SKIPPED | PASS |
+---------------------+--------------------+--------------+------------------+----------------+-------------------+
| FreeBSD 11.2 | PASS | PASS | SKIPPED | SKIPPED | PASS |
+---------------------+--------------------+--------------+------------------+----------------+-------------------+
| Fedora 31 | PASS | PASS | PASS | SKIPPED | PASS |
+---------------------+--------------------+--------------+------------------+----------------+-------------------+
| Arch Linux | PASS | PASS | PASS | SKIPPED | SKIPPED |
+---------------------+--------------------+--------------+------------------+----------------+-------------------+
Windows Server 2019
Kernel: 10.0
Compiler: clang 9.0
Ubuntu 18.04
Kernel: 4.15.0-generic
Compiler: gcc 7.4
CentOS 8
Kernel: 4.18.0.el8_0
Compiler: gcc 8.3.1
openSUSE Leap 15
Kernel: 4.12.14
Compiler: gcc 7.4.1
FreeBSD 11.2
Kernel: 11.2
Compiler: gcc 8.3
Fedora 31
Kernel: 5.3.16
Compiler: gcc 9.2.1
Arch Linux
Kernel: latest
Compiler: gcc latest
To view detailed results, visit:
https://lab.dpdk.org/results/dashboard/patchsets/10379/
UNH-IOL DPDK Community Lab
To manage your email subscriptions, visit:
https://lab.dpdk.org/results/dashboard/preferences/subscriptions/
^ permalink raw reply [flat|nested] 6+ messages in thread
end of thread, other threads:[~2020-04-12 17:12 UTC | newest]
Thread overview: 6+ messages (download: mbox.gz / follow: Atom feed)
-- links below jump to the message on this page --
[not found] <20200412150427.2786199-1-jerinj@marvell.com>
2020-04-12 15:05 ` [dpdk-test-report] |SUCCESS| pw68225 [PATCH v2] doc: use glob terminology checkpatch
2020-04-12 17:10 ` [dpdk-test-report] |WARNING| pw68225 " 0-day Robot
2020-04-12 16:00 [dpdk-test-report] |SUCCESS| pw68225 [PATCH] [v2] " dpdklab
2020-04-12 16:00 dpdklab
2020-04-12 16:09 dpdklab
2020-04-12 16:16 dpdklab
This is a public inbox, see mirroring instructions
for how to clone and mirror all data and code used for this inbox;
as well as URLs for NNTP newsgroup(s).