* [dpdk-test-report] |SUCCESS| [GIT MASTER] 2a41db7589cb27dc491963f8c09b8dd452a8296d
@ 2020-04-12 22:13 dpdklab
0 siblings, 0 replies; 7+ messages in thread
From: dpdklab @ 2020-04-12 22:13 UTC (permalink / raw)
To: Test Report; +Cc: dpdk-test-reports
[-- Attachment #1: Type: text/plain, Size: 1689 bytes --]
_Performance Testing PASS_
Branch: dpdk
2a41db7589cb27dc491963f8c09b8dd452a8296d --> performance testing pass
Test environment and result as below:
Ubuntu 18.04
Kernel: 4.15.0-generic
Compiler: gcc 7.4
NIC: Intel Corporation Ethernet Converged Network Adapter XL710-QDA2 40000 Mbps
Target: x86_64-native-linuxapp-gcc
Fail/Total: 0/2
Detail performance results:
+------------+---------+-------------------------------------+
| frame_size | txd/rxd | throughput difference from expected |
+============+=========+=====================================+
| 64 | 512 | -0.176 |
+------------+---------+-------------------------------------+
| 64 | 2048 | 0.257 |
+------------+---------+-------------------------------------+
Ubuntu 18.04
Kernel: 4.15.0-generic
Compiler: gcc 7.4
NIC: Intel Corporation Ethernet Converged Network Adapter 82599ES 10000 Mbps
Target: x86_64-native-linuxapp-gcc
Fail/Total: 0/2
Detail performance results:
+------------+---------+-------------------------------------+
| frame_size | txd/rxd | throughput difference from expected |
+============+=========+=====================================+
| 64 | 512 | 0 |
+------------+---------+-------------------------------------+
| 64 | 2048 | 0 |
+------------+---------+-------------------------------------+
To view detailed results, visit:
https://lab.dpdk.org/results/dashboard/tarballs/8882/
UNH-IOL DPDK Community Lab
To manage your email subscriptions, visit:
https://lab.dpdk.org/results/dashboard/preferences/subscriptions/
^ permalink raw reply [flat|nested] 7+ messages in thread
* [dpdk-test-report] |SUCCESS| [GIT MASTER] 2a41db7589cb27dc491963f8c09b8dd452a8296d
@ 2020-04-13 16:45 dpdklab
0 siblings, 0 replies; 7+ messages in thread
From: dpdklab @ 2020-04-13 16:45 UTC (permalink / raw)
To: Test Report; +Cc: dpdk-test-reports
[-- Attachment #1: Type: text/plain, Size: 2706 bytes --]
_Testing PASS_
Branch: dpdk-next-crypto
2a41db7589cb27dc491963f8c09b8dd452a8296d --> testing pass
Test environment and result as below:
+---------------------+--------------------+-------------------+--------------+------------------+----------------+
| Environment | dpdk_meson_compile | dpdk_compile_spdk | dpdk_compile | dpdk_compile_ovs | dpdk_unit_test |
+=====================+====================+===================+==============+==================+================+
| Windows Server 2019 | PASS | SKIPPED | SKIPPED | SKIPPED | SKIPPED |
+---------------------+--------------------+-------------------+--------------+------------------+----------------+
| openSUSE Leap 15 | PASS | PASS | PASS | PASS | SKIPPED |
+---------------------+--------------------+-------------------+--------------+------------------+----------------+
| Fedora 31 | PASS | PASS | PASS | PASS | SKIPPED |
+---------------------+--------------------+-------------------+--------------+------------------+----------------+
| CentOS 8 | PASS | PASS | PASS | PASS | SKIPPED |
+---------------------+--------------------+-------------------+--------------+------------------+----------------+
| Ubuntu 18.04 | PASS | PASS | PASS | PASS | PASS |
+---------------------+--------------------+-------------------+--------------+------------------+----------------+
| FreeBSD 11.2 | PASS | PASS | PASS | SKIPPED | SKIPPED |
+---------------------+--------------------+-------------------+--------------+------------------+----------------+
| Arch Linux | PASS | SKIPPED | PASS | PASS | SKIPPED |
+---------------------+--------------------+-------------------+--------------+------------------+----------------+
Windows Server 2019
Kernel: 10.0
Compiler: clang 9.0
openSUSE Leap 15
Kernel: 4.12.14
Compiler: gcc 7.4.1
Fedora 31
Kernel: 5.3.16
Compiler: gcc 9.2.1
CentOS 8
Kernel: 4.18.0.el8_0
Compiler: gcc 8.3.1
Ubuntu 18.04
Kernel: 4.15.0-generic
Compiler: gcc 7.4
FreeBSD 11.2
Kernel: 11.2
Compiler: gcc 8.3
Arch Linux
Kernel: latest
Compiler: gcc latest
To view detailed results, visit:
https://lab.dpdk.org/results/dashboard/tarballs/8901/
UNH-IOL DPDK Community Lab
To manage your email subscriptions, visit:
https://lab.dpdk.org/results/dashboard/preferences/subscriptions/
^ permalink raw reply [flat|nested] 7+ messages in thread
* [dpdk-test-report] |SUCCESS| [GIT MASTER] 2a41db7589cb27dc491963f8c09b8dd452a8296d
@ 2020-04-13 16:33 dpdklab
0 siblings, 0 replies; 7+ messages in thread
From: dpdklab @ 2020-04-13 16:33 UTC (permalink / raw)
To: Ali Alnubani, Test Report; +Cc: dpdk-test-reports
[-- Attachment #1: Type: text/plain, Size: 3748 bytes --]
_Performance Testing PASS_
Branch: dpdk-next-crypto
2a41db7589cb27dc491963f8c09b8dd452a8296d --> performance testing pass
Test environment and result as below:
Ubuntu 18.04
Kernel: 4.15.0-generic
Compiler: gcc 7.4
NIC: Mellanox ConnectX-4 Lx 25000 Mbps
Target: x86_64-native-linuxapp-gcc
Fail/Total: 0/6
Detail performance results:
+------------+---------+-------------------------------------+
| frame_size | txd/rxd | throughput difference from expected |
+============+=========+=====================================+
| 64 | 256 | 0.157 |
+------------+---------+-------------------------------------+
| 128 | 256 | 0.069 |
+------------+---------+-------------------------------------+
| 256 | 256 | -0.045 |
+------------+---------+-------------------------------------+
| 512 | 256 | 0.003 |
+------------+---------+-------------------------------------+
| 1024 | 256 | -0.013 |
+------------+---------+-------------------------------------+
| 1518 | 256 | -0.010 |
+------------+---------+-------------------------------------+
Ubuntu 18.04
Kernel: 4.15.0-generic
Compiler: gcc 7.4
NIC: Mellanox ConnectX-4 Lx 40000 Mbps
Target: x86_64-native-linuxapp-gcc
Fail/Total: 0/6
Detail performance results:
+------------+---------+-------------------------------------+
| frame_size | txd/rxd | throughput difference from expected |
+============+=========+=====================================+
| 64 | 256 | -0.234 |
+------------+---------+-------------------------------------+
| 128 | 256 | -0.046 |
+------------+---------+-------------------------------------+
| 256 | 256 | -0.006 |
+------------+---------+-------------------------------------+
| 512 | 256 | -0.007 |
+------------+---------+-------------------------------------+
| 1024 | 256 | -0.003 |
+------------+---------+-------------------------------------+
| 1518 | 256 | 0.002 |
+------------+---------+-------------------------------------+
Ubuntu 18.04
Kernel: 4.15.0-generic
Compiler: gcc 7.4
NIC: Mellanox ConnectX-5 100000 Mbps
Target: x86_64-native-linuxapp-gcc
Fail/Total: 0/6
Detail performance results:
+------------+---------+-------------------------------------+
| frame_size | txd/rxd | throughput difference from expected |
+============+=========+=====================================+
| 64 | 256 | -0.111 |
+------------+---------+-------------------------------------+
| 128 | 256 | 0.031 |
+------------+---------+-------------------------------------+
| 256 | 256 | 0.038 |
+------------+---------+-------------------------------------+
| 512 | 256 | -0.069 |
+------------+---------+-------------------------------------+
| 1024 | 256 | 0.008 |
+------------+---------+-------------------------------------+
| 1518 | 256 | 0.024 |
+------------+---------+-------------------------------------+
To view detailed results, visit:
https://lab.dpdk.org/results/dashboard/tarballs/8901/
UNH-IOL DPDK Community Lab
To manage your email subscriptions, visit:
https://lab.dpdk.org/results/dashboard/preferences/subscriptions/
^ permalink raw reply [flat|nested] 7+ messages in thread
* [dpdk-test-report] |SUCCESS| [GIT MASTER] 2a41db7589cb27dc491963f8c09b8dd452a8296d
@ 2020-04-13 15:59 dpdklab
0 siblings, 0 replies; 7+ messages in thread
From: dpdklab @ 2020-04-13 15:59 UTC (permalink / raw)
To: Test Report; +Cc: dpdk-test-reports
[-- Attachment #1: Type: text/plain, Size: 1701 bytes --]
_Performance Testing PASS_
Branch: dpdk-next-crypto
2a41db7589cb27dc491963f8c09b8dd452a8296d --> performance testing pass
Test environment and result as below:
Ubuntu 18.04
Kernel: 4.15.0-generic
Compiler: gcc 7.4
NIC: Intel Corporation Ethernet Converged Network Adapter XL710-QDA2 40000 Mbps
Target: x86_64-native-linuxapp-gcc
Fail/Total: 0/2
Detail performance results:
+------------+---------+-------------------------------------+
| frame_size | txd/rxd | throughput difference from expected |
+============+=========+=====================================+
| 64 | 512 | 0.195 |
+------------+---------+-------------------------------------+
| 64 | 2048 | -0.070 |
+------------+---------+-------------------------------------+
Ubuntu 18.04
Kernel: 4.15.0-generic
Compiler: gcc 7.4
NIC: Intel Corporation Ethernet Converged Network Adapter 82599ES 10000 Mbps
Target: x86_64-native-linuxapp-gcc
Fail/Total: 0/2
Detail performance results:
+------------+---------+-------------------------------------+
| frame_size | txd/rxd | throughput difference from expected |
+============+=========+=====================================+
| 64 | 512 | 2.636 |
+------------+---------+-------------------------------------+
| 64 | 2048 | 1.149 |
+------------+---------+-------------------------------------+
To view detailed results, visit:
https://lab.dpdk.org/results/dashboard/tarballs/8901/
UNH-IOL DPDK Community Lab
To manage your email subscriptions, visit:
https://lab.dpdk.org/results/dashboard/preferences/subscriptions/
^ permalink raw reply [flat|nested] 7+ messages in thread
* [dpdk-test-report] |SUCCESS| [GIT MASTER] 2a41db7589cb27dc491963f8c09b8dd452a8296d
@ 2020-04-12 22:28 dpdklab
0 siblings, 0 replies; 7+ messages in thread
From: dpdklab @ 2020-04-12 22:28 UTC (permalink / raw)
To: Test Report; +Cc: dpdk-test-reports
[-- Attachment #1: Type: text/plain, Size: 2694 bytes --]
_Testing PASS_
Branch: dpdk
2a41db7589cb27dc491963f8c09b8dd452a8296d --> testing pass
Test environment and result as below:
+---------------------+--------------------+-------------------+----------------+--------------+------------------+
| Environment | dpdk_meson_compile | dpdk_compile_spdk | dpdk_unit_test | dpdk_compile | dpdk_compile_ovs |
+=====================+====================+===================+================+==============+==================+
| Windows Server 2019 | PASS | SKIPPED | SKIPPED | SKIPPED | SKIPPED |
+---------------------+--------------------+-------------------+----------------+--------------+------------------+
| Fedora 31 | PASS | PASS | SKIPPED | PASS | PASS |
+---------------------+--------------------+-------------------+----------------+--------------+------------------+
| CentOS 8 | PASS | PASS | SKIPPED | PASS | PASS |
+---------------------+--------------------+-------------------+----------------+--------------+------------------+
| Ubuntu 18.04 | PASS | PASS | PASS | PASS | PASS |
+---------------------+--------------------+-------------------+----------------+--------------+------------------+
| openSUSE Leap 15 | PASS | PASS | SKIPPED | PASS | PASS |
+---------------------+--------------------+-------------------+----------------+--------------+------------------+
| FreeBSD 11.2 | PASS | PASS | SKIPPED | PASS | SKIPPED |
+---------------------+--------------------+-------------------+----------------+--------------+------------------+
| Arch Linux | PASS | SKIPPED | SKIPPED | PASS | PASS |
+---------------------+--------------------+-------------------+----------------+--------------+------------------+
Windows Server 2019
Kernel: 10.0
Compiler: clang 9.0
Fedora 31
Kernel: 5.3.16
Compiler: gcc 9.2.1
CentOS 8
Kernel: 4.18.0.el8_0
Compiler: gcc 8.3.1
Ubuntu 18.04
Kernel: 4.15.0-generic
Compiler: gcc 7.4
openSUSE Leap 15
Kernel: 4.12.14
Compiler: gcc 7.4.1
FreeBSD 11.2
Kernel: 11.2
Compiler: gcc 8.3
Arch Linux
Kernel: latest
Compiler: gcc latest
To view detailed results, visit:
https://lab.dpdk.org/results/dashboard/tarballs/8882/
UNH-IOL DPDK Community Lab
To manage your email subscriptions, visit:
https://lab.dpdk.org/results/dashboard/preferences/subscriptions/
^ permalink raw reply [flat|nested] 7+ messages in thread
* [dpdk-test-report] |SUCCESS| [GIT MASTER] 2a41db7589cb27dc491963f8c09b8dd452a8296d
@ 2020-04-12 22:23 dpdklab
0 siblings, 0 replies; 7+ messages in thread
From: dpdklab @ 2020-04-12 22:23 UTC (permalink / raw)
To: Ali Alnubani, Test Report; +Cc: dpdk-test-reports
[-- Attachment #1: Type: text/plain, Size: 1498 bytes --]
_Performance Testing PASS_
Branch: dpdk
2a41db7589cb27dc491963f8c09b8dd452a8296d --> performance testing pass
Test environment and result as below:
Ubuntu 18.04
Kernel: 4.15.0-generic
Compiler: gcc 7.4
NIC: Mellanox ConnectX-4 Lx 40000 Mbps
Target: x86_64-native-linuxapp-gcc
Fail/Total: 0/6
Detail performance results:
+------------+---------+-------------------------------------+
| frame_size | txd/rxd | throughput difference from expected |
+============+=========+=====================================+
| 64 | 256 | 0.186 |
+------------+---------+-------------------------------------+
| 128 | 256 | 0.049 |
+------------+---------+-------------------------------------+
| 256 | 256 | -0.046 |
+------------+---------+-------------------------------------+
| 512 | 256 | -0.044 |
+------------+---------+-------------------------------------+
| 1024 | 256 | 0.008 |
+------------+---------+-------------------------------------+
| 1518 | 256 | -0.001 |
+------------+---------+-------------------------------------+
To view detailed results, visit:
https://lab.dpdk.org/results/dashboard/tarballs/8882/
UNH-IOL DPDK Community Lab
To manage your email subscriptions, visit:
https://lab.dpdk.org/results/dashboard/preferences/subscriptions/
^ permalink raw reply [flat|nested] 7+ messages in thread
* [dpdk-test-report] |SUCCESS| [GIT MASTER] 2a41db7589cb27dc491963f8c09b8dd452a8296d
@ 2020-04-12 22:13 dpdklab
0 siblings, 0 replies; 7+ messages in thread
From: dpdklab @ 2020-04-12 22:13 UTC (permalink / raw)
To: Ali Alnubani, Test Report; +Cc: dpdk-test-reports
[-- Attachment #1: Type: text/plain, Size: 2616 bytes --]
_Performance Testing PASS_
Branch: dpdk
2a41db7589cb27dc491963f8c09b8dd452a8296d --> performance testing pass
Test environment and result as below:
Ubuntu 18.04
Kernel: 4.15.0-generic
Compiler: gcc 7.4
NIC: Mellanox ConnectX-4 Lx 25000 Mbps
Target: x86_64-native-linuxapp-gcc
Fail/Total: 0/6
Detail performance results:
+------------+---------+-------------------------------------+
| frame_size | txd/rxd | throughput difference from expected |
+============+=========+=====================================+
| 64 | 256 | 0.006 |
+------------+---------+-------------------------------------+
| 128 | 256 | -0.044 |
+------------+---------+-------------------------------------+
| 256 | 256 | 0.020 |
+------------+---------+-------------------------------------+
| 512 | 256 | -0.001 |
+------------+---------+-------------------------------------+
| 1024 | 256 | 0.012 |
+------------+---------+-------------------------------------+
| 1518 | 256 | 0.005 |
+------------+---------+-------------------------------------+
Ubuntu 18.04
Kernel: 4.15.0-generic
Compiler: gcc 7.4
NIC: Mellanox ConnectX-5 100000 Mbps
Target: x86_64-native-linuxapp-gcc
Fail/Total: 0/6
Detail performance results:
+------------+---------+-------------------------------------+
| frame_size | txd/rxd | throughput difference from expected |
+============+=========+=====================================+
| 64 | 256 | 0.121 |
+------------+---------+-------------------------------------+
| 128 | 256 | -0.010 |
+------------+---------+-------------------------------------+
| 256 | 256 | -0.006 |
+------------+---------+-------------------------------------+
| 512 | 256 | 0.191 |
+------------+---------+-------------------------------------+
| 1024 | 256 | -0.032 |
+------------+---------+-------------------------------------+
| 1518 | 256 | -0.010 |
+------------+---------+-------------------------------------+
To view detailed results, visit:
https://lab.dpdk.org/results/dashboard/tarballs/8882/
UNH-IOL DPDK Community Lab
To manage your email subscriptions, visit:
https://lab.dpdk.org/results/dashboard/preferences/subscriptions/
^ permalink raw reply [flat|nested] 7+ messages in thread
end of thread, other threads:[~2020-04-13 16:45 UTC | newest]
Thread overview: 7+ messages (download: mbox.gz / follow: Atom feed)
-- links below jump to the message on this page --
2020-04-12 22:13 [dpdk-test-report] |SUCCESS| [GIT MASTER] 2a41db7589cb27dc491963f8c09b8dd452a8296d dpdklab
-- strict thread matches above, loose matches on Subject: below --
2020-04-13 16:45 dpdklab
2020-04-13 16:33 dpdklab
2020-04-13 15:59 dpdklab
2020-04-12 22:28 dpdklab
2020-04-12 22:23 dpdklab
2020-04-12 22:13 dpdklab
This is a public inbox, see mirroring instructions
for how to clone and mirror all data and code used for this inbox;
as well as URLs for NNTP newsgroup(s).