* [dpdk-test-report] |SUCCESS| pw68522-68532 [PATCH] [v4, 01/11] net/igc: add igc PMD
@ 2020-04-15 19:49 dpdklab
0 siblings, 0 replies; 3+ messages in thread
From: dpdklab @ 2020-04-15 19:49 UTC (permalink / raw)
To: Ali Alnubani, Test Report; +Cc: dpdk-test-reports
[-- Attachment #1: Type: text/plain, Size: 3972 bytes --]
Test-Label: iol-mellanox-Performance
Test-Status: SUCCESS
http://dpdk.org/patch/68522
_Performance Testing PASS_
Submitter: Zhang, AlvinX <alvinx.zhang@intel.com>
Date: Wednesday, April 15 2020 08:48:00
DPDK git baseline: Repo:dpdk
Branch: master
CommitID:acec04c4b2f5c75d244319e1d0ca17ea7d4da72d
68522-68532 --> performance testing pass
Test environment and result as below:
Ubuntu 18.04
Kernel: 4.15.0-generic
Compiler: gcc 7.4
NIC: Mellanox ConnectX-4 Lx 25000 Mbps
Target: x86_64-native-linuxapp-gcc
Fail/Total: 0/6
Detail performance results:
+------------+---------+-------------------------------------+
| frame_size | txd/rxd | throughput difference from expected |
+============+=========+=====================================+
| 64 | 256 | -0.443 |
+------------+---------+-------------------------------------+
| 128 | 256 | -0.089 |
+------------+---------+-------------------------------------+
| 256 | 256 | 0.024 |
+------------+---------+-------------------------------------+
| 512 | 256 | -0.014 |
+------------+---------+-------------------------------------+
| 1024 | 256 | -0.019 |
+------------+---------+-------------------------------------+
| 1518 | 256 | -0.007 |
+------------+---------+-------------------------------------+
Ubuntu 18.04
Kernel: 4.15.0-generic
Compiler: gcc 7.4
NIC: Mellanox ConnectX-5 100000 Mbps
Target: x86_64-native-linuxapp-gcc
Fail/Total: 0/6
Detail performance results:
+------------+---------+-------------------------------------+
| frame_size | txd/rxd | throughput difference from expected |
+============+=========+=====================================+
| 64 | 256 | -0.033 |
+------------+---------+-------------------------------------+
| 128 | 256 | -0.088 |
+------------+---------+-------------------------------------+
| 256 | 256 | -0.047 |
+------------+---------+-------------------------------------+
| 512 | 256 | 0.144 |
+------------+---------+-------------------------------------+
| 1024 | 256 | 0.097 |
+------------+---------+-------------------------------------+
| 1518 | 256 | 0.050 |
+------------+---------+-------------------------------------+
Ubuntu 18.04
Kernel: 4.15.0-generic
Compiler: gcc 7.4
NIC: Mellanox ConnectX-4 Lx 40000 Mbps
Target: x86_64-native-linuxapp-gcc
Fail/Total: 0/6
Detail performance results:
+------------+---------+-------------------------------------+
| frame_size | txd/rxd | throughput difference from expected |
+============+=========+=====================================+
| 64 | 256 | -0.342 |
+------------+---------+-------------------------------------+
| 128 | 256 | -0.092 |
+------------+---------+-------------------------------------+
| 256 | 256 | -0.131 |
+------------+---------+-------------------------------------+
| 512 | 256 | 0.001 |
+------------+---------+-------------------------------------+
| 1024 | 256 | 0.001 |
+------------+---------+-------------------------------------+
| 1518 | 256 | 0.001 |
+------------+---------+-------------------------------------+
To view detailed results, visit:
https://lab.dpdk.org/results/dashboard/patchsets/10446/
UNH-IOL DPDK Community Lab
To manage your email subscriptions, visit:
https://lab.dpdk.org/results/dashboard/preferences/subscriptions/
^ permalink raw reply [flat|nested] 3+ messages in thread
* [dpdk-test-report] |SUCCESS| pw68522-68532 [PATCH] [v4, 01/11] net/igc: add igc PMD
@ 2020-04-15 20:19 dpdklab
0 siblings, 0 replies; 3+ messages in thread
From: dpdklab @ 2020-04-15 20:19 UTC (permalink / raw)
To: Test Report; +Cc: dpdk-test-reports
[-- Attachment #1: Type: text/plain, Size: 2917 bytes --]
Test-Label: iol-testing
Test-Status: SUCCESS
http://dpdk.org/patch/68522
_Testing PASS_
Submitter: Zhang, AlvinX <alvinx.zhang@intel.com>
Date: Wednesday, April 15 2020 08:48:00
DPDK git baseline: Repo:dpdk
Branch: master
CommitID:acec04c4b2f5c75d244319e1d0ca17ea7d4da72d
68522-68532 --> testing pass
Test environment and result as below:
+---------------------+--------------------+-------------------+--------------+------------------+----------------+
| Environment | dpdk_meson_compile | dpdk_compile_spdk | dpdk_compile | dpdk_compile_ovs | dpdk_unit_test |
+=====================+====================+===================+==============+==================+================+
| Windows Server 2019 | PASS | SKIPPED | SKIPPED | SKIPPED | SKIPPED |
+---------------------+--------------------+-------------------+--------------+------------------+----------------+
| Fedora 31 | PASS | PASS | PASS | PASS | SKIPPED |
+---------------------+--------------------+-------------------+--------------+------------------+----------------+
| Ubuntu 18.04 | PASS | PASS | PASS | PASS | PASS |
+---------------------+--------------------+-------------------+--------------+------------------+----------------+
| CentOS 8 | PASS | PASS | PASS | PASS | SKIPPED |
+---------------------+--------------------+-------------------+--------------+------------------+----------------+
| openSUSE Leap 15 | PASS | PASS | PASS | PASS | SKIPPED |
+---------------------+--------------------+-------------------+--------------+------------------+----------------+
| FreeBSD 11.2 | PASS | PASS | PASS | SKIPPED | SKIPPED |
+---------------------+--------------------+-------------------+--------------+------------------+----------------+
| Arch Linux | PASS | SKIPPED | PASS | PASS | SKIPPED |
+---------------------+--------------------+-------------------+--------------+------------------+----------------+
Windows Server 2019
Kernel: 10.0
Compiler: clang 9.0
Fedora 31
Kernel: 5.3.16
Compiler: gcc 9.2.1
Ubuntu 18.04
Kernel: 4.15.0-generic
Compiler: gcc 7.4
CentOS 8
Kernel: 4.18.0.el8_0
Compiler: gcc 8.3.1
openSUSE Leap 15
Kernel: 4.12.14
Compiler: gcc 7.4.1
FreeBSD 11.2
Kernel: 11.2
Compiler: gcc 8.3
Arch Linux
Kernel: latest
Compiler: gcc latest
To view detailed results, visit:
https://lab.dpdk.org/results/dashboard/patchsets/10446/
UNH-IOL DPDK Community Lab
To manage your email subscriptions, visit:
https://lab.dpdk.org/results/dashboard/preferences/subscriptions/
^ permalink raw reply [flat|nested] 3+ messages in thread
* [dpdk-test-report] |SUCCESS| pw68522-68532 [PATCH] [v4, 01/11] net/igc: add igc PMD
@ 2020-04-15 18:09 dpdklab
0 siblings, 0 replies; 3+ messages in thread
From: dpdklab @ 2020-04-15 18:09 UTC (permalink / raw)
To: Test Report; +Cc: dpdk-test-reports
[-- Attachment #1: Type: text/plain, Size: 1922 bytes --]
Test-Label: iol-intel-Performance
Test-Status: SUCCESS
http://dpdk.org/patch/68522
_Performance Testing PASS_
Submitter: Zhang, AlvinX <alvinx.zhang@intel.com>
Date: Wednesday, April 15 2020 08:48:00
DPDK git baseline: Repo:dpdk
Branch: master
CommitID:acec04c4b2f5c75d244319e1d0ca17ea7d4da72d
68522-68532 --> performance testing pass
Test environment and result as below:
Ubuntu 18.04
Kernel: 4.15.0-generic
Compiler: gcc 7.4
NIC: Intel Corporation Ethernet Converged Network Adapter XL710-QDA2 40000 Mbps
Target: x86_64-native-linuxapp-gcc
Fail/Total: 0/2
Detail performance results:
+------------+---------+-------------------------------------+
| frame_size | txd/rxd | throughput difference from expected |
+============+=========+=====================================+
| 64 | 512 | -0.396 |
+------------+---------+-------------------------------------+
| 64 | 2048 | -0.012 |
+------------+---------+-------------------------------------+
Ubuntu 18.04
Kernel: 4.15.0-generic
Compiler: gcc 7.4
NIC: Intel Corporation Ethernet Converged Network Adapter 82599ES 10000 Mbps
Target: x86_64-native-linuxapp-gcc
Fail/Total: 0/2
Detail performance results:
+------------+---------+-------------------------------------+
| frame_size | txd/rxd | throughput difference from expected |
+============+=========+=====================================+
| 64 | 512 | 3.174 |
+------------+---------+-------------------------------------+
| 64 | 2048 | 1.104 |
+------------+---------+-------------------------------------+
To view detailed results, visit:
https://lab.dpdk.org/results/dashboard/patchsets/10446/
UNH-IOL DPDK Community Lab
To manage your email subscriptions, visit:
https://lab.dpdk.org/results/dashboard/preferences/subscriptions/
^ permalink raw reply [flat|nested] 3+ messages in thread
end of thread, other threads:[~2020-04-15 20:19 UTC | newest]
Thread overview: 3+ messages (download: mbox.gz / follow: Atom feed)
-- links below jump to the message on this page --
2020-04-15 19:49 [dpdk-test-report] |SUCCESS| pw68522-68532 [PATCH] [v4, 01/11] net/igc: add igc PMD dpdklab
-- strict thread matches above, loose matches on Subject: below --
2020-04-15 20:19 dpdklab
2020-04-15 18:09 dpdklab
This is a public inbox, see mirroring instructions
for how to clone and mirror all data and code used for this inbox;
as well as URLs for NNTP newsgroup(s).