* [dpdk-test-report] |SUCCESS| pw69599 [PATCH] [v2] l3fwd-power: add Rx interrupt timeout
@ 2020-05-01 1:19 dpdklab
0 siblings, 0 replies; 5+ messages in thread
From: dpdklab @ 2020-05-01 1:19 UTC (permalink / raw)
To: Test Report; +Cc: dpdk-test-reports
[-- Attachment #1: Type: text/plain, Size: 1921 bytes --]
Test-Label: iol-intel-Performance
Test-Status: SUCCESS
http://dpdk.org/patch/69599
_Performance Testing PASS_
Submitter: Burakov, Anatoly <anatoly.burakov@intel.com>
Date: Thursday, April 30 2020 10:49:48
DPDK git baseline: Repo:dpdk
Branch: master
CommitID:37924a2f078615c5bdac226a90cd63f686f9e7b1
69599 --> performance testing pass
Test environment and result as below:
Ubuntu 18.04
Kernel: 4.15.0-generic
Compiler: gcc 7.4
NIC: Intel Corporation Ethernet Converged Network Adapter XL710-QDA2 40000 Mbps
Target: x86_64-native-linuxapp-gcc
Fail/Total: 0/2
Detail performance results:
+------------+---------+-------------------------------------+
| frame_size | txd/rxd | throughput difference from expected |
+============+=========+=====================================+
| 64 | 512 | 4.826 |
+------------+---------+-------------------------------------+
| 64 | 2048 | 2.769 |
+------------+---------+-------------------------------------+
Ubuntu 18.04
Kernel: 4.15.0-generic
Compiler: gcc 7.4
NIC: Intel Corporation Ethernet Converged Network Adapter 82599ES 10000 Mbps
Target: x86_64-native-linuxapp-gcc
Fail/Total: 0/2
Detail performance results:
+------------+---------+-------------------------------------+
| frame_size | txd/rxd | throughput difference from expected |
+============+=========+=====================================+
| 64 | 512 | 2.627 |
+------------+---------+-------------------------------------+
| 64 | 2048 | 0.843 |
+------------+---------+-------------------------------------+
To view detailed results, visit:
https://lab.dpdk.org/results/dashboard/patchsets/10820/
UNH-IOL DPDK Community Lab
To manage your email subscriptions, visit:
https://lab.dpdk.org/results/dashboard/preferences/subscriptions/
^ permalink raw reply [flat|nested] 5+ messages in thread
* [dpdk-test-report] |SUCCESS| pw69599 [PATCH] [v2] l3fwd-power: add Rx interrupt timeout
@ 2020-05-02 14:43 dpdklab
0 siblings, 0 replies; 5+ messages in thread
From: dpdklab @ 2020-05-02 14:43 UTC (permalink / raw)
To: Test Report; +Cc: dpdk-test-reports
[-- Attachment #1: Type: text/plain, Size: 2916 bytes --]
Test-Label: iol-testing
Test-Status: SUCCESS
http://dpdk.org/patch/69599
_Testing PASS_
Submitter: Burakov, Anatoly <anatoly.burakov@intel.com>
Date: Thursday, April 30 2020 10:49:48
DPDK git baseline: Repo:dpdk
Branch: master
CommitID:37924a2f078615c5bdac226a90cd63f686f9e7b1
69599 --> testing pass
Test environment and result as below:
+---------------------+--------------------+--------------+----------------+-------------------+------------------+
| Environment | dpdk_meson_compile | dpdk_compile | dpdk_unit_test | dpdk_compile_spdk | dpdk_compile_ovs |
+=====================+====================+==============+================+===================+==================+
| Windows Server 2019 | PASS | SKIPPED | SKIPPED | SKIPPED | SKIPPED |
+---------------------+--------------------+--------------+----------------+-------------------+------------------+
| Fedora 31 | PASS | PASS | SKIPPED | PASS | PASS |
+---------------------+--------------------+--------------+----------------+-------------------+------------------+
| CentOS 8 | PASS | PASS | SKIPPED | PASS | PASS |
+---------------------+--------------------+--------------+----------------+-------------------+------------------+
| Ubuntu 18.04 | PASS | PASS | PASS | PASS | PASS |
+---------------------+--------------------+--------------+----------------+-------------------+------------------+
| openSUSE Leap 15 | PASS | PASS | SKIPPED | PASS | PASS |
+---------------------+--------------------+--------------+----------------+-------------------+------------------+
| Arch Linux | PASS | PASS | SKIPPED | SKIPPED | PASS |
+---------------------+--------------------+--------------+----------------+-------------------+------------------+
| FreeBSD 11.2 | PASS | PASS | SKIPPED | PASS | SKIPPED |
+---------------------+--------------------+--------------+----------------+-------------------+------------------+
Windows Server 2019
Kernel: 10.0
Compiler: clang 9.0
Fedora 31
Kernel: 5.3.16
Compiler: gcc 9.2.1
CentOS 8
Kernel: 4.18.0.el8_0
Compiler: gcc 8.3.1
Ubuntu 18.04
Kernel: 4.15.0-generic
Compiler: gcc 7.4
openSUSE Leap 15
Kernel: 4.12.14
Compiler: gcc 7.4.1
Arch Linux
Kernel: latest
Compiler: gcc latest
FreeBSD 11.2
Kernel: 11.2
Compiler: gcc 8.3
To view detailed results, visit:
https://lab.dpdk.org/results/dashboard/patchsets/10820/
UNH-IOL DPDK Community Lab
To manage your email subscriptions, visit:
https://lab.dpdk.org/results/dashboard/preferences/subscriptions/
^ permalink raw reply [flat|nested] 5+ messages in thread
* [dpdk-test-report] |SUCCESS| pw69599 [PATCH] [v2] l3fwd-power: add Rx interrupt timeout
@ 2020-05-01 9:31 dpdklab
0 siblings, 0 replies; 5+ messages in thread
From: dpdklab @ 2020-05-01 9:31 UTC (permalink / raw)
To: Ali Alnubani, Test Report; +Cc: dpdk-test-reports
[-- Attachment #1: Type: text/plain, Size: 3971 bytes --]
Test-Label: iol-mellanox-Performance
Test-Status: SUCCESS
http://dpdk.org/patch/69599
_Performance Testing PASS_
Submitter: Burakov, Anatoly <anatoly.burakov@intel.com>
Date: Thursday, April 30 2020 10:49:48
DPDK git baseline: Repo:dpdk
Branch: master
CommitID:37924a2f078615c5bdac226a90cd63f686f9e7b1
69599 --> performance testing pass
Test environment and result as below:
Ubuntu 18.04
Kernel: 4.15.0-generic
Compiler: gcc 7.4
NIC: Mellanox ConnectX-5 100000 Mbps
Target: x86_64-native-linuxapp-gcc
Fail/Total: 0/6
Detail performance results:
+------------+---------+-------------------------------------+
| frame_size | txd/rxd | throughput difference from expected |
+============+=========+=====================================+
| 64 | 256 | -0.275 |
+------------+---------+-------------------------------------+
| 128 | 256 | -0.141 |
+------------+---------+-------------------------------------+
| 256 | 256 | 0.101 |
+------------+---------+-------------------------------------+
| 512 | 256 | -0.159 |
+------------+---------+-------------------------------------+
| 1024 | 256 | -0.001 |
+------------+---------+-------------------------------------+
| 1518 | 256 | 0.009 |
+------------+---------+-------------------------------------+
Ubuntu 18.04
Kernel: 4.15.0-generic
Compiler: gcc 7.4
NIC: Mellanox ConnectX-4 Lx 25000 Mbps
Target: x86_64-native-linuxapp-gcc
Fail/Total: 0/6
Detail performance results:
+------------+---------+-------------------------------------+
| frame_size | txd/rxd | throughput difference from expected |
+============+=========+=====================================+
| 64 | 256 | -0.291 |
+------------+---------+-------------------------------------+
| 128 | 256 | -0.120 |
+------------+---------+-------------------------------------+
| 256 | 256 | -0.185 |
+------------+---------+-------------------------------------+
| 512 | 256 | -0.001 |
+------------+---------+-------------------------------------+
| 1024 | 256 | -0.004 |
+------------+---------+-------------------------------------+
| 1518 | 256 | -0.011 |
+------------+---------+-------------------------------------+
Ubuntu 18.04
Kernel: 4.15.0-generic
Compiler: gcc 7.4
NIC: Mellanox ConnectX-4 Lx 40000 Mbps
Target: x86_64-native-linuxapp-gcc
Fail/Total: 0/6
Detail performance results:
+------------+---------+-------------------------------------+
| frame_size | txd/rxd | throughput difference from expected |
+============+=========+=====================================+
| 64 | 256 | -0.296 |
+------------+---------+-------------------------------------+
| 128 | 256 | 0.304 |
+------------+---------+-------------------------------------+
| 256 | 256 | 0.006 |
+------------+---------+-------------------------------------+
| 512 | 256 | -0.005 |
+------------+---------+-------------------------------------+
| 1024 | 256 | -0.001 |
+------------+---------+-------------------------------------+
| 1518 | 256 | -0.017 |
+------------+---------+-------------------------------------+
To view detailed results, visit:
https://lab.dpdk.org/results/dashboard/patchsets/10820/
UNH-IOL DPDK Community Lab
To manage your email subscriptions, visit:
https://lab.dpdk.org/results/dashboard/preferences/subscriptions/
^ permalink raw reply [flat|nested] 5+ messages in thread
* [dpdk-test-report] |SUCCESS| pw69599 [PATCH] [v2] l3fwd-power: add Rx interrupt timeout
@ 2020-05-01 1:12 dpdklab
0 siblings, 0 replies; 5+ messages in thread
From: dpdklab @ 2020-05-01 1:12 UTC (permalink / raw)
To: Ruoshan Shi, Test Report; +Cc: dpdk-test-reports
[-- Attachment #1: Type: text/plain, Size: 1209 bytes --]
Test-Label: iol-nxp-Performance
Test-Status: SUCCESS
http://dpdk.org/patch/69599
_Performance Testing PASS_
Submitter: Burakov, Anatoly <anatoly.burakov@intel.com>
Date: Thursday, April 30 2020 10:49:48
DPDK git baseline: Repo:dpdk
Branch: master
CommitID:37924a2f078615c5bdac226a90cd63f686f9e7b1
69599 --> performance testing pass
Test environment and result as below:
Ubuntu 18.04
Kernel: 4.14.122
Compiler: gcc 7.3.0
NIC: NXP LS2088A 10000 Mbps
Target: x86_64-native-linuxapp-gcc
Fail/Total: 0/2
Detail performance results:
+------------+---------+-------------------------------------+
| frame_size | txd/rxd | throughput difference from expected |
+============+=========+=====================================+
| 64 | 512 | -0.211 |
+------------+---------+-------------------------------------+
| 64 | 2048 | 0.043 |
+------------+---------+-------------------------------------+
To view detailed results, visit:
https://lab.dpdk.org/results/dashboard/patchsets/10820/
UNH-IOL DPDK Community Lab
To manage your email subscriptions, visit:
https://lab.dpdk.org/results/dashboard/preferences/subscriptions/
^ permalink raw reply [flat|nested] 5+ messages in thread
* [dpdk-test-report] |SUCCESS| pw69599 [PATCH v2] l3fwd-power: add Rx interrupt timeout
[not found] <f98eb89eb043810e5b4c523a51408a2c053cf490.1588243784.git.anatoly.burakov@intel.com>
@ 2020-04-30 10:51 ` checkpatch
0 siblings, 0 replies; 5+ messages in thread
From: checkpatch @ 2020-04-30 10:51 UTC (permalink / raw)
To: test-report
Test-Label: checkpatch
Test-Status: SUCCESS
http://dpdk.org/patch/69599
_coding style OK_
^ permalink raw reply [flat|nested] 5+ messages in thread
end of thread, other threads:[~2020-05-02 14:43 UTC | newest]
Thread overview: 5+ messages (download: mbox.gz / follow: Atom feed)
-- links below jump to the message on this page --
2020-05-01 1:19 [dpdk-test-report] |SUCCESS| pw69599 [PATCH] [v2] l3fwd-power: add Rx interrupt timeout dpdklab
-- strict thread matches above, loose matches on Subject: below --
2020-05-02 14:43 dpdklab
2020-05-01 9:31 dpdklab
2020-05-01 1:12 dpdklab
[not found] <f98eb89eb043810e5b4c523a51408a2c053cf490.1588243784.git.anatoly.burakov@intel.com>
2020-04-30 10:51 ` [dpdk-test-report] |SUCCESS| pw69599 [PATCH v2] " checkpatch
This is a public inbox, see mirroring instructions
for how to clone and mirror all data and code used for this inbox;
as well as URLs for NNTP newsgroup(s).