* [dpdk-test-report] |SUCCESS| pw69897 [PATCH] net/bnxt: fix FW version get
@ 2020-05-07 4:17 dpdklab
0 siblings, 0 replies; 8+ messages in thread
From: dpdklab @ 2020-05-07 4:17 UTC (permalink / raw)
To: Test Report; +Cc: dpdk-test-reports
[-- Attachment #1: Type: text/plain, Size: 1260 bytes --]
Test-Label: iol-intel-Performance
Test-Status: SUCCESS
http://dpdk.org/patch/69897
_Performance Testing PASS_
Submitter: Ajit Khaparde <ajit.khaparde@broadcom.com>
Date: Thursday, May 07 2020 03:19:20
DPDK git baseline: Repo:dpdk
Branch: master
CommitID:0efc99bed3a0a78a02d55da02cedb5028dbcd6f1
69897 --> performance testing pass
Test environment and result as below:
Ubuntu 18.04
Kernel: 4.15.0-generic
Compiler: gcc 7.4
NIC: Intel Corporation Ethernet Converged Network Adapter 82599ES 10000 Mbps
Target: x86_64-native-linuxapp-gcc
Fail/Total: 0/2
Detail performance results:
+------------+---------+-------------------------------------+
| frame_size | txd/rxd | throughput difference from expected |
+============+=========+=====================================+
| 64 | 512 | -0.379 |
+------------+---------+-------------------------------------+
| 64 | 2048 | 0.137 |
+------------+---------+-------------------------------------+
To view detailed results, visit:
https://lab.dpdk.org/results/dashboard/patchsets/10954/
UNH-IOL DPDK Community Lab
To manage your email subscriptions, visit:
https://lab.dpdk.org/results/dashboard/preferences/subscriptions/
^ permalink raw reply [flat|nested] 8+ messages in thread
* [dpdk-test-report] |SUCCESS| pw69897 [PATCH] net/bnxt: fix FW version get
@ 2020-05-12 23:30 dpdklab
0 siblings, 0 replies; 8+ messages in thread
From: dpdklab @ 2020-05-12 23:30 UTC (permalink / raw)
To: Test Report; +Cc: dpdk-test-reports
[-- Attachment #1: Type: text/plain, Size: 2912 bytes --]
Test-Label: iol-testing
Test-Status: SUCCESS
http://dpdk.org/patch/69897
_Testing PASS_
Submitter: Ajit Khaparde <ajit.khaparde@broadcom.com>
Date: Thursday, May 07 2020 03:19:20
DPDK git baseline: Repo:dpdk
Branch: master
CommitID:0efc99bed3a0a78a02d55da02cedb5028dbcd6f1
69897 --> testing pass
Test environment and result as below:
+---------------------+-------------------+------------------+--------------+--------------------+----------------+
| Environment | dpdk_compile_spdk | dpdk_compile_ovs | dpdk_compile | dpdk_meson_compile | dpdk_unit_test |
+=====================+===================+==================+==============+====================+================+
| Ubuntu 18.04 | PASS | PASS | PASS | PASS | PASS |
+---------------------+-------------------+------------------+--------------+--------------------+----------------+
| FreeBSD 11.2 | PASS | SKIPPED | PASS | PASS | SKIPPED |
+---------------------+-------------------+------------------+--------------+--------------------+----------------+
| CentOS 8 | PASS | PASS | PASS | PASS | SKIPPED |
+---------------------+-------------------+------------------+--------------+--------------------+----------------+
| openSUSE Leap 15 | PASS | PASS | PASS | PASS | SKIPPED |
+---------------------+-------------------+------------------+--------------+--------------------+----------------+
| Fedora 31 | PASS | PASS | PASS | PASS | SKIPPED |
+---------------------+-------------------+------------------+--------------+--------------------+----------------+
| Arch Linux | SKIPPED | PASS | PASS | PASS | SKIPPED |
+---------------------+-------------------+------------------+--------------+--------------------+----------------+
| Windows Server 2019 | SKIPPED | SKIPPED | SKIPPED | PASS | SKIPPED |
+---------------------+-------------------+------------------+--------------+--------------------+----------------+
Ubuntu 18.04
Kernel: 4.15.0-generic
Compiler: gcc 7.4
FreeBSD 11.2
Kernel: 11.2
Compiler: gcc 8.3
CentOS 8
Kernel: 4.18.0.el8_0
Compiler: gcc 8.3.1
openSUSE Leap 15
Kernel: 4.12.14
Compiler: gcc 7.4.1
Fedora 31
Kernel: 5.3.16
Compiler: gcc 9.2.1
Arch Linux
Kernel: latest
Compiler: gcc latest
Windows Server 2019
Kernel: 10.0
Compiler: clang 9.0
To view detailed results, visit:
https://lab.dpdk.org/results/dashboard/patchsets/10954/
UNH-IOL DPDK Community Lab
To manage your email subscriptions, visit:
https://lab.dpdk.org/results/dashboard/preferences/subscriptions/
^ permalink raw reply [flat|nested] 8+ messages in thread
* [dpdk-test-report] |SUCCESS| pw69897 [PATCH] net/bnxt: fix FW version get
@ 2020-05-07 22:27 dpdklab
0 siblings, 0 replies; 8+ messages in thread
From: dpdklab @ 2020-05-07 22:27 UTC (permalink / raw)
To: Ali Alnubani, Test Report; +Cc: dpdk-test-reports
[-- Attachment #1: Type: text/plain, Size: 3967 bytes --]
Test-Label: iol-mellanox-Performance
Test-Status: SUCCESS
http://dpdk.org/patch/69897
_Performance Testing PASS_
Submitter: Ajit Khaparde <ajit.khaparde@broadcom.com>
Date: Thursday, May 07 2020 03:19:20
DPDK git baseline: Repo:dpdk
Branch: master
CommitID:0efc99bed3a0a78a02d55da02cedb5028dbcd6f1
69897 --> performance testing pass
Test environment and result as below:
Ubuntu 18.04
Kernel: 4.15.0-generic
Compiler: gcc 7.4
NIC: Mellanox ConnectX-5 100000 Mbps
Target: x86_64-native-linuxapp-gcc
Fail/Total: 0/6
Detail performance results:
+------------+---------+-------------------------------------+
| frame_size | txd/rxd | throughput difference from expected |
+============+=========+=====================================+
| 64 | 256 | 0.581 |
+------------+---------+-------------------------------------+
| 128 | 256 | 0.048 |
+------------+---------+-------------------------------------+
| 256 | 256 | -0.019 |
+------------+---------+-------------------------------------+
| 512 | 256 | 0.113 |
+------------+---------+-------------------------------------+
| 1024 | 256 | 0.055 |
+------------+---------+-------------------------------------+
| 1518 | 256 | 0.011 |
+------------+---------+-------------------------------------+
Ubuntu 18.04
Kernel: 4.15.0-generic
Compiler: gcc 7.4
NIC: Mellanox ConnectX-4 Lx 25000 Mbps
Target: x86_64-native-linuxapp-gcc
Fail/Total: 0/6
Detail performance results:
+------------+---------+-------------------------------------+
| frame_size | txd/rxd | throughput difference from expected |
+============+=========+=====================================+
| 64 | 256 | -0.261 |
+------------+---------+-------------------------------------+
| 128 | 256 | 0.220 |
+------------+---------+-------------------------------------+
| 256 | 256 | 0.177 |
+------------+---------+-------------------------------------+
| 512 | 256 | 0.010 |
+------------+---------+-------------------------------------+
| 1024 | 256 | -0.017 |
+------------+---------+-------------------------------------+
| 1518 | 256 | 0 |
+------------+---------+-------------------------------------+
Ubuntu 18.04
Kernel: 4.15.0-generic
Compiler: gcc 7.4
NIC: Mellanox ConnectX-4 Lx 40000 Mbps
Target: x86_64-native-linuxapp-gcc
Fail/Total: 0/6
Detail performance results:
+------------+---------+-------------------------------------+
| frame_size | txd/rxd | throughput difference from expected |
+============+=========+=====================================+
| 64 | 256 | 0.153 |
+------------+---------+-------------------------------------+
| 128 | 256 | -0.167 |
+------------+---------+-------------------------------------+
| 256 | 256 | -0.072 |
+------------+---------+-------------------------------------+
| 512 | 256 | -0.007 |
+------------+---------+-------------------------------------+
| 1024 | 256 | 0 |
+------------+---------+-------------------------------------+
| 1518 | 256 | 0.005 |
+------------+---------+-------------------------------------+
To view detailed results, visit:
https://lab.dpdk.org/results/dashboard/patchsets/10954/
UNH-IOL DPDK Community Lab
To manage your email subscriptions, visit:
https://lab.dpdk.org/results/dashboard/preferences/subscriptions/
^ permalink raw reply [flat|nested] 8+ messages in thread
* [dpdk-test-report] |SUCCESS| pw69897 [PATCH] net/bnxt: fix FW version get
@ 2020-05-07 21:31 dpdklab
0 siblings, 0 replies; 8+ messages in thread
From: dpdklab @ 2020-05-07 21:31 UTC (permalink / raw)
To: Ali Alnubani, Test Report; +Cc: dpdk-test-reports
[-- Attachment #1: Type: text/plain, Size: 3967 bytes --]
Test-Label: iol-mellanox-Performance
Test-Status: SUCCESS
http://dpdk.org/patch/69897
_Performance Testing PASS_
Submitter: Ajit Khaparde <ajit.khaparde@broadcom.com>
Date: Thursday, May 07 2020 03:19:20
DPDK git baseline: Repo:dpdk
Branch: master
CommitID:0efc99bed3a0a78a02d55da02cedb5028dbcd6f1
69897 --> performance testing pass
Test environment and result as below:
Ubuntu 18.04
Kernel: 4.15.0-generic
Compiler: gcc 7.4
NIC: Mellanox ConnectX-5 100000 Mbps
Target: x86_64-native-linuxapp-gcc
Fail/Total: 0/6
Detail performance results:
+------------+---------+-------------------------------------+
| frame_size | txd/rxd | throughput difference from expected |
+============+=========+=====================================+
| 64 | 256 | 0.438 |
+------------+---------+-------------------------------------+
| 128 | 256 | 0.190 |
+------------+---------+-------------------------------------+
| 256 | 256 | -0.084 |
+------------+---------+-------------------------------------+
| 512 | 256 | -0.275 |
+------------+---------+-------------------------------------+
| 1024 | 256 | 0.004 |
+------------+---------+-------------------------------------+
| 1518 | 256 | -0.003 |
+------------+---------+-------------------------------------+
Ubuntu 18.04
Kernel: 4.15.0-generic
Compiler: gcc 7.4
NIC: Mellanox ConnectX-4 Lx 25000 Mbps
Target: x86_64-native-linuxapp-gcc
Fail/Total: 0/6
Detail performance results:
+------------+---------+-------------------------------------+
| frame_size | txd/rxd | throughput difference from expected |
+============+=========+=====================================+
| 64 | 256 | -0.106 |
+------------+---------+-------------------------------------+
| 128 | 256 | 0.074 |
+------------+---------+-------------------------------------+
| 256 | 256 | 0.004 |
+------------+---------+-------------------------------------+
| 512 | 256 | 0.037 |
+------------+---------+-------------------------------------+
| 1024 | 256 | -0.007 |
+------------+---------+-------------------------------------+
| 1518 | 256 | -0.001 |
+------------+---------+-------------------------------------+
Ubuntu 18.04
Kernel: 4.15.0-generic
Compiler: gcc 7.4
NIC: Mellanox ConnectX-4 Lx 40000 Mbps
Target: x86_64-native-linuxapp-gcc
Fail/Total: 0/6
Detail performance results:
+------------+---------+-------------------------------------+
| frame_size | txd/rxd | throughput difference from expected |
+============+=========+=====================================+
| 64 | 256 | -0.262 |
+------------+---------+-------------------------------------+
| 128 | 256 | -0.049 |
+------------+---------+-------------------------------------+
| 256 | 256 | -0.075 |
+------------+---------+-------------------------------------+
| 512 | 256 | -0.002 |
+------------+---------+-------------------------------------+
| 1024 | 256 | -0.001 |
+------------+---------+-------------------------------------+
| 1518 | 256 | 0.010 |
+------------+---------+-------------------------------------+
To view detailed results, visit:
https://lab.dpdk.org/results/dashboard/patchsets/10954/
UNH-IOL DPDK Community Lab
To manage your email subscriptions, visit:
https://lab.dpdk.org/results/dashboard/preferences/subscriptions/
^ permalink raw reply [flat|nested] 8+ messages in thread
* [dpdk-test-report] |SUCCESS| pw69897 [PATCH] net/bnxt: fix FW version get
@ 2020-05-07 9:48 dpdklab
0 siblings, 0 replies; 8+ messages in thread
From: dpdklab @ 2020-05-07 9:48 UTC (permalink / raw)
To: Ruoshan Shi, Test Report; +Cc: dpdk-test-reports
[-- Attachment #1: Type: text/plain, Size: 1205 bytes --]
Test-Label: iol-nxp-Performance
Test-Status: SUCCESS
http://dpdk.org/patch/69897
_Performance Testing PASS_
Submitter: Ajit Khaparde <ajit.khaparde@broadcom.com>
Date: Thursday, May 07 2020 03:19:20
DPDK git baseline: Repo:dpdk
Branch: master
CommitID:0efc99bed3a0a78a02d55da02cedb5028dbcd6f1
69897 --> performance testing pass
Test environment and result as below:
Ubuntu 18.04
Kernel: 4.14.122
Compiler: gcc 7.3.0
NIC: NXP LS2088A 10000 Mbps
Target: x86_64-native-linuxapp-gcc
Fail/Total: 0/2
Detail performance results:
+------------+---------+-------------------------------------+
| frame_size | txd/rxd | throughput difference from expected |
+============+=========+=====================================+
| 64 | 512 | 0.003 |
+------------+---------+-------------------------------------+
| 64 | 2048 | 0.045 |
+------------+---------+-------------------------------------+
To view detailed results, visit:
https://lab.dpdk.org/results/dashboard/patchsets/10954/
UNH-IOL DPDK Community Lab
To manage your email subscriptions, visit:
https://lab.dpdk.org/results/dashboard/preferences/subscriptions/
^ permalink raw reply [flat|nested] 8+ messages in thread
* [dpdk-test-report] |SUCCESS| pw69897 [PATCH] net/bnxt: fix FW version get
@ 2020-05-07 9:12 dpdklab
0 siblings, 0 replies; 8+ messages in thread
From: dpdklab @ 2020-05-07 9:12 UTC (permalink / raw)
To: Ruoshan Shi, Test Report; +Cc: dpdk-test-reports
[-- Attachment #1: Type: text/plain, Size: 1205 bytes --]
Test-Label: iol-nxp-Performance
Test-Status: SUCCESS
http://dpdk.org/patch/69897
_Performance Testing PASS_
Submitter: Ajit Khaparde <ajit.khaparde@broadcom.com>
Date: Thursday, May 07 2020 03:19:20
DPDK git baseline: Repo:dpdk
Branch: master
CommitID:0efc99bed3a0a78a02d55da02cedb5028dbcd6f1
69897 --> performance testing pass
Test environment and result as below:
Ubuntu 18.04
Kernel: 4.14.122
Compiler: gcc 7.3.0
NIC: NXP LS2088A 10000 Mbps
Target: x86_64-native-linuxapp-gcc
Fail/Total: 0/2
Detail performance results:
+------------+---------+-------------------------------------+
| frame_size | txd/rxd | throughput difference from expected |
+============+=========+=====================================+
| 64 | 512 | -0.082 |
+------------+---------+-------------------------------------+
| 64 | 2048 | 0.008 |
+------------+---------+-------------------------------------+
To view detailed results, visit:
https://lab.dpdk.org/results/dashboard/patchsets/10954/
UNH-IOL DPDK Community Lab
To manage your email subscriptions, visit:
https://lab.dpdk.org/results/dashboard/preferences/subscriptions/
^ permalink raw reply [flat|nested] 8+ messages in thread
* [dpdk-test-report] |SUCCESS| pw69897 [PATCH] net/bnxt: fix FW version get
@ 2020-05-07 4:31 dpdklab
0 siblings, 0 replies; 8+ messages in thread
From: dpdklab @ 2020-05-07 4:31 UTC (permalink / raw)
To: Test Report; +Cc: dpdk-test-reports
[-- Attachment #1: Type: text/plain, Size: 1260 bytes --]
Test-Label: iol-intel-Performance
Test-Status: SUCCESS
http://dpdk.org/patch/69897
_Performance Testing PASS_
Submitter: Ajit Khaparde <ajit.khaparde@broadcom.com>
Date: Thursday, May 07 2020 03:19:20
DPDK git baseline: Repo:dpdk
Branch: master
CommitID:0efc99bed3a0a78a02d55da02cedb5028dbcd6f1
69897 --> performance testing pass
Test environment and result as below:
Ubuntu 18.04
Kernel: 4.15.0-generic
Compiler: gcc 7.4
NIC: Intel Corporation Ethernet Converged Network Adapter 82599ES 10000 Mbps
Target: x86_64-native-linuxapp-gcc
Fail/Total: 0/2
Detail performance results:
+------------+---------+-------------------------------------+
| frame_size | txd/rxd | throughput difference from expected |
+============+=========+=====================================+
| 64 | 512 | -0.180 |
+------------+---------+-------------------------------------+
| 64 | 2048 | 0.110 |
+------------+---------+-------------------------------------+
To view detailed results, visit:
https://lab.dpdk.org/results/dashboard/patchsets/10954/
UNH-IOL DPDK Community Lab
To manage your email subscriptions, visit:
https://lab.dpdk.org/results/dashboard/preferences/subscriptions/
^ permalink raw reply [flat|nested] 8+ messages in thread
* [dpdk-test-report] |SUCCESS| pw69897 [PATCH] net/bnxt: fix FW version get
[not found] <20200507031920.47841-1-ajit.khaparde@broadcom.com>
@ 2020-05-07 3:21 ` checkpatch
0 siblings, 0 replies; 8+ messages in thread
From: checkpatch @ 2020-05-07 3:21 UTC (permalink / raw)
To: test-report
Test-Label: checkpatch
Test-Status: SUCCESS
http://dpdk.org/patch/69897
_coding style OK_
^ permalink raw reply [flat|nested] 8+ messages in thread
end of thread, other threads:[~2020-05-12 23:30 UTC | newest]
Thread overview: 8+ messages (download: mbox.gz / follow: Atom feed)
-- links below jump to the message on this page --
2020-05-07 4:17 [dpdk-test-report] |SUCCESS| pw69897 [PATCH] net/bnxt: fix FW version get dpdklab
-- strict thread matches above, loose matches on Subject: below --
2020-05-12 23:30 dpdklab
2020-05-07 22:27 dpdklab
2020-05-07 21:31 dpdklab
2020-05-07 9:48 dpdklab
2020-05-07 9:12 dpdklab
2020-05-07 4:31 dpdklab
[not found] <20200507031920.47841-1-ajit.khaparde@broadcom.com>
2020-05-07 3:21 ` checkpatch
This is a public inbox, see mirroring instructions
for how to clone and mirror all data and code used for this inbox;
as well as URLs for NNTP newsgroup(s).