* [dpdk-test-report] |SUCCESS| pw69891 [PATCH] net/ice/base: fix pppoe-ipv6 dummy packet error
@ 2020-05-12 22:23 dpdklab
0 siblings, 0 replies; 5+ messages in thread
From: dpdklab @ 2020-05-12 22:23 UTC (permalink / raw)
To: Test Report; +Cc: dpdk-test-reports
[-- Attachment #1: Type: text/plain, Size: 2902 bytes --]
Test-Label: iol-testing
Test-Status: SUCCESS
http://dpdk.org/patch/69891
_Testing PASS_
Submitter: Zhao1, Wei <wei.zhao1@intel.com>
Date: Thursday, May 07 2020 01:15:41
DPDK git baseline: Repo:dpdk
Branch: master
CommitID:0efc99bed3a0a78a02d55da02cedb5028dbcd6f1
69891 --> testing pass
Test environment and result as below:
+---------------------+-------------------+--------------+--------------------+------------------+----------------+
| Environment | dpdk_compile_spdk | dpdk_compile | dpdk_meson_compile | dpdk_compile_ovs | dpdk_unit_test |
+=====================+===================+==============+====================+==================+================+
| Ubuntu 18.04 | PASS | PASS | PASS | PASS | PASS |
+---------------------+-------------------+--------------+--------------------+------------------+----------------+
| FreeBSD 11.2 | PASS | PASS | PASS | SKIPPED | SKIPPED |
+---------------------+-------------------+--------------+--------------------+------------------+----------------+
| CentOS 8 | PASS | PASS | PASS | PASS | SKIPPED |
+---------------------+-------------------+--------------+--------------------+------------------+----------------+
| Fedora 31 | PASS | PASS | PASS | PASS | SKIPPED |
+---------------------+-------------------+--------------+--------------------+------------------+----------------+
| openSUSE Leap 15 | PASS | PASS | PASS | PASS | SKIPPED |
+---------------------+-------------------+--------------+--------------------+------------------+----------------+
| Arch Linux | SKIPPED | PASS | PASS | PASS | SKIPPED |
+---------------------+-------------------+--------------+--------------------+------------------+----------------+
| Windows Server 2019 | SKIPPED | SKIPPED | PASS | SKIPPED | SKIPPED |
+---------------------+-------------------+--------------+--------------------+------------------+----------------+
Ubuntu 18.04
Kernel: 4.15.0-generic
Compiler: gcc 7.4
FreeBSD 11.2
Kernel: 11.2
Compiler: gcc 8.3
CentOS 8
Kernel: 4.18.0.el8_0
Compiler: gcc 8.3.1
Fedora 31
Kernel: 5.3.16
Compiler: gcc 9.2.1
openSUSE Leap 15
Kernel: 4.12.14
Compiler: gcc 7.4.1
Arch Linux
Kernel: latest
Compiler: gcc latest
Windows Server 2019
Kernel: 10.0
Compiler: clang 9.0
To view detailed results, visit:
https://lab.dpdk.org/results/dashboard/patchsets/10950/
UNH-IOL DPDK Community Lab
To manage your email subscriptions, visit:
https://lab.dpdk.org/results/dashboard/preferences/subscriptions/
^ permalink raw reply [flat|nested] 5+ messages in thread
* [dpdk-test-report] |SUCCESS| pw69891 [PATCH] net/ice/base: fix pppoe-ipv6 dummy packet error
@ 2020-05-07 18:41 dpdklab
0 siblings, 0 replies; 5+ messages in thread
From: dpdklab @ 2020-05-07 18:41 UTC (permalink / raw)
To: Ali Alnubani, Test Report; +Cc: dpdk-test-reports
[-- Attachment #1: Type: text/plain, Size: 3955 bytes --]
Test-Label: iol-mellanox-Performance
Test-Status: SUCCESS
http://dpdk.org/patch/69891
_Performance Testing PASS_
Submitter: Wei Zhao <wei.zhao1@intel.com>
Date: Thursday, May 07 2020 01:15:41
DPDK git baseline: Repo:dpdk
Branch: master
CommitID:0efc99bed3a0a78a02d55da02cedb5028dbcd6f1
69891 --> performance testing pass
Test environment and result as below:
Ubuntu 18.04
Kernel: 4.15.0-generic
Compiler: gcc 7.4
NIC: Mellanox ConnectX-5 100000 Mbps
Target: x86_64-native-linuxapp-gcc
Fail/Total: 0/6
Detail performance results:
+------------+---------+-------------------------------------+
| frame_size | txd/rxd | throughput difference from expected |
+============+=========+=====================================+
| 64 | 256 | 0.570 |
+------------+---------+-------------------------------------+
| 128 | 256 | 0.091 |
+------------+---------+-------------------------------------+
| 256 | 256 | -0.124 |
+------------+---------+-------------------------------------+
| 512 | 256 | 0.202 |
+------------+---------+-------------------------------------+
| 1024 | 256 | 0.095 |
+------------+---------+-------------------------------------+
| 1518 | 256 | -0.027 |
+------------+---------+-------------------------------------+
Ubuntu 18.04
Kernel: 4.15.0-generic
Compiler: gcc 7.4
NIC: Mellanox ConnectX-4 Lx 25000 Mbps
Target: x86_64-native-linuxapp-gcc
Fail/Total: 0/6
Detail performance results:
+------------+---------+-------------------------------------+
| frame_size | txd/rxd | throughput difference from expected |
+============+=========+=====================================+
| 64 | 256 | -0.211 |
+------------+---------+-------------------------------------+
| 128 | 256 | 0.062 |
+------------+---------+-------------------------------------+
| 256 | 256 | 0.169 |
+------------+---------+-------------------------------------+
| 512 | 256 | 0.017 |
+------------+---------+-------------------------------------+
| 1024 | 256 | -0.002 |
+------------+---------+-------------------------------------+
| 1518 | 256 | -0.002 |
+------------+---------+-------------------------------------+
Ubuntu 18.04
Kernel: 4.15.0-generic
Compiler: gcc 7.4
NIC: Mellanox ConnectX-4 Lx 40000 Mbps
Target: x86_64-native-linuxapp-gcc
Fail/Total: 0/6
Detail performance results:
+------------+---------+-------------------------------------+
| frame_size | txd/rxd | throughput difference from expected |
+============+=========+=====================================+
| 64 | 256 | 0.241 |
+------------+---------+-------------------------------------+
| 128 | 256 | -0.151 |
+------------+---------+-------------------------------------+
| 256 | 256 | -0.106 |
+------------+---------+-------------------------------------+
| 512 | 256 | -0.005 |
+------------+---------+-------------------------------------+
| 1024 | 256 | 0.001 |
+------------+---------+-------------------------------------+
| 1518 | 256 | -0.001 |
+------------+---------+-------------------------------------+
To view detailed results, visit:
https://lab.dpdk.org/results/dashboard/patchsets/10950/
UNH-IOL DPDK Community Lab
To manage your email subscriptions, visit:
https://lab.dpdk.org/results/dashboard/preferences/subscriptions/
^ permalink raw reply [flat|nested] 5+ messages in thread
* [dpdk-test-report] |SUCCESS| pw69891 [PATCH] net/ice/base: fix pppoe-ipv6 dummy packet error
@ 2020-05-07 7:22 dpdklab
0 siblings, 0 replies; 5+ messages in thread
From: dpdklab @ 2020-05-07 7:22 UTC (permalink / raw)
To: Ruoshan Shi, Test Report; +Cc: dpdk-test-reports
[-- Attachment #1: Type: text/plain, Size: 1193 bytes --]
Test-Label: iol-nxp-Performance
Test-Status: SUCCESS
http://dpdk.org/patch/69891
_Performance Testing PASS_
Submitter: Wei Zhao <wei.zhao1@intel.com>
Date: Thursday, May 07 2020 01:15:41
DPDK git baseline: Repo:dpdk
Branch: master
CommitID:0efc99bed3a0a78a02d55da02cedb5028dbcd6f1
69891 --> performance testing pass
Test environment and result as below:
Ubuntu 18.04
Kernel: 4.14.122
Compiler: gcc 7.3.0
NIC: NXP LS2088A 10000 Mbps
Target: x86_64-native-linuxapp-gcc
Fail/Total: 0/2
Detail performance results:
+------------+---------+-------------------------------------+
| frame_size | txd/rxd | throughput difference from expected |
+============+=========+=====================================+
| 64 | 512 | -0.054 |
+------------+---------+-------------------------------------+
| 64 | 2048 | -0.022 |
+------------+---------+-------------------------------------+
To view detailed results, visit:
https://lab.dpdk.org/results/dashboard/patchsets/10950/
UNH-IOL DPDK Community Lab
To manage your email subscriptions, visit:
https://lab.dpdk.org/results/dashboard/preferences/subscriptions/
^ permalink raw reply [flat|nested] 5+ messages in thread
* [dpdk-test-report] |SUCCESS| pw69891 [PATCH] net/ice/base: fix pppoe-ipv6 dummy packet error
@ 2020-05-07 2:26 dpdklab
0 siblings, 0 replies; 5+ messages in thread
From: dpdklab @ 2020-05-07 2:26 UTC (permalink / raw)
To: Test Report; +Cc: dpdk-test-reports
[-- Attachment #1: Type: text/plain, Size: 1248 bytes --]
Test-Label: iol-intel-Performance
Test-Status: SUCCESS
http://dpdk.org/patch/69891
_Performance Testing PASS_
Submitter: Wei Zhao <wei.zhao1@intel.com>
Date: Thursday, May 07 2020 01:15:41
DPDK git baseline: Repo:dpdk
Branch: master
CommitID:0efc99bed3a0a78a02d55da02cedb5028dbcd6f1
69891 --> performance testing pass
Test environment and result as below:
Ubuntu 18.04
Kernel: 4.15.0-generic
Compiler: gcc 7.4
NIC: Intel Corporation Ethernet Converged Network Adapter 82599ES 10000 Mbps
Target: x86_64-native-linuxapp-gcc
Fail/Total: 0/2
Detail performance results:
+------------+---------+-------------------------------------+
| frame_size | txd/rxd | throughput difference from expected |
+============+=========+=====================================+
| 64 | 512 | 0.022 |
+------------+---------+-------------------------------------+
| 64 | 2048 | 0.091 |
+------------+---------+-------------------------------------+
To view detailed results, visit:
https://lab.dpdk.org/results/dashboard/patchsets/10950/
UNH-IOL DPDK Community Lab
To manage your email subscriptions, visit:
https://lab.dpdk.org/results/dashboard/preferences/subscriptions/
^ permalink raw reply [flat|nested] 5+ messages in thread
* [dpdk-test-report] |SUCCESS| pw69891 [PATCH] net/ice/base: fix pppoe-ipv6 dummy packet error
[not found] <20200507011541.66624-1-wei.zhao1@intel.com>
@ 2020-05-07 1:39 ` checkpatch
0 siblings, 0 replies; 5+ messages in thread
From: checkpatch @ 2020-05-07 1:39 UTC (permalink / raw)
To: test-report
Test-Label: checkpatch
Test-Status: SUCCESS
http://dpdk.org/patch/69891
_coding style OK_
^ permalink raw reply [flat|nested] 5+ messages in thread
end of thread, other threads:[~2020-05-12 22:23 UTC | newest]
Thread overview: 5+ messages (download: mbox.gz / follow: Atom feed)
-- links below jump to the message on this page --
2020-05-12 22:23 [dpdk-test-report] |SUCCESS| pw69891 [PATCH] net/ice/base: fix pppoe-ipv6 dummy packet error dpdklab
-- strict thread matches above, loose matches on Subject: below --
2020-05-07 18:41 dpdklab
2020-05-07 7:22 dpdklab
2020-05-07 2:26 dpdklab
[not found] <20200507011541.66624-1-wei.zhao1@intel.com>
2020-05-07 1:39 ` checkpatch
This is a public inbox, see mirroring instructions
for how to clone and mirror all data and code used for this inbox;
as well as URLs for NNTP newsgroup(s).