automatic DPDK test reports
 help / color / mirror / Atom feed
* [dpdk-test-report] |SUCCESS| [GIT MASTER] 5178fd95d067d3e55c00c0d0841a46d512019bc7
@ 2020-06-05 19:11 dpdklab
  0 siblings, 0 replies; 7+ messages in thread
From: dpdklab @ 2020-06-05 19:11 UTC (permalink / raw)
  To: Ali Alnubani, Test Report; +Cc: dpdk-test-reports

[-- Attachment #1: Type: text/plain, Size: 3745 bytes --]

_Performance Testing PASS_

Branch: dpdk-next-net

5178fd95d067d3e55c00c0d0841a46d512019bc7 --> performance testing pass

Test environment and result as below:

Ubuntu 18.04
Kernel: 4.15.0-generic
Compiler: gcc 7.4
NIC: Mellanox ConnectX-5 100000 Mbps
Target: x86_64-native-linuxapp-gcc
Fail/Total: 0/6

Detail performance results: 
+------------+---------+-------------------------------------+
| frame_size | txd/rxd | throughput difference from expected |
+============+=========+=====================================+
| 64         | 256     | 1.444                               |
+------------+---------+-------------------------------------+
| 128        | 256     | 0.790                               |
+------------+---------+-------------------------------------+
| 256        | 256     | 0.415                               |
+------------+---------+-------------------------------------+
| 512        | 256     | -0.025                              |
+------------+---------+-------------------------------------+
| 1024       | 256     | -0.023                              |
+------------+---------+-------------------------------------+
| 1518       | 256     | 0.030                               |
+------------+---------+-------------------------------------+

Ubuntu 18.04
Kernel: 4.15.0-generic
Compiler: gcc 7.4
NIC: Mellanox ConnectX-4 Lx 25000 Mbps
Target: x86_64-native-linuxapp-gcc
Fail/Total: 0/6

Detail performance results: 
+------------+---------+-------------------------------------+
| frame_size | txd/rxd | throughput difference from expected |
+============+=========+=====================================+
| 64         | 256     | -0.265                              |
+------------+---------+-------------------------------------+
| 128        | 256     | 0.602                               |
+------------+---------+-------------------------------------+
| 256        | 256     | -0.001                              |
+------------+---------+-------------------------------------+
| 512        | 256     | 0                                   |
+------------+---------+-------------------------------------+
| 1024       | 256     | 0.002                               |
+------------+---------+-------------------------------------+
| 1518       | 256     | -0.003                              |
+------------+---------+-------------------------------------+

Ubuntu 18.04
Kernel: 4.15.0-generic
Compiler: gcc 7.4
NIC: Mellanox ConnectX-4 Lx 40000 Mbps
Target: x86_64-native-linuxapp-gcc
Fail/Total: 0/6

Detail performance results: 
+------------+---------+-------------------------------------+
| frame_size | txd/rxd | throughput difference from expected |
+============+=========+=====================================+
| 64         | 256     | -0.777                              |
+------------+---------+-------------------------------------+
| 128        | 256     | -0.665                              |
+------------+---------+-------------------------------------+
| 256        | 256     | 0.202                               |
+------------+---------+-------------------------------------+
| 512        | 256     | -0.006                              |
+------------+---------+-------------------------------------+
| 1024       | 256     | -0.004                              |
+------------+---------+-------------------------------------+
| 1518       | 256     | 0.008                               |
+------------+---------+-------------------------------------+

To view detailed results, visit:
https://lab.dpdk.org/results/dashboard/tarballs/9850/

UNH-IOL DPDK Community Lab

To manage your email subscriptions, visit: 
https://lab.dpdk.org/results/dashboard/preferences/subscriptions/

^ permalink raw reply	[flat|nested] 7+ messages in thread

* [dpdk-test-report] |SUCCESS| [GIT MASTER] 5178fd95d067d3e55c00c0d0841a46d512019bc7
@ 2020-06-09  1:30 dpdklab
  0 siblings, 0 replies; 7+ messages in thread
From: dpdklab @ 2020-06-09  1:30 UTC (permalink / raw)
  To: Test Report; +Cc: dpdk-test-reports

[-- Attachment #1: Type: text/plain, Size: 2708 bytes --]

_Testing PASS_

Branch: dpdk-next-net-brcm

5178fd95d067d3e55c00c0d0841a46d512019bc7 --> testing pass

Test environment and result as below:

+---------------------+--------------------+-------------------+----------------+------------------+--------------+
|     Environment     | dpdk_meson_compile | dpdk_compile_spdk | dpdk_unit_test | dpdk_compile_ovs | dpdk_compile |
+=====================+====================+===================+================+==================+==============+
| Windows Server 2019 | PASS               | SKIPPED           | SKIPPED        | SKIPPED          | SKIPPED      |
+---------------------+--------------------+-------------------+----------------+------------------+--------------+
| Ubuntu 18.04        | PASS               | PASS              | PASS           | PASS             | PASS         |
+---------------------+--------------------+-------------------+----------------+------------------+--------------+
| CentOS 8            | PASS               | PASS              | SKIPPED        | PASS             | PASS         |
+---------------------+--------------------+-------------------+----------------+------------------+--------------+
| Fedora 31           | PASS               | PASS              | SKIPPED        | PASS             | PASS         |
+---------------------+--------------------+-------------------+----------------+------------------+--------------+
| openSUSE Leap 15    | PASS               | PASS              | SKIPPED        | PASS             | PASS         |
+---------------------+--------------------+-------------------+----------------+------------------+--------------+
| Arch Linux          | PASS               | SKIPPED           | SKIPPED        | PASS             | PASS         |
+---------------------+--------------------+-------------------+----------------+------------------+--------------+
| FreeBSD 11.2        | PASS               | PASS              | SKIPPED        | SKIPPED          | PASS         |
+---------------------+--------------------+-------------------+----------------+------------------+--------------+

Windows Server 2019
	Kernel: 10.0
	Compiler: clang 9.0

Ubuntu 18.04
	Kernel: 4.15.0-generic
	Compiler: gcc 7.4

CentOS 8
	Kernel: 4.18.0.el8_0
	Compiler: gcc 8.3.1

Fedora 31
	Kernel: 5.3.16
	Compiler: gcc 9.2.1

openSUSE Leap 15
	Kernel: 4.12.14
	Compiler: gcc 7.4.1

Arch Linux
	Kernel: latest
	Compiler: gcc latest

FreeBSD 11.2
	Kernel: 11.2
	Compiler: gcc 8.3

To view detailed results, visit:
https://lab.dpdk.org/results/dashboard/tarballs/9874/

UNH-IOL DPDK Community Lab

To manage your email subscriptions, visit: 
https://lab.dpdk.org/results/dashboard/preferences/subscriptions/

^ permalink raw reply	[flat|nested] 7+ messages in thread

* [dpdk-test-report] |SUCCESS| [GIT MASTER] 5178fd95d067d3e55c00c0d0841a46d512019bc7
@ 2020-06-08 23:03 dpdklab
  0 siblings, 0 replies; 7+ messages in thread
From: dpdklab @ 2020-06-08 23:03 UTC (permalink / raw)
  To: Ali Alnubani, Test Report; +Cc: dpdk-test-reports

[-- Attachment #1: Type: text/plain, Size: 3750 bytes --]

_Performance Testing PASS_

Branch: dpdk-next-net-brcm

5178fd95d067d3e55c00c0d0841a46d512019bc7 --> performance testing pass

Test environment and result as below:

Ubuntu 18.04
Kernel: 4.15.0-generic
Compiler: gcc 7.4
NIC: Mellanox ConnectX-5 100000 Mbps
Target: x86_64-native-linuxapp-gcc
Fail/Total: 0/6

Detail performance results: 
+------------+---------+-------------------------------------+
| frame_size | txd/rxd | throughput difference from expected |
+============+=========+=====================================+
| 64         | 256     | 1.705                               |
+------------+---------+-------------------------------------+
| 128        | 256     | 0.734                               |
+------------+---------+-------------------------------------+
| 256        | 256     | 0.376                               |
+------------+---------+-------------------------------------+
| 512        | 256     | 0.058                               |
+------------+---------+-------------------------------------+
| 1024       | 256     | 0.008                               |
+------------+---------+-------------------------------------+
| 1518       | 256     | 0.002                               |
+------------+---------+-------------------------------------+

Ubuntu 18.04
Kernel: 4.15.0-generic
Compiler: gcc 7.4
NIC: Mellanox ConnectX-4 Lx 25000 Mbps
Target: x86_64-native-linuxapp-gcc
Fail/Total: 0/6

Detail performance results: 
+------------+---------+-------------------------------------+
| frame_size | txd/rxd | throughput difference from expected |
+============+=========+=====================================+
| 64         | 256     | 0.229                               |
+------------+---------+-------------------------------------+
| 128        | 256     | -0.129                              |
+------------+---------+-------------------------------------+
| 256        | 256     | 0.007                               |
+------------+---------+-------------------------------------+
| 512        | 256     | -0.002                              |
+------------+---------+-------------------------------------+
| 1024       | 256     | -0.013                              |
+------------+---------+-------------------------------------+
| 1518       | 256     | -0.004                              |
+------------+---------+-------------------------------------+

Ubuntu 18.04
Kernel: 4.15.0-generic
Compiler: gcc 7.4
NIC: Mellanox ConnectX-4 Lx 40000 Mbps
Target: x86_64-native-linuxapp-gcc
Fail/Total: 0/6

Detail performance results: 
+------------+---------+-------------------------------------+
| frame_size | txd/rxd | throughput difference from expected |
+============+=========+=====================================+
| 64         | 256     | -0.633                              |
+------------+---------+-------------------------------------+
| 128        | 256     | 0.713                               |
+------------+---------+-------------------------------------+
| 256        | 256     | 0.291                               |
+------------+---------+-------------------------------------+
| 512        | 256     | -0.008                              |
+------------+---------+-------------------------------------+
| 1024       | 256     | 0                                   |
+------------+---------+-------------------------------------+
| 1518       | 256     | 0.001                               |
+------------+---------+-------------------------------------+

To view detailed results, visit:
https://lab.dpdk.org/results/dashboard/tarballs/9874/

UNH-IOL DPDK Community Lab

To manage your email subscriptions, visit: 
https://lab.dpdk.org/results/dashboard/preferences/subscriptions/

^ permalink raw reply	[flat|nested] 7+ messages in thread

* [dpdk-test-report] |SUCCESS| [GIT MASTER] 5178fd95d067d3e55c00c0d0841a46d512019bc7
@ 2020-06-08 19:53 dpdklab
  0 siblings, 0 replies; 7+ messages in thread
From: dpdklab @ 2020-06-08 19:53 UTC (permalink / raw)
  To: Ruoshan Shi, Test Report; +Cc: dpdk-test-reports

[-- Attachment #1: Type: text/plain, Size: 993 bytes --]

_Performance Testing PASS_

Branch: dpdk-next-net-brcm

5178fd95d067d3e55c00c0d0841a46d512019bc7 --> performance testing pass

Test environment and result as below:

Ubuntu 18.04
Kernel: 4.14.122
Compiler: gcc 7.3.0
NIC: NXP LS2088A 10000 Mbps
Target: x86_64-native-linuxapp-gcc
Fail/Total: 0/2

Detail performance results: 
+------------+---------+-------------------------------------+
| frame_size | txd/rxd | throughput difference from expected |
+============+=========+=====================================+
| 64         | 512     | -0.365                              |
+------------+---------+-------------------------------------+
| 64         | 2048    | -0.005                              |
+------------+---------+-------------------------------------+

To view detailed results, visit:
https://lab.dpdk.org/results/dashboard/tarballs/9874/

UNH-IOL DPDK Community Lab

To manage your email subscriptions, visit: 
https://lab.dpdk.org/results/dashboard/preferences/subscriptions/

^ permalink raw reply	[flat|nested] 7+ messages in thread

* [dpdk-test-report] |SUCCESS| [GIT MASTER] 5178fd95d067d3e55c00c0d0841a46d512019bc7
@ 2020-06-08 19:50 dpdklab
  0 siblings, 0 replies; 7+ messages in thread
From: dpdklab @ 2020-06-08 19:50 UTC (permalink / raw)
  To: Test Report; +Cc: dpdk-test-reports

[-- Attachment #1: Type: text/plain, Size: 1703 bytes --]

_Performance Testing PASS_

Branch: dpdk-next-net-brcm

5178fd95d067d3e55c00c0d0841a46d512019bc7 --> performance testing pass

Test environment and result as below:

Ubuntu 18.04
Kernel: 4.15.0-generic
Compiler: gcc 7.4
NIC: Intel Corporation Ethernet Converged Network Adapter XL710-QDA2 40000 Mbps
Target: x86_64-native-linuxapp-gcc
Fail/Total: 0/2

Detail performance results: 
+------------+---------+-------------------------------------+
| frame_size | txd/rxd | throughput difference from expected |
+============+=========+=====================================+
| 64         | 512     | 4.847                               |
+------------+---------+-------------------------------------+
| 64         | 2048    | 2.986                               |
+------------+---------+-------------------------------------+

Ubuntu 18.04
Kernel: 4.15.0-generic
Compiler: gcc 7.4
NIC: Intel Corporation Ethernet Converged Network Adapter 82599ES 10000 Mbps
Target: x86_64-native-linuxapp-gcc
Fail/Total: 0/2

Detail performance results: 
+------------+---------+-------------------------------------+
| frame_size | txd/rxd | throughput difference from expected |
+============+=========+=====================================+
| 64         | 512     | 2.793                               |
+------------+---------+-------------------------------------+
| 64         | 2048    | 0.879                               |
+------------+---------+-------------------------------------+

To view detailed results, visit:
https://lab.dpdk.org/results/dashboard/tarballs/9874/

UNH-IOL DPDK Community Lab

To manage your email subscriptions, visit: 
https://lab.dpdk.org/results/dashboard/preferences/subscriptions/

^ permalink raw reply	[flat|nested] 7+ messages in thread

* [dpdk-test-report] |SUCCESS| [GIT MASTER] 5178fd95d067d3e55c00c0d0841a46d512019bc7
@ 2020-06-05 18:51 dpdklab
  0 siblings, 0 replies; 7+ messages in thread
From: dpdklab @ 2020-06-05 18:51 UTC (permalink / raw)
  To: Ruoshan Shi, Test Report; +Cc: dpdk-test-reports

[-- Attachment #1: Type: text/plain, Size: 988 bytes --]

_Performance Testing PASS_

Branch: dpdk-next-net

5178fd95d067d3e55c00c0d0841a46d512019bc7 --> performance testing pass

Test environment and result as below:

Ubuntu 18.04
Kernel: 4.14.122
Compiler: gcc 7.3.0
NIC: NXP LS2088A 10000 Mbps
Target: x86_64-native-linuxapp-gcc
Fail/Total: 0/2

Detail performance results: 
+------------+---------+-------------------------------------+
| frame_size | txd/rxd | throughput difference from expected |
+============+=========+=====================================+
| 64         | 512     | 0.183                               |
+------------+---------+-------------------------------------+
| 64         | 2048    | 0                                   |
+------------+---------+-------------------------------------+

To view detailed results, visit:
https://lab.dpdk.org/results/dashboard/tarballs/9850/

UNH-IOL DPDK Community Lab

To manage your email subscriptions, visit: 
https://lab.dpdk.org/results/dashboard/preferences/subscriptions/

^ permalink raw reply	[flat|nested] 7+ messages in thread

* [dpdk-test-report] |SUCCESS| [GIT MASTER] 5178fd95d067d3e55c00c0d0841a46d512019bc7
@ 2020-06-05 18:46 dpdklab
  0 siblings, 0 replies; 7+ messages in thread
From: dpdklab @ 2020-06-05 18:46 UTC (permalink / raw)
  To: Test Report; +Cc: dpdk-test-reports

[-- Attachment #1: Type: text/plain, Size: 1698 bytes --]

_Performance Testing PASS_

Branch: dpdk-next-net

5178fd95d067d3e55c00c0d0841a46d512019bc7 --> performance testing pass

Test environment and result as below:

Ubuntu 18.04
Kernel: 4.15.0-generic
Compiler: gcc 7.4
NIC: Intel Corporation Ethernet Converged Network Adapter XL710-QDA2 40000 Mbps
Target: x86_64-native-linuxapp-gcc
Fail/Total: 0/2

Detail performance results: 
+------------+---------+-------------------------------------+
| frame_size | txd/rxd | throughput difference from expected |
+============+=========+=====================================+
| 64         | 512     | 4.962                               |
+------------+---------+-------------------------------------+
| 64         | 2048    | 2.752                               |
+------------+---------+-------------------------------------+

Ubuntu 18.04
Kernel: 4.15.0-generic
Compiler: gcc 7.4
NIC: Intel Corporation Ethernet Converged Network Adapter 82599ES 10000 Mbps
Target: x86_64-native-linuxapp-gcc
Fail/Total: 0/2

Detail performance results: 
+------------+---------+-------------------------------------+
| frame_size | txd/rxd | throughput difference from expected |
+============+=========+=====================================+
| 64         | 512     | 2.646                               |
+------------+---------+-------------------------------------+
| 64         | 2048    | 1.047                               |
+------------+---------+-------------------------------------+

To view detailed results, visit:
https://lab.dpdk.org/results/dashboard/tarballs/9850/

UNH-IOL DPDK Community Lab

To manage your email subscriptions, visit: 
https://lab.dpdk.org/results/dashboard/preferences/subscriptions/

^ permalink raw reply	[flat|nested] 7+ messages in thread

end of thread, other threads:[~2020-06-09  1:30 UTC | newest]

Thread overview: 7+ messages (download: mbox.gz / follow: Atom feed)
-- links below jump to the message on this page --
2020-06-05 19:11 [dpdk-test-report] |SUCCESS| [GIT MASTER] 5178fd95d067d3e55c00c0d0841a46d512019bc7 dpdklab
  -- strict thread matches above, loose matches on Subject: below --
2020-06-09  1:30 dpdklab
2020-06-08 23:03 dpdklab
2020-06-08 19:53 dpdklab
2020-06-08 19:50 dpdklab
2020-06-05 18:51 dpdklab
2020-06-05 18:46 dpdklab

automatic DPDK test reports

This inbox may be cloned and mirrored by anyone:

	git clone --mirror http://inbox.dpdk.org/test-report/0 test-report/git/0.git

	# If you have public-inbox 1.1+ installed, you may
	# initialize and index your mirror using the following commands:
	public-inbox-init -V2 test-report test-report/ http://inbox.dpdk.org/test-report \
		test-report@dpdk.org
	public-inbox-index test-report

Example config snippet for mirrors.
Newsgroup available over NNTP:
	nntp://inbox.dpdk.org/inbox.dpdk.test-report


AGPL code for this site: git clone https://public-inbox.org/public-inbox.git