automatic DPDK test reports
 help / color / mirror / Atom feed
* [dpdk-test-report] |SUCCESS| pw71283 [PATCH] net/mlx5: do not select legacy MPW implicitly
@ 2020-06-11 21:00 dpdklab
  0 siblings, 0 replies; 6+ messages in thread
From: dpdklab @ 2020-06-11 21:00 UTC (permalink / raw)
  To: Test Report; +Cc: dpdk-test-reports

[-- Attachment #1: Type: text/plain, Size: 1917 bytes --]

Test-Label: iol-intel-Performance
Test-Status: SUCCESS
http://dpdk.org/patch/71283

_Performance Testing PASS_

Submitter: Alexander Kozyrev <akozyrev@mellanox.com>
Date: Thursday, June 11 2020 17:42:00 
DPDK git baseline: Repo:dpdk
  Branch: master
  CommitID:5fd722308ef21819931d25e7a140ff5a292b19d9

71283 --> performance testing pass

Test environment and result as below:

Ubuntu 18.04
Kernel: 4.15.0-generic
Compiler: gcc 7.4
NIC: Intel Corporation Ethernet Converged Network Adapter XL710-QDA2 40000 Mbps
Target: x86_64-native-linuxapp-gcc
Fail/Total: 0/2

Detail performance results: 
+------------+---------+-------------------------------------+
| frame_size | txd/rxd | throughput difference from expected |
+============+=========+=====================================+
| 64         | 512     | 4.769                               |
+------------+---------+-------------------------------------+
| 64         | 2048    | 2.738                               |
+------------+---------+-------------------------------------+

Ubuntu 18.04
Kernel: 4.15.0-generic
Compiler: gcc 7.4
NIC: Intel Corporation Ethernet Converged Network Adapter 82599ES 10000 Mbps
Target: x86_64-native-linuxapp-gcc
Fail/Total: 0/2

Detail performance results: 
+------------+---------+-------------------------------------+
| frame_size | txd/rxd | throughput difference from expected |
+============+=========+=====================================+
| 64         | 512     | 2.686                               |
+------------+---------+-------------------------------------+
| 64         | 2048    | 0.891                               |
+------------+---------+-------------------------------------+

To view detailed results, visit:
https://lab.dpdk.org/results/dashboard/patchsets/11471/

UNH-IOL DPDK Community Lab

To manage your email subscriptions, visit: 
https://lab.dpdk.org/results/dashboard/preferences/subscriptions/

^ permalink raw reply	[flat|nested] 6+ messages in thread

* [dpdk-test-report] |SUCCESS| pw71283 [PATCH] net/mlx5: do not select legacy MPW implicitly
@ 2020-06-12 12:26 dpdklab
  0 siblings, 0 replies; 6+ messages in thread
From: dpdklab @ 2020-06-12 12:26 UTC (permalink / raw)
  To: Test Report; +Cc: dpdk-test-reports

[-- Attachment #1: Type: text/plain, Size: 2912 bytes --]

Test-Label: iol-testing
Test-Status: SUCCESS
http://dpdk.org/patch/71283

_Testing PASS_

Submitter: Alexander Kozyrev <akozyrev@mellanox.com>
Date: Thursday, June 11 2020 17:42:00 
DPDK git baseline: Repo:dpdk
  Branch: master
  CommitID:5fd722308ef21819931d25e7a140ff5a292b19d9

71283 --> testing pass

Test environment and result as below:

+---------------------+--------------------+--------------+----------------+------------------+-------------------+
|     Environment     | dpdk_meson_compile | dpdk_compile | dpdk_unit_test | dpdk_compile_ovs | dpdk_compile_spdk |
+=====================+====================+==============+================+==================+===================+
| Windows Server 2019 | PASS               | SKIPPED      | SKIPPED        | SKIPPED          | SKIPPED           |
+---------------------+--------------------+--------------+----------------+------------------+-------------------+
| CentOS 8            | PASS               | PASS         | SKIPPED        | PASS             | PASS              |
+---------------------+--------------------+--------------+----------------+------------------+-------------------+
| Fedora 31           | PASS               | PASS         | SKIPPED        | PASS             | PASS              |
+---------------------+--------------------+--------------+----------------+------------------+-------------------+
| Ubuntu 18.04        | PASS               | PASS         | PASS           | PASS             | PASS              |
+---------------------+--------------------+--------------+----------------+------------------+-------------------+
| openSUSE Leap 15    | PASS               | PASS         | SKIPPED        | PASS             | PASS              |
+---------------------+--------------------+--------------+----------------+------------------+-------------------+
| Arch Linux          | PASS               | PASS         | SKIPPED        | PASS             | SKIPPED           |
+---------------------+--------------------+--------------+----------------+------------------+-------------------+
| FreeBSD 11.2        | PASS               | PASS         | SKIPPED        | SKIPPED          | PASS              |
+---------------------+--------------------+--------------+----------------+------------------+-------------------+

Windows Server 2019
	Kernel: 10.0
	Compiler: clang 9.0

CentOS 8
	Kernel: 4.18.0.el8_0
	Compiler: gcc 8.3.1

Fedora 31
	Kernel: 5.3.16
	Compiler: gcc 9.2.1

Ubuntu 18.04
	Kernel: 4.15.0-generic
	Compiler: gcc 7.4

openSUSE Leap 15
	Kernel: 4.12.14
	Compiler: gcc 7.4.1

Arch Linux
	Kernel: latest
	Compiler: gcc latest

FreeBSD 11.2
	Kernel: 11.2
	Compiler: gcc 8.3

To view detailed results, visit:
https://lab.dpdk.org/results/dashboard/patchsets/11471/

UNH-IOL DPDK Community Lab

To manage your email subscriptions, visit: 
https://lab.dpdk.org/results/dashboard/preferences/subscriptions/

^ permalink raw reply	[flat|nested] 6+ messages in thread

* [dpdk-test-report] |SUCCESS| pw71283 [PATCH] net/mlx5: do not select legacy MPW implicitly
@ 2020-06-12  5:09 dpdklab
  0 siblings, 0 replies; 6+ messages in thread
From: dpdklab @ 2020-06-12  5:09 UTC (permalink / raw)
  To: Ali Alnubani, Test Report; +Cc: dpdk-test-reports

[-- Attachment #1: Type: text/plain, Size: 3967 bytes --]

Test-Label: iol-mellanox-Performance
Test-Status: SUCCESS
http://dpdk.org/patch/71283

_Performance Testing PASS_

Submitter: Alexander Kozyrev <akozyrev@mellanox.com>
Date: Thursday, June 11 2020 17:42:00 
DPDK git baseline: Repo:dpdk
  Branch: master
  CommitID:5fd722308ef21819931d25e7a140ff5a292b19d9

71283 --> performance testing pass

Test environment and result as below:

Ubuntu 18.04
Kernel: 4.15.0-generic
Compiler: gcc 7.4
NIC: Mellanox ConnectX-5 100000 Mbps
Target: x86_64-native-linuxapp-gcc
Fail/Total: 0/6

Detail performance results: 
+------------+---------+-------------------------------------+
| frame_size | txd/rxd | throughput difference from expected |
+============+=========+=====================================+
| 64         | 256     | 0.381                               |
+------------+---------+-------------------------------------+
| 128        | 256     | -0.010                              |
+------------+---------+-------------------------------------+
| 256        | 256     | -0.008                              |
+------------+---------+-------------------------------------+
| 512        | 256     | 0.032                               |
+------------+---------+-------------------------------------+
| 1024       | 256     | -0.051                              |
+------------+---------+-------------------------------------+
| 1518       | 256     | -0.009                              |
+------------+---------+-------------------------------------+

Ubuntu 18.04
Kernel: 4.15.0-generic
Compiler: gcc 7.4
NIC: Mellanox ConnectX-4 Lx 25000 Mbps
Target: x86_64-native-linuxapp-gcc
Fail/Total: 0/6

Detail performance results: 
+------------+---------+-------------------------------------+
| frame_size | txd/rxd | throughput difference from expected |
+============+=========+=====================================+
| 64         | 256     | 0.126                               |
+------------+---------+-------------------------------------+
| 128        | 256     | 0.197                               |
+------------+---------+-------------------------------------+
| 256        | 256     | 0.036                               |
+------------+---------+-------------------------------------+
| 512        | 256     | 0.002                               |
+------------+---------+-------------------------------------+
| 1024       | 256     | 0.003                               |
+------------+---------+-------------------------------------+
| 1518       | 256     | -0.007                              |
+------------+---------+-------------------------------------+

Ubuntu 18.04
Kernel: 4.15.0-generic
Compiler: gcc 7.4
NIC: Mellanox ConnectX-4 Lx 40000 Mbps
Target: x86_64-native-linuxapp-gcc
Fail/Total: 0/6

Detail performance results: 
+------------+---------+-------------------------------------+
| frame_size | txd/rxd | throughput difference from expected |
+============+=========+=====================================+
| 64         | 256     | -0.672                              |
+------------+---------+-------------------------------------+
| 128        | 256     | 0.022                               |
+------------+---------+-------------------------------------+
| 256        | 256     | -0.123                              |
+------------+---------+-------------------------------------+
| 512        | 256     | -0.002                              |
+------------+---------+-------------------------------------+
| 1024       | 256     | 0.001                               |
+------------+---------+-------------------------------------+
| 1518       | 256     | 0.017                               |
+------------+---------+-------------------------------------+

To view detailed results, visit:
https://lab.dpdk.org/results/dashboard/patchsets/11471/

UNH-IOL DPDK Community Lab

To manage your email subscriptions, visit: 
https://lab.dpdk.org/results/dashboard/preferences/subscriptions/

^ permalink raw reply	[flat|nested] 6+ messages in thread

* [dpdk-test-report] |SUCCESS| pw71283 [PATCH] net/mlx5: do not select legacy MPW implicitly
@ 2020-06-11 22:18 dpdklab
  0 siblings, 0 replies; 6+ messages in thread
From: dpdklab @ 2020-06-11 22:18 UTC (permalink / raw)
  To: Ruoshan Shi, Test Report; +Cc: dpdk-test-reports

[-- Attachment #1: Type: text/plain, Size: 1205 bytes --]

Test-Label: iol-nxp-Performance
Test-Status: SUCCESS
http://dpdk.org/patch/71283

_Performance Testing PASS_

Submitter: Alexander Kozyrev <akozyrev@mellanox.com>
Date: Thursday, June 11 2020 17:42:00 
DPDK git baseline: Repo:dpdk
  Branch: master
  CommitID:5fd722308ef21819931d25e7a140ff5a292b19d9

71283 --> performance testing pass

Test environment and result as below:

Ubuntu 18.04
Kernel: 4.14.122
Compiler: gcc 7.3.0
NIC: NXP LS2088A 10000 Mbps
Target: x86_64-native-linuxapp-gcc
Fail/Total: 0/2

Detail performance results: 
+------------+---------+-------------------------------------+
| frame_size | txd/rxd | throughput difference from expected |
+============+=========+=====================================+
| 64         | 512     | -0.015                              |
+------------+---------+-------------------------------------+
| 64         | 2048    | -0.100                              |
+------------+---------+-------------------------------------+

To view detailed results, visit:
https://lab.dpdk.org/results/dashboard/patchsets/11471/

UNH-IOL DPDK Community Lab

To manage your email subscriptions, visit: 
https://lab.dpdk.org/results/dashboard/preferences/subscriptions/

^ permalink raw reply	[flat|nested] 6+ messages in thread

* [dpdk-test-report] |SUCCESS| pw71283 [PATCH] net/mlx5: do not select legacy MPW implicitly
@ 2020-06-11 21:23 dpdklab
  0 siblings, 0 replies; 6+ messages in thread
From: dpdklab @ 2020-06-11 21:23 UTC (permalink / raw)
  To: Ajit Khaparde, Test Report; +Cc: dpdk-test-reports

[-- Attachment #1: Type: text/plain, Size: 1268 bytes --]

Test-Label: iol-broadcom-Performance
Test-Status: SUCCESS
http://dpdk.org/patch/71283

_Performance Testing PASS_

Submitter: Alexander Kozyrev <akozyrev@mellanox.com>
Date: Thursday, June 11 2020 17:42:00 
DPDK git baseline: Repo:dpdk
  Branch: master
  CommitID:5fd722308ef21819931d25e7a140ff5a292b19d9

71283 --> performance testing pass

Test environment and result as below:

Ubuntu 18.04
Kernel: 4.15.0-65-generic
Compiler: gcc gcc (Ubuntu 7.4.0-1ubuntu1~18.04.1) 7.4.0
NIC: Broadcom Inc. brcm_57414 25000 Mbps
Target: x86_64-native-linuxapp-gcc
Fail/Total: 0/2

Detail performance results: 
+------------+---------+-------------------------------------+
| frame_size | txd/rxd | throughput difference from expected |
+============+=========+=====================================+
| 64         | 512     | 0.093                               |
+------------+---------+-------------------------------------+
| 64         | 2048    | -0.010                              |
+------------+---------+-------------------------------------+

To view detailed results, visit:
https://lab.dpdk.org/results/dashboard/patchsets/11471/

UNH-IOL DPDK Community Lab

To manage your email subscriptions, visit: 
https://lab.dpdk.org/results/dashboard/preferences/subscriptions/

^ permalink raw reply	[flat|nested] 6+ messages in thread

* [dpdk-test-report] |SUCCESS| pw71283 [PATCH] net/mlx5: do not select legacy MPW implicitly
       [not found] <1591897320-15192-1-git-send-email-akozyrev@mellanox.com>
@ 2020-06-11 17:42 ` checkpatch
  0 siblings, 0 replies; 6+ messages in thread
From: checkpatch @ 2020-06-11 17:42 UTC (permalink / raw)
  To: test-report

Test-Label: checkpatch
Test-Status: SUCCESS
http://dpdk.org/patch/71283

_coding style OK_



^ permalink raw reply	[flat|nested] 6+ messages in thread

end of thread, other threads:[~2020-06-12 12:26 UTC | newest]

Thread overview: 6+ messages (download: mbox.gz / follow: Atom feed)
-- links below jump to the message on this page --
2020-06-11 21:00 [dpdk-test-report] |SUCCESS| pw71283 [PATCH] net/mlx5: do not select legacy MPW implicitly dpdklab
  -- strict thread matches above, loose matches on Subject: below --
2020-06-12 12:26 dpdklab
2020-06-12  5:09 dpdklab
2020-06-11 22:18 dpdklab
2020-06-11 21:23 dpdklab
     [not found] <1591897320-15192-1-git-send-email-akozyrev@mellanox.com>
2020-06-11 17:42 ` checkpatch

automatic DPDK test reports

This inbox may be cloned and mirrored by anyone:

	git clone --mirror http://inbox.dpdk.org/test-report/0 test-report/git/0.git

	# If you have public-inbox 1.1+ installed, you may
	# initialize and index your mirror using the following commands:
	public-inbox-init -V2 test-report test-report/ http://inbox.dpdk.org/test-report \
		test-report@dpdk.org
	public-inbox-index test-report

Example config snippet for mirrors.
Newsgroup available over NNTP:
	nntp://inbox.dpdk.org/inbox.dpdk.test-report


AGPL code for this site: git clone https://public-inbox.org/public-inbox.git