[-- Attachment #1: Type: text/plain, Size: 1260 bytes --] Test-Label: iol-broadcom-Performance Test-Status: SUCCESS http://dpdk.org/patch/71319 _Performance Testing PASS_ Submitter: Simei Su <simei.su@intel.com> Date: Friday, June 12 2020 02:20:05 DPDK git baseline: Repo:dpdk Branch: master CommitID:482bcf840409503c2b9da56941e5ff6566d51e45 71319-71321 --> performance testing pass Test environment and result as below: Ubuntu 18.04 Kernel: 4.15.0-65-generic Compiler: gcc gcc (Ubuntu 7.4.0-1ubuntu1~18.04.1) 7.4.0 NIC: Broadcom Inc. brcm_57414 25000 Mbps Target: x86_64-native-linuxapp-gcc Fail/Total: 0/2 Detail performance results: +------------+---------+-------------------------------------+ | frame_size | txd/rxd | throughput difference from expected | +============+=========+=====================================+ | 64 | 512 | 0.044 | +------------+---------+-------------------------------------+ | 64 | 2048 | -0.010 | +------------+---------+-------------------------------------+ To view detailed results, visit: https://lab.dpdk.org/results/dashboard/patchsets/11479/ UNH-IOL DPDK Community Lab To manage your email subscriptions, visit: https://lab.dpdk.org/results/dashboard/preferences/subscriptions/
[-- Attachment #1: Type: text/plain, Size: 1909 bytes --] Test-Label: iol-intel-Performance Test-Status: SUCCESS http://dpdk.org/patch/71319 _Performance Testing PASS_ Submitter: Simei Su <simei.su@intel.com> Date: Friday, June 12 2020 02:20:05 DPDK git baseline: Repo:dpdk Branch: master CommitID:482bcf840409503c2b9da56941e5ff6566d51e45 71319-71321 --> performance testing pass Test environment and result as below: Ubuntu 18.04 Kernel: 4.15.0-generic Compiler: gcc 7.4 NIC: Intel Corporation Ethernet Converged Network Adapter XL710-QDA2 40000 Mbps Target: x86_64-native-linuxapp-gcc Fail/Total: 0/2 Detail performance results: +------------+---------+-------------------------------------+ | frame_size | txd/rxd | throughput difference from expected | +============+=========+=====================================+ | 64 | 512 | 4.990 | +------------+---------+-------------------------------------+ | 64 | 2048 | 2.965 | +------------+---------+-------------------------------------+ Ubuntu 18.04 Kernel: 4.15.0-generic Compiler: gcc 7.4 NIC: Intel Corporation Ethernet Converged Network Adapter 82599ES 10000 Mbps Target: x86_64-native-linuxapp-gcc Fail/Total: 0/2 Detail performance results: +------------+---------+-------------------------------------+ | frame_size | txd/rxd | throughput difference from expected | +============+=========+=====================================+ | 64 | 512 | 2.684 | +------------+---------+-------------------------------------+ | 64 | 2048 | 0.984 | +------------+---------+-------------------------------------+ To view detailed results, visit: https://lab.dpdk.org/results/dashboard/patchsets/11479/ UNH-IOL DPDK Community Lab To manage your email subscriptions, visit: https://lab.dpdk.org/results/dashboard/preferences/subscriptions/
[-- Attachment #1: Type: text/plain, Size: 1197 bytes --] Test-Label: iol-nxp-Performance Test-Status: SUCCESS http://dpdk.org/patch/71319 _Performance Testing PASS_ Submitter: Simei Su <simei.su@intel.com> Date: Friday, June 12 2020 02:20:05 DPDK git baseline: Repo:dpdk Branch: master CommitID:482bcf840409503c2b9da56941e5ff6566d51e45 71319-71321 --> performance testing pass Test environment and result as below: Ubuntu 18.04 Kernel: 4.14.122 Compiler: gcc 7.3.0 NIC: NXP LS2088A 10000 Mbps Target: x86_64-native-linuxapp-gcc Fail/Total: 0/2 Detail performance results: +------------+---------+-------------------------------------+ | frame_size | txd/rxd | throughput difference from expected | +============+=========+=====================================+ | 64 | 512 | -0.170 | +------------+---------+-------------------------------------+ | 64 | 2048 | -0.115 | +------------+---------+-------------------------------------+ To view detailed results, visit: https://lab.dpdk.org/results/dashboard/patchsets/11479/ UNH-IOL DPDK Community Lab To manage your email subscriptions, visit: https://lab.dpdk.org/results/dashboard/preferences/subscriptions/
[-- Attachment #1: Type: text/plain, Size: 3959 bytes --] Test-Label: iol-mellanox-Performance Test-Status: SUCCESS http://dpdk.org/patch/71319 _Performance Testing PASS_ Submitter: Simei Su <simei.su@intel.com> Date: Friday, June 12 2020 02:20:05 DPDK git baseline: Repo:dpdk Branch: master CommitID:482bcf840409503c2b9da56941e5ff6566d51e45 71319-71321 --> performance testing pass Test environment and result as below: Ubuntu 18.04 Kernel: 4.15.0-generic Compiler: gcc 7.4 NIC: Mellanox ConnectX-5 100000 Mbps Target: x86_64-native-linuxapp-gcc Fail/Total: 0/6 Detail performance results: +------------+---------+-------------------------------------+ | frame_size | txd/rxd | throughput difference from expected | +============+=========+=====================================+ | 64 | 256 | -0.502 | +------------+---------+-------------------------------------+ | 128 | 256 | -0.164 | +------------+---------+-------------------------------------+ | 256 | 256 | -0.072 | +------------+---------+-------------------------------------+ | 512 | 256 | -0.103 | +------------+---------+-------------------------------------+ | 1024 | 256 | -0.065 | +------------+---------+-------------------------------------+ | 1518 | 256 | -0.026 | +------------+---------+-------------------------------------+ Ubuntu 18.04 Kernel: 4.15.0-generic Compiler: gcc 7.4 NIC: Mellanox ConnectX-4 Lx 25000 Mbps Target: x86_64-native-linuxapp-gcc Fail/Total: 0/6 Detail performance results: +------------+---------+-------------------------------------+ | frame_size | txd/rxd | throughput difference from expected | +============+=========+=====================================+ | 64 | 256 | 0.269 | +------------+---------+-------------------------------------+ | 128 | 256 | -0.003 | +------------+---------+-------------------------------------+ | 256 | 256 | -0.017 | +------------+---------+-------------------------------------+ | 512 | 256 | 0.004 | +------------+---------+-------------------------------------+ | 1024 | 256 | -0.003 | +------------+---------+-------------------------------------+ | 1518 | 256 | -0.002 | +------------+---------+-------------------------------------+ Ubuntu 18.04 Kernel: 4.15.0-generic Compiler: gcc 7.4 NIC: Mellanox ConnectX-4 Lx 40000 Mbps Target: x86_64-native-linuxapp-gcc Fail/Total: 0/6 Detail performance results: +------------+---------+-------------------------------------+ | frame_size | txd/rxd | throughput difference from expected | +============+=========+=====================================+ | 64 | 256 | -0.199 | +------------+---------+-------------------------------------+ | 128 | 256 | -0.208 | +------------+---------+-------------------------------------+ | 256 | 256 | -0.045 | +------------+---------+-------------------------------------+ | 512 | 256 | -0.005 | +------------+---------+-------------------------------------+ | 1024 | 256 | 0.003 | +------------+---------+-------------------------------------+ | 1518 | 256 | -0.019 | +------------+---------+-------------------------------------+ To view detailed results, visit: https://lab.dpdk.org/results/dashboard/patchsets/11479/ UNH-IOL DPDK Community Lab To manage your email subscriptions, visit: https://lab.dpdk.org/results/dashboard/preferences/subscriptions/
[-- Attachment #1: Type: text/plain, Size: 2904 bytes --] Test-Label: iol-testing Test-Status: SUCCESS http://dpdk.org/patch/71319 _Testing PASS_ Submitter: Simei Su <simei.su@intel.com> Date: Friday, June 12 2020 02:20:05 DPDK git baseline: Repo:dpdk Branch: master CommitID:482bcf840409503c2b9da56941e5ff6566d51e45 71319-71321 --> testing pass Test environment and result as below: +---------------------+--------------------+-------------------+----------------+------------------+--------------+ | Environment | dpdk_meson_compile | dpdk_compile_spdk | dpdk_unit_test | dpdk_compile_ovs | dpdk_compile | +=====================+====================+===================+================+==================+==============+ | Windows Server 2019 | PASS | SKIPPED | SKIPPED | SKIPPED | SKIPPED | +---------------------+--------------------+-------------------+----------------+------------------+--------------+ | Fedora 31 | PASS | PASS | SKIPPED | PASS | PASS | +---------------------+--------------------+-------------------+----------------+------------------+--------------+ | CentOS 8 | PASS | PASS | SKIPPED | PASS | PASS | +---------------------+--------------------+-------------------+----------------+------------------+--------------+ | Ubuntu 18.04 | PASS | PASS | PASS | PASS | PASS | +---------------------+--------------------+-------------------+----------------+------------------+--------------+ | openSUSE Leap 15 | PASS | PASS | SKIPPED | PASS | PASS | +---------------------+--------------------+-------------------+----------------+------------------+--------------+ | Arch Linux | PASS | SKIPPED | SKIPPED | PASS | PASS | +---------------------+--------------------+-------------------+----------------+------------------+--------------+ | FreeBSD 11.2 | PASS | PASS | SKIPPED | SKIPPED | PASS | +---------------------+--------------------+-------------------+----------------+------------------+--------------+ Windows Server 2019 Kernel: 10.0 Compiler: clang 9.0 Fedora 31 Kernel: 5.3.16 Compiler: gcc 9.2.1 CentOS 8 Kernel: 4.18.0.el8_0 Compiler: gcc 8.3.1 Ubuntu 18.04 Kernel: 4.15.0-generic Compiler: gcc 7.4 openSUSE Leap 15 Kernel: 4.12.14 Compiler: gcc 7.4.1 Arch Linux Kernel: latest Compiler: gcc latest FreeBSD 11.2 Kernel: 11.2 Compiler: gcc 8.3 To view detailed results, visit: https://lab.dpdk.org/results/dashboard/patchsets/11479/ UNH-IOL DPDK Community Lab To manage your email subscriptions, visit: https://lab.dpdk.org/results/dashboard/preferences/subscriptions/