[-- Attachment #1: Type: text/plain, Size: 1268 bytes --] Test-Label: iol-broadcom-Performance Test-Status: SUCCESS http://dpdk.org/patch/71323 _Performance Testing PASS_ Submitter: Jeff Guo <jia.guo@intel.com> Date: Friday, June 12 2020 02:57:58 DPDK git baseline: Repo:dpdk-next-net-intel Branch: master CommitID:28303138b38771bfa4c9dcd75a328d247c0f74e5 71323 --> performance testing pass Test environment and result as below: Ubuntu 18.04 Kernel: 4.15.0-65-generic Compiler: gcc gcc (Ubuntu 7.4.0-1ubuntu1~18.04.1) 7.4.0 NIC: Broadcom Inc. brcm_57414 25000 Mbps Target: x86_64-native-linuxapp-gcc Fail/Total: 0/2 Detail performance results: +------------+---------+-------------------------------------+ | frame_size | txd/rxd | throughput difference from expected | +============+=========+=====================================+ | 64 | 512 | -0.001 | +------------+---------+-------------------------------------+ | 64 | 2048 | -0.005 | +------------+---------+-------------------------------------+ To view detailed results, visit: https://lab.dpdk.org/results/dashboard/patchsets/11481/ UNH-IOL DPDK Community Lab To manage your email subscriptions, visit: https://lab.dpdk.org/results/dashboard/preferences/subscriptions/
[-- Attachment #1: Type: text/plain, Size: 1917 bytes --] Test-Label: iol-intel-Performance Test-Status: SUCCESS http://dpdk.org/patch/71323 _Performance Testing PASS_ Submitter: Jeff Guo <jia.guo@intel.com> Date: Friday, June 12 2020 02:57:58 DPDK git baseline: Repo:dpdk-next-net-intel Branch: master CommitID:28303138b38771bfa4c9dcd75a328d247c0f74e5 71323 --> performance testing pass Test environment and result as below: Ubuntu 18.04 Kernel: 4.15.0-generic Compiler: gcc 7.4 NIC: Intel Corporation Ethernet Converged Network Adapter XL710-QDA2 40000 Mbps Target: x86_64-native-linuxapp-gcc Fail/Total: 0/2 Detail performance results: +------------+---------+-------------------------------------+ | frame_size | txd/rxd | throughput difference from expected | +============+=========+=====================================+ | 64 | 512 | 4.864 | +------------+---------+-------------------------------------+ | 64 | 2048 | 2.954 | +------------+---------+-------------------------------------+ Ubuntu 18.04 Kernel: 4.15.0-generic Compiler: gcc 7.4 NIC: Intel Corporation Ethernet Converged Network Adapter 82599ES 10000 Mbps Target: x86_64-native-linuxapp-gcc Fail/Total: 0/2 Detail performance results: +------------+---------+-------------------------------------+ | frame_size | txd/rxd | throughput difference from expected | +============+=========+=====================================+ | 64 | 512 | 2.586 | +------------+---------+-------------------------------------+ | 64 | 2048 | 0.875 | +------------+---------+-------------------------------------+ To view detailed results, visit: https://lab.dpdk.org/results/dashboard/patchsets/11481/ UNH-IOL DPDK Community Lab To manage your email subscriptions, visit: https://lab.dpdk.org/results/dashboard/preferences/subscriptions/
[-- Attachment #1: Type: text/plain, Size: 1205 bytes --] Test-Label: iol-nxp-Performance Test-Status: SUCCESS http://dpdk.org/patch/71323 _Performance Testing PASS_ Submitter: Jeff Guo <jia.guo@intel.com> Date: Friday, June 12 2020 02:57:58 DPDK git baseline: Repo:dpdk-next-net-intel Branch: master CommitID:28303138b38771bfa4c9dcd75a328d247c0f74e5 71323 --> performance testing pass Test environment and result as below: Ubuntu 18.04 Kernel: 4.14.122 Compiler: gcc 7.3.0 NIC: NXP LS2088A 10000 Mbps Target: x86_64-native-linuxapp-gcc Fail/Total: 0/2 Detail performance results: +------------+---------+-------------------------------------+ | frame_size | txd/rxd | throughput difference from expected | +============+=========+=====================================+ | 64 | 512 | 0.067 | +------------+---------+-------------------------------------+ | 64 | 2048 | -0.099 | +------------+---------+-------------------------------------+ To view detailed results, visit: https://lab.dpdk.org/results/dashboard/patchsets/11481/ UNH-IOL DPDK Community Lab To manage your email subscriptions, visit: https://lab.dpdk.org/results/dashboard/preferences/subscriptions/
[-- Attachment #1: Type: text/plain, Size: 3967 bytes --] Test-Label: iol-mellanox-Performance Test-Status: SUCCESS http://dpdk.org/patch/71323 _Performance Testing PASS_ Submitter: Jeff Guo <jia.guo@intel.com> Date: Friday, June 12 2020 02:57:58 DPDK git baseline: Repo:dpdk-next-net-intel Branch: master CommitID:28303138b38771bfa4c9dcd75a328d247c0f74e5 71323 --> performance testing pass Test environment and result as below: Ubuntu 18.04 Kernel: 4.15.0-generic Compiler: gcc 7.4 NIC: Mellanox ConnectX-5 100000 Mbps Target: x86_64-native-linuxapp-gcc Fail/Total: 0/6 Detail performance results: +------------+---------+-------------------------------------+ | frame_size | txd/rxd | throughput difference from expected | +============+=========+=====================================+ | 64 | 256 | -0.798 | +------------+---------+-------------------------------------+ | 128 | 256 | 0.046 | +------------+---------+-------------------------------------+ | 256 | 256 | -0.115 | +------------+---------+-------------------------------------+ | 512 | 256 | -0.094 | +------------+---------+-------------------------------------+ | 1024 | 256 | -0.020 | +------------+---------+-------------------------------------+ | 1518 | 256 | -0.027 | +------------+---------+-------------------------------------+ Ubuntu 18.04 Kernel: 4.15.0-generic Compiler: gcc 7.4 NIC: Mellanox ConnectX-4 Lx 25000 Mbps Target: x86_64-native-linuxapp-gcc Fail/Total: 0/6 Detail performance results: +------------+---------+-------------------------------------+ | frame_size | txd/rxd | throughput difference from expected | +============+=========+=====================================+ | 64 | 256 | -0.554 | +------------+---------+-------------------------------------+ | 128 | 256 | 0.483 | +------------+---------+-------------------------------------+ | 256 | 256 | -0.117 | +------------+---------+-------------------------------------+ | 512 | 256 | 0.006 | +------------+---------+-------------------------------------+ | 1024 | 256 | 0.001 | +------------+---------+-------------------------------------+ | 1518 | 256 | 0.008 | +------------+---------+-------------------------------------+ Ubuntu 18.04 Kernel: 4.15.0-generic Compiler: gcc 7.4 NIC: Mellanox ConnectX-4 Lx 40000 Mbps Target: x86_64-native-linuxapp-gcc Fail/Total: 0/6 Detail performance results: +------------+---------+-------------------------------------+ | frame_size | txd/rxd | throughput difference from expected | +============+=========+=====================================+ | 64 | 256 | 0.131 | +------------+---------+-------------------------------------+ | 128 | 256 | 0.073 | +------------+---------+-------------------------------------+ | 256 | 256 | 0.207 | +------------+---------+-------------------------------------+ | 512 | 256 | -0.001 | +------------+---------+-------------------------------------+ | 1024 | 256 | 0.002 | +------------+---------+-------------------------------------+ | 1518 | 256 | -0.018 | +------------+---------+-------------------------------------+ To view detailed results, visit: https://lab.dpdk.org/results/dashboard/patchsets/11481/ UNH-IOL DPDK Community Lab To manage your email subscriptions, visit: https://lab.dpdk.org/results/dashboard/preferences/subscriptions/
[-- Attachment #1: Type: text/plain, Size: 2912 bytes --] Test-Label: iol-testing Test-Status: SUCCESS http://dpdk.org/patch/71323 _Testing PASS_ Submitter: Jeff Guo <jia.guo@intel.com> Date: Friday, June 12 2020 02:57:58 DPDK git baseline: Repo:dpdk-next-net-intel Branch: master CommitID:28303138b38771bfa4c9dcd75a328d247c0f74e5 71323 --> testing pass Test environment and result as below: +---------------------+--------------------+-------------------+------------------+----------------+--------------+ | Environment | dpdk_meson_compile | dpdk_compile_spdk | dpdk_compile_ovs | dpdk_unit_test | dpdk_compile | +=====================+====================+===================+==================+================+==============+ | Windows Server 2019 | PASS | SKIPPED | SKIPPED | SKIPPED | SKIPPED | +---------------------+--------------------+-------------------+------------------+----------------+--------------+ | CentOS 8 | PASS | PASS | PASS | SKIPPED | PASS | +---------------------+--------------------+-------------------+------------------+----------------+--------------+ | Fedora 31 | PASS | PASS | PASS | SKIPPED | PASS | +---------------------+--------------------+-------------------+------------------+----------------+--------------+ | Ubuntu 18.04 | PASS | PASS | PASS | PASS | PASS | +---------------------+--------------------+-------------------+------------------+----------------+--------------+ | openSUSE Leap 15 | PASS | PASS | PASS | SKIPPED | PASS | +---------------------+--------------------+-------------------+------------------+----------------+--------------+ | Arch Linux | PASS | SKIPPED | PASS | SKIPPED | PASS | +---------------------+--------------------+-------------------+------------------+----------------+--------------+ | FreeBSD 11.2 | PASS | PASS | SKIPPED | SKIPPED | PASS | +---------------------+--------------------+-------------------+------------------+----------------+--------------+ Windows Server 2019 Kernel: 10.0 Compiler: clang 9.0 CentOS 8 Kernel: 4.18.0.el8_0 Compiler: gcc 8.3.1 Fedora 31 Kernel: 5.3.16 Compiler: gcc 9.2.1 Ubuntu 18.04 Kernel: 4.15.0-generic Compiler: gcc 7.4 openSUSE Leap 15 Kernel: 4.12.14 Compiler: gcc 7.4.1 Arch Linux Kernel: latest Compiler: gcc latest FreeBSD 11.2 Kernel: 11.2 Compiler: gcc 8.3 To view detailed results, visit: https://lab.dpdk.org/results/dashboard/patchsets/11481/ UNH-IOL DPDK Community Lab To manage your email subscriptions, visit: https://lab.dpdk.org/results/dashboard/preferences/subscriptions/