[-- Attachment #1: Type: text/plain, Size: 1698 bytes --] _Performance Testing PASS_ Branch: dpdk-next-net c3b285ae4060a6a9f9c552af05ec7bd58d6f301f --> performance testing pass Test environment and result as below: Ubuntu 18.04 Kernel: 4.15.0-generic Compiler: gcc 7.4 NIC: Intel Corporation Ethernet Converged Network Adapter XL710-QDA2 40000 Mbps Target: x86_64-native-linuxapp-gcc Fail/Total: 0/2 Detail performance results: +------------+---------+-------------------------------------+ | frame_size | txd/rxd | throughput difference from expected | +============+=========+=====================================+ | 64 | 512 | 4.802 | +------------+---------+-------------------------------------+ | 64 | 2048 | 2.717 | +------------+---------+-------------------------------------+ Ubuntu 18.04 Kernel: 4.15.0-generic Compiler: gcc 7.4 NIC: Intel Corporation Ethernet Converged Network Adapter 82599ES 10000 Mbps Target: x86_64-native-linuxapp-gcc Fail/Total: 0/2 Detail performance results: +------------+---------+-------------------------------------+ | frame_size | txd/rxd | throughput difference from expected | +============+=========+=====================================+ | 64 | 512 | 2.779 | +------------+---------+-------------------------------------+ | 64 | 2048 | 0.939 | +------------+---------+-------------------------------------+ To view detailed results, visit: https://lab.dpdk.org/results/dashboard/tarballs/9952/ UNH-IOL DPDK Community Lab To manage your email subscriptions, visit: https://lab.dpdk.org/results/dashboard/preferences/subscriptions/
[-- Attachment #1: Type: text/plain, Size: 988 bytes --] _Performance Testing PASS_ Branch: dpdk-next-net c3b285ae4060a6a9f9c552af05ec7bd58d6f301f --> performance testing pass Test environment and result as below: Ubuntu 18.04 Kernel: 4.14.122 Compiler: gcc 7.3.0 NIC: NXP LS2088A 10000 Mbps Target: x86_64-native-linuxapp-gcc Fail/Total: 0/2 Detail performance results: +------------+---------+-------------------------------------+ | frame_size | txd/rxd | throughput difference from expected | +============+=========+=====================================+ | 64 | 512 | 0.069 | +------------+---------+-------------------------------------+ | 64 | 2048 | -0.140 | +------------+---------+-------------------------------------+ To view detailed results, visit: https://lab.dpdk.org/results/dashboard/tarballs/9952/ UNH-IOL DPDK Community Lab To manage your email subscriptions, visit: https://lab.dpdk.org/results/dashboard/preferences/subscriptions/
[-- Attachment #1: Type: text/plain, Size: 3745 bytes --] _Performance Testing PASS_ Branch: dpdk-next-net c3b285ae4060a6a9f9c552af05ec7bd58d6f301f --> performance testing pass Test environment and result as below: Ubuntu 18.04 Kernel: 4.15.0-generic Compiler: gcc 7.4 NIC: Mellanox ConnectX-5 100000 Mbps Target: x86_64-native-linuxapp-gcc Fail/Total: 0/6 Detail performance results: +------------+---------+-------------------------------------+ | frame_size | txd/rxd | throughput difference from expected | +============+=========+=====================================+ | 64 | 256 | -0.266 | +------------+---------+-------------------------------------+ | 128 | 256 | -0.069 | +------------+---------+-------------------------------------+ | 256 | 256 | -0.087 | +------------+---------+-------------------------------------+ | 512 | 256 | -0.033 | +------------+---------+-------------------------------------+ | 1024 | 256 | -0.014 | +------------+---------+-------------------------------------+ | 1518 | 256 | -0.031 | +------------+---------+-------------------------------------+ Ubuntu 18.04 Kernel: 4.15.0-generic Compiler: gcc 7.4 NIC: Mellanox ConnectX-4 Lx 25000 Mbps Target: x86_64-native-linuxapp-gcc Fail/Total: 0/6 Detail performance results: +------------+---------+-------------------------------------+ | frame_size | txd/rxd | throughput difference from expected | +============+=========+=====================================+ | 64 | 256 | -0.167 | +------------+---------+-------------------------------------+ | 128 | 256 | -0.090 | +------------+---------+-------------------------------------+ | 256 | 256 | 0.065 | +------------+---------+-------------------------------------+ | 512 | 256 | -0.003 | +------------+---------+-------------------------------------+ | 1024 | 256 | -0.002 | +------------+---------+-------------------------------------+ | 1518 | 256 | 0.003 | +------------+---------+-------------------------------------+ Ubuntu 18.04 Kernel: 4.15.0-generic Compiler: gcc 7.4 NIC: Mellanox ConnectX-4 Lx 40000 Mbps Target: x86_64-native-linuxapp-gcc Fail/Total: 0/6 Detail performance results: +------------+---------+-------------------------------------+ | frame_size | txd/rxd | throughput difference from expected | +============+=========+=====================================+ | 64 | 256 | 0.208 | +------------+---------+-------------------------------------+ | 128 | 256 | -0.250 | +------------+---------+-------------------------------------+ | 256 | 256 | 0.063 | +------------+---------+-------------------------------------+ | 512 | 256 | -0.004 | +------------+---------+-------------------------------------+ | 1024 | 256 | 0.003 | +------------+---------+-------------------------------------+ | 1518 | 256 | -0.020 | +------------+---------+-------------------------------------+ To view detailed results, visit: https://lab.dpdk.org/results/dashboard/tarballs/9952/ UNH-IOL DPDK Community Lab To manage your email subscriptions, visit: https://lab.dpdk.org/results/dashboard/preferences/subscriptions/
[-- Attachment #1: Type: text/plain, Size: 2703 bytes --] _Testing PASS_ Branch: dpdk-next-net c3b285ae4060a6a9f9c552af05ec7bd58d6f301f --> testing pass Test environment and result as below: +---------------------+--------------------+-------------------+------------------+----------------+--------------+ | Environment | dpdk_meson_compile | dpdk_compile_spdk | dpdk_compile_ovs | dpdk_unit_test | dpdk_compile | +=====================+====================+===================+==================+================+==============+ | Windows Server 2019 | PASS | SKIPPED | SKIPPED | SKIPPED | SKIPPED | +---------------------+--------------------+-------------------+------------------+----------------+--------------+ | CentOS 8 | PASS | PASS | PASS | SKIPPED | PASS | +---------------------+--------------------+-------------------+------------------+----------------+--------------+ | Fedora 31 | PASS | PASS | PASS | SKIPPED | PASS | +---------------------+--------------------+-------------------+------------------+----------------+--------------+ | Ubuntu 18.04 | PASS | PASS | PASS | PASS | PASS | +---------------------+--------------------+-------------------+------------------+----------------+--------------+ | openSUSE Leap 15 | PASS | PASS | PASS | SKIPPED | PASS | +---------------------+--------------------+-------------------+------------------+----------------+--------------+ | Arch Linux | PASS | SKIPPED | PASS | SKIPPED | PASS | +---------------------+--------------------+-------------------+------------------+----------------+--------------+ | FreeBSD 11.2 | PASS | PASS | SKIPPED | SKIPPED | PASS | +---------------------+--------------------+-------------------+------------------+----------------+--------------+ Windows Server 2019 Kernel: 10.0 Compiler: clang 9.0 CentOS 8 Kernel: 4.18.0.el8_0 Compiler: gcc 8.3.1 Fedora 31 Kernel: 5.3.16 Compiler: gcc 9.2.1 Ubuntu 18.04 Kernel: 4.15.0-generic Compiler: gcc 7.4 openSUSE Leap 15 Kernel: 4.12.14 Compiler: gcc 7.4.1 Arch Linux Kernel: latest Compiler: gcc latest FreeBSD 11.2 Kernel: 11.2 Compiler: gcc 8.3 To view detailed results, visit: https://lab.dpdk.org/results/dashboard/tarballs/9952/ UNH-IOL DPDK Community Lab To manage your email subscriptions, visit: https://lab.dpdk.org/results/dashboard/preferences/subscriptions/