* [dpdk-test-report] |SUCCESS| pw71641 [PATCH] examples/eventdev_pipeline: fix 32-bit coremask logic
@ 2020-06-16 22:44 dpdklab
0 siblings, 0 replies; 5+ messages in thread
From: dpdklab @ 2020-06-16 22:44 UTC (permalink / raw)
To: Test Report; +Cc: dpdk-test-reports
[-- Attachment #1: Type: text/plain, Size: 2915 bytes --]
Test-Label: iol-testing
Test-Status: SUCCESS
http://dpdk.org/patch/71641
_Testing PASS_
Submitter: Harry van Haaren <harry.van.haaren@intel.com>
Date: Tuesday, June 16 2020 16:56:03
DPDK git baseline: Repo:dpdk
Branch: master
CommitID:2a5d547a4a9b7b4644e0b75d90d3b577a34e6d11
71641 --> testing pass
Test environment and result as below:
+---------------------+--------------------+-------------------+------------------+----------------+--------------+
| Environment | dpdk_meson_compile | dpdk_compile_spdk | dpdk_compile_ovs | dpdk_unit_test | dpdk_compile |
+=====================+====================+===================+==================+================+==============+
| Windows Server 2019 | PASS | SKIPPED | SKIPPED | SKIPPED | SKIPPED |
+---------------------+--------------------+-------------------+------------------+----------------+--------------+
| openSUSE Leap 15 | PASS | PASS | PASS | SKIPPED | PASS |
+---------------------+--------------------+-------------------+------------------+----------------+--------------+
| Fedora 31 | PASS | PASS | PASS | SKIPPED | PASS |
+---------------------+--------------------+-------------------+------------------+----------------+--------------+
| CentOS 8 | PASS | PASS | PASS | SKIPPED | PASS |
+---------------------+--------------------+-------------------+------------------+----------------+--------------+
| Ubuntu 18.04 | PASS | PASS | PASS | PASS | PASS |
+---------------------+--------------------+-------------------+------------------+----------------+--------------+
| Arch Linux | PASS | SKIPPED | PASS | SKIPPED | PASS |
+---------------------+--------------------+-------------------+------------------+----------------+--------------+
| FreeBSD 11.2 | PASS | PASS | SKIPPED | SKIPPED | PASS |
+---------------------+--------------------+-------------------+------------------+----------------+--------------+
Windows Server 2019
Kernel: 10.0
Compiler: clang 9.0
openSUSE Leap 15
Kernel: 4.12.14
Compiler: gcc 7.4.1
Fedora 31
Kernel: 5.3.16
Compiler: gcc 9.2.1
CentOS 8
Kernel: 4.18.0.el8_0
Compiler: gcc 8.3.1
Ubuntu 18.04
Kernel: 4.15.0-generic
Compiler: gcc 7.4
Arch Linux
Kernel: latest
Compiler: gcc latest
FreeBSD 11.2
Kernel: 11.2
Compiler: gcc 8.3
To view detailed results, visit:
https://lab.dpdk.org/results/dashboard/patchsets/11526/
UNH-IOL DPDK Community Lab
To manage your email subscriptions, visit:
https://lab.dpdk.org/results/dashboard/preferences/subscriptions/
^ permalink raw reply [flat|nested] 5+ messages in thread
* [dpdk-test-report] |SUCCESS| pw71641 [PATCH] examples/eventdev_pipeline: fix 32-bit coremask logic
@ 2020-06-16 21:11 dpdklab
0 siblings, 0 replies; 5+ messages in thread
From: dpdklab @ 2020-06-16 21:11 UTC (permalink / raw)
To: Ali Alnubani, Test Report; +Cc: dpdk-test-reports
[-- Attachment #1: Type: text/plain, Size: 3970 bytes --]
Test-Label: iol-mellanox-Performance
Test-Status: SUCCESS
http://dpdk.org/patch/71641
_Performance Testing PASS_
Submitter: Harry van Haaren <harry.van.haaren@intel.com>
Date: Tuesday, June 16 2020 16:56:03
DPDK git baseline: Repo:dpdk
Branch: master
CommitID:2a5d547a4a9b7b4644e0b75d90d3b577a34e6d11
71641 --> performance testing pass
Test environment and result as below:
Ubuntu 18.04
Kernel: 4.15.0-generic
Compiler: gcc 7.4
NIC: Mellanox ConnectX-5 100000 Mbps
Target: x86_64-native-linuxapp-gcc
Fail/Total: 0/6
Detail performance results:
+------------+---------+-------------------------------------+
| frame_size | txd/rxd | throughput difference from expected |
+============+=========+=====================================+
| 64 | 256 | -0.148 |
+------------+---------+-------------------------------------+
| 128 | 256 | 0.144 |
+------------+---------+-------------------------------------+
| 256 | 256 | -0.080 |
+------------+---------+-------------------------------------+
| 512 | 256 | -0.123 |
+------------+---------+-------------------------------------+
| 1024 | 256 | -0.014 |
+------------+---------+-------------------------------------+
| 1518 | 256 | -0.001 |
+------------+---------+-------------------------------------+
Ubuntu 18.04
Kernel: 4.15.0-generic
Compiler: gcc 7.4
NIC: Mellanox ConnectX-4 Lx 25000 Mbps
Target: x86_64-native-linuxapp-gcc
Fail/Total: 0/6
Detail performance results:
+------------+---------+-------------------------------------+
| frame_size | txd/rxd | throughput difference from expected |
+============+=========+=====================================+
| 64 | 256 | -0.392 |
+------------+---------+-------------------------------------+
| 128 | 256 | 0.095 |
+------------+---------+-------------------------------------+
| 256 | 256 | -0.132 |
+------------+---------+-------------------------------------+
| 512 | 256 | 0.017 |
+------------+---------+-------------------------------------+
| 1024 | 256 | 0.001 |
+------------+---------+-------------------------------------+
| 1518 | 256 | 0 |
+------------+---------+-------------------------------------+
Ubuntu 18.04
Kernel: 4.15.0-generic
Compiler: gcc 7.4
NIC: Mellanox ConnectX-4 Lx 40000 Mbps
Target: x86_64-native-linuxapp-gcc
Fail/Total: 0/6
Detail performance results:
+------------+---------+-------------------------------------+
| frame_size | txd/rxd | throughput difference from expected |
+============+=========+=====================================+
| 64 | 256 | -0.081 |
+------------+---------+-------------------------------------+
| 128 | 256 | -0.098 |
+------------+---------+-------------------------------------+
| 256 | 256 | 0.110 |
+------------+---------+-------------------------------------+
| 512 | 256 | -0.031 |
+------------+---------+-------------------------------------+
| 1024 | 256 | -0.002 |
+------------+---------+-------------------------------------+
| 1518 | 256 | -0.005 |
+------------+---------+-------------------------------------+
To view detailed results, visit:
https://lab.dpdk.org/results/dashboard/patchsets/11526/
UNH-IOL DPDK Community Lab
To manage your email subscriptions, visit:
https://lab.dpdk.org/results/dashboard/preferences/subscriptions/
^ permalink raw reply [flat|nested] 5+ messages in thread
* [dpdk-test-report] |SUCCESS| pw71641 [PATCH] examples/eventdev_pipeline: fix 32-bit coremask logic
@ 2020-06-16 18:24 dpdklab
0 siblings, 0 replies; 5+ messages in thread
From: dpdklab @ 2020-06-16 18:24 UTC (permalink / raw)
To: Ruoshan Shi, Test Report; +Cc: dpdk-test-reports
[-- Attachment #1: Type: text/plain, Size: 1208 bytes --]
Test-Label: iol-nxp-Performance
Test-Status: SUCCESS
http://dpdk.org/patch/71641
_Performance Testing PASS_
Submitter: Harry van Haaren <harry.van.haaren@intel.com>
Date: Tuesday, June 16 2020 16:56:03
DPDK git baseline: Repo:dpdk
Branch: master
CommitID:2a5d547a4a9b7b4644e0b75d90d3b577a34e6d11
71641 --> performance testing pass
Test environment and result as below:
Ubuntu 18.04
Kernel: 4.14.122
Compiler: gcc 7.3.0
NIC: NXP LS2088A 10000 Mbps
Target: x86_64-native-linuxapp-gcc
Fail/Total: 0/2
Detail performance results:
+------------+---------+-------------------------------------+
| frame_size | txd/rxd | throughput difference from expected |
+============+=========+=====================================+
| 64 | 512 | -0.201 |
+------------+---------+-------------------------------------+
| 64 | 2048 | 0.133 |
+------------+---------+-------------------------------------+
To view detailed results, visit:
https://lab.dpdk.org/results/dashboard/patchsets/11526/
UNH-IOL DPDK Community Lab
To manage your email subscriptions, visit:
https://lab.dpdk.org/results/dashboard/preferences/subscriptions/
^ permalink raw reply [flat|nested] 5+ messages in thread
* [dpdk-test-report] |SUCCESS| pw71641 [PATCH] examples/eventdev_pipeline: fix 32-bit coremask logic
@ 2020-06-16 17:51 dpdklab
0 siblings, 0 replies; 5+ messages in thread
From: dpdklab @ 2020-06-16 17:51 UTC (permalink / raw)
To: Ajit Khaparde, Test Report; +Cc: dpdk-test-reports
[-- Attachment #1: Type: text/plain, Size: 1271 bytes --]
Test-Label: iol-broadcom-Performance
Test-Status: SUCCESS
http://dpdk.org/patch/71641
_Performance Testing PASS_
Submitter: Harry van Haaren <harry.van.haaren@intel.com>
Date: Tuesday, June 16 2020 16:56:03
DPDK git baseline: Repo:dpdk
Branch: master
CommitID:2a5d547a4a9b7b4644e0b75d90d3b577a34e6d11
71641 --> performance testing pass
Test environment and result as below:
Ubuntu 18.04
Kernel: 4.15.0-65-generic
Compiler: gcc gcc (Ubuntu 7.4.0-1ubuntu1~18.04.1) 7.4.0
NIC: Broadcom Inc. brcm_57414 25000 Mbps
Target: x86_64-native-linuxapp-gcc
Fail/Total: 0/2
Detail performance results:
+------------+---------+-------------------------------------+
| frame_size | txd/rxd | throughput difference from expected |
+============+=========+=====================================+
| 64 | 512 | 0.042 |
+------------+---------+-------------------------------------+
| 64 | 2048 | -0.097 |
+------------+---------+-------------------------------------+
To view detailed results, visit:
https://lab.dpdk.org/results/dashboard/patchsets/11526/
UNH-IOL DPDK Community Lab
To manage your email subscriptions, visit:
https://lab.dpdk.org/results/dashboard/preferences/subscriptions/
^ permalink raw reply [flat|nested] 5+ messages in thread
[parent not found: <20200616165603.61456-1-harry.van.haaren@intel.com>]
end of thread, other threads:[~2020-06-16 22:44 UTC | newest]
Thread overview: 5+ messages (download: mbox.gz / follow: Atom feed)
-- links below jump to the message on this page --
2020-06-16 22:44 [dpdk-test-report] |SUCCESS| pw71641 [PATCH] examples/eventdev_pipeline: fix 32-bit coremask logic dpdklab
-- strict thread matches above, loose matches on Subject: below --
2020-06-16 21:11 dpdklab
2020-06-16 18:24 dpdklab
2020-06-16 17:51 dpdklab
[not found] <20200616165603.61456-1-harry.van.haaren@intel.com>
2020-06-16 16:55 ` checkpatch
This is a public inbox, see mirroring instructions
for how to clone and mirror all data and code used for this inbox;
as well as URLs for NNTP newsgroup(s).