* [dpdk-test-report] |SUCCESS| pw72048 [PATCH v4] net/ice: initialize and update RSS based on user request
[not found] <20200624020939.38262-1-junyux.jiang@intel.com>
@ 2020-06-24 2:26 ` checkpatch
2020-06-24 4:13 ` [dpdk-test-report] |SUCCESS| pw72048 " 0-day Robot
1 sibling, 0 replies; 7+ messages in thread
From: checkpatch @ 2020-06-24 2:26 UTC (permalink / raw)
To: test-report
Test-Label: checkpatch
Test-Status: SUCCESS
http://dpdk.org/patch/72048
_coding style OK_
^ permalink raw reply [flat|nested] 7+ messages in thread
* [dpdk-test-report] |SUCCESS| pw72048 net/ice: initialize and update RSS based on user request
[not found] <20200624020939.38262-1-junyux.jiang@intel.com>
2020-06-24 2:26 ` [dpdk-test-report] |SUCCESS| pw72048 [PATCH v4] net/ice: initialize and update RSS based on user request checkpatch
@ 2020-06-24 4:13 ` 0-day Robot
1 sibling, 0 replies; 7+ messages in thread
From: 0-day Robot @ 2020-06-24 4:13 UTC (permalink / raw)
To: test-report; +Cc: robot
From: robot@bytheb.org
Test-Label: travis-robot
Test-Status: SUCCESS
http://dpdk.org/patch/72048
_Travis build: passed_
Build URL: https://travis-ci.com/ovsrobot/dpdk/builds/172771895
^ permalink raw reply [flat|nested] 7+ messages in thread
* [dpdk-test-report] |SUCCESS| pw72048 [PATCH] [v4] net/ice: initialize and update RSS based on user request
@ 2020-06-24 18:23 dpdklab
0 siblings, 0 replies; 7+ messages in thread
From: dpdklab @ 2020-06-24 18:23 UTC (permalink / raw)
To: Test Report; +Cc: dpdk-test-reports
[-- Attachment #1: Type: text/plain, Size: 2908 bytes --]
Test-Label: iol-testing
Test-Status: SUCCESS
http://dpdk.org/patch/72048
_Testing PASS_
Submitter: Junyu Jiang <junyux.jiang@intel.com>
Date: Wednesday, June 24 2020 02:09:39
DPDK git baseline: Repo:dpdk
Branch: master
CommitID:0149ee8dc82cba3254c47cdc4adf44881c6dc26c
72048 --> testing pass
Test environment and result as below:
+---------------------+--------------------+--------------+----------------+-------------------+------------------+
| Environment | dpdk_meson_compile | dpdk_compile | dpdk_unit_test | dpdk_compile_spdk | dpdk_compile_ovs |
+=====================+====================+==============+================+===================+==================+
| Windows Server 2019 | PASS | SKIPPED | SKIPPED | SKIPPED | SKIPPED |
+---------------------+--------------------+--------------+----------------+-------------------+------------------+
| Fedora 31 | PASS | PASS | SKIPPED | PASS | PASS |
+---------------------+--------------------+--------------+----------------+-------------------+------------------+
| CentOS 8 | PASS | PASS | SKIPPED | PASS | PASS |
+---------------------+--------------------+--------------+----------------+-------------------+------------------+
| Ubuntu 18.04 | PASS | PASS | PASS | PASS | PASS |
+---------------------+--------------------+--------------+----------------+-------------------+------------------+
| openSUSE Leap 15 | PASS | PASS | SKIPPED | PASS | PASS |
+---------------------+--------------------+--------------+----------------+-------------------+------------------+
| Arch Linux | PASS | PASS | SKIPPED | SKIPPED | PASS |
+---------------------+--------------------+--------------+----------------+-------------------+------------------+
| FreeBSD 11.2 | PASS | PASS | SKIPPED | PASS | SKIPPED |
+---------------------+--------------------+--------------+----------------+-------------------+------------------+
Windows Server 2019
Kernel: 10.0
Compiler: clang 9.0
Fedora 31
Kernel: 5.3.16
Compiler: gcc 9.2.1
CentOS 8
Kernel: 4.18.0.el8_0
Compiler: gcc 8.3.1
Ubuntu 18.04
Kernel: 4.15.0-generic
Compiler: gcc 7.4
openSUSE Leap 15
Kernel: 4.12.14
Compiler: gcc 7.4.1
Arch Linux
Kernel: latest
Compiler: gcc latest
FreeBSD 11.2
Kernel: 11.2
Compiler: gcc 8.3
To view detailed results, visit:
https://lab.dpdk.org/results/dashboard/patchsets/11630/
UNH-IOL DPDK Community Lab
To manage your email subscriptions, visit:
https://lab.dpdk.org/results/dashboard/preferences/subscriptions/
^ permalink raw reply [flat|nested] 7+ messages in thread
* [dpdk-test-report] |SUCCESS| pw72048 [PATCH] [v4] net/ice: initialize and update RSS based on user request
@ 2020-06-24 8:58 dpdklab
0 siblings, 0 replies; 7+ messages in thread
From: dpdklab @ 2020-06-24 8:58 UTC (permalink / raw)
To: Ali Alnubani, Test Report; +Cc: dpdk-test-reports
[-- Attachment #1: Type: text/plain, Size: 3963 bytes --]
Test-Label: iol-mellanox-Performance
Test-Status: SUCCESS
http://dpdk.org/patch/72048
_Performance Testing PASS_
Submitter: Junyu Jiang <junyux.jiang@intel.com>
Date: Wednesday, June 24 2020 02:09:39
DPDK git baseline: Repo:dpdk
Branch: master
CommitID:0149ee8dc82cba3254c47cdc4adf44881c6dc26c
72048 --> performance testing pass
Test environment and result as below:
Ubuntu 18.04
Kernel: 4.15.0-generic
Compiler: gcc 7.4
NIC: Mellanox ConnectX-5 100000 Mbps
Target: x86_64-native-linuxapp-gcc
Fail/Total: 0/6
Detail performance results:
+------------+---------+-------------------------------------+
| frame_size | txd/rxd | throughput difference from expected |
+============+=========+=====================================+
| 64 | 256 | 0.032 |
+------------+---------+-------------------------------------+
| 128 | 256 | 0.067 |
+------------+---------+-------------------------------------+
| 256 | 256 | -0.041 |
+------------+---------+-------------------------------------+
| 512 | 256 | -0.010 |
+------------+---------+-------------------------------------+
| 1024 | 256 | 0.122 |
+------------+---------+-------------------------------------+
| 1518 | 256 | 0.018 |
+------------+---------+-------------------------------------+
Ubuntu 18.04
Kernel: 4.15.0-generic
Compiler: gcc 7.4
NIC: Mellanox ConnectX-4 Lx 25000 Mbps
Target: x86_64-native-linuxapp-gcc
Fail/Total: 0/6
Detail performance results:
+------------+---------+-------------------------------------+
| frame_size | txd/rxd | throughput difference from expected |
+============+=========+=====================================+
| 64 | 256 | -0.151 |
+------------+---------+-------------------------------------+
| 128 | 256 | 0.063 |
+------------+---------+-------------------------------------+
| 256 | 256 | 0.174 |
+------------+---------+-------------------------------------+
| 512 | 256 | 0 |
+------------+---------+-------------------------------------+
| 1024 | 256 | 0.015 |
+------------+---------+-------------------------------------+
| 1518 | 256 | 0.001 |
+------------+---------+-------------------------------------+
Ubuntu 18.04
Kernel: 4.15.0-generic
Compiler: gcc 7.4
NIC: Mellanox ConnectX-4 Lx 40000 Mbps
Target: x86_64-native-linuxapp-gcc
Fail/Total: 0/6
Detail performance results:
+------------+---------+-------------------------------------+
| frame_size | txd/rxd | throughput difference from expected |
+============+=========+=====================================+
| 64 | 256 | -0.102 |
+------------+---------+-------------------------------------+
| 128 | 256 | -0.390 |
+------------+---------+-------------------------------------+
| 256 | 256 | -0.017 |
+------------+---------+-------------------------------------+
| 512 | 256 | 0.011 |
+------------+---------+-------------------------------------+
| 1024 | 256 | -0.004 |
+------------+---------+-------------------------------------+
| 1518 | 256 | -0.015 |
+------------+---------+-------------------------------------+
To view detailed results, visit:
https://lab.dpdk.org/results/dashboard/patchsets/11630/
UNH-IOL DPDK Community Lab
To manage your email subscriptions, visit:
https://lab.dpdk.org/results/dashboard/preferences/subscriptions/
^ permalink raw reply [flat|nested] 7+ messages in thread
* [dpdk-test-report] |SUCCESS| pw72048 [PATCH] [v4] net/ice: initialize and update RSS based on user request
@ 2020-06-24 3:30 dpdklab
0 siblings, 0 replies; 7+ messages in thread
From: dpdklab @ 2020-06-24 3:30 UTC (permalink / raw)
To: Ruoshan Shi, Test Report; +Cc: dpdk-test-reports
[-- Attachment #1: Type: text/plain, Size: 1201 bytes --]
Test-Label: iol-nxp-Performance
Test-Status: SUCCESS
http://dpdk.org/patch/72048
_Performance Testing PASS_
Submitter: Junyu Jiang <junyux.jiang@intel.com>
Date: Wednesday, June 24 2020 02:09:39
DPDK git baseline: Repo:dpdk
Branch: master
CommitID:0149ee8dc82cba3254c47cdc4adf44881c6dc26c
72048 --> performance testing pass
Test environment and result as below:
Ubuntu 18.04
Kernel: 4.14.122
Compiler: gcc 7.3.0
NIC: NXP LS2088A 10000 Mbps
Target: x86_64-native-linuxapp-gcc
Fail/Total: 0/2
Detail performance results:
+------------+---------+-------------------------------------+
| frame_size | txd/rxd | throughput difference from expected |
+============+=========+=====================================+
| 64 | 512 | 0.084 |
+------------+---------+-------------------------------------+
| 64 | 2048 | 0.055 |
+------------+---------+-------------------------------------+
To view detailed results, visit:
https://lab.dpdk.org/results/dashboard/patchsets/11630/
UNH-IOL DPDK Community Lab
To manage your email subscriptions, visit:
https://lab.dpdk.org/results/dashboard/preferences/subscriptions/
^ permalink raw reply [flat|nested] 7+ messages in thread
* [dpdk-test-report] |SUCCESS| pw72048 [PATCH] [v4] net/ice: initialize and update RSS based on user request
@ 2020-06-24 3:26 dpdklab
0 siblings, 0 replies; 7+ messages in thread
From: dpdklab @ 2020-06-24 3:26 UTC (permalink / raw)
To: Test Report; +Cc: dpdk-test-reports
[-- Attachment #1: Type: text/plain, Size: 1913 bytes --]
Test-Label: iol-intel-Performance
Test-Status: SUCCESS
http://dpdk.org/patch/72048
_Performance Testing PASS_
Submitter: Junyu Jiang <junyux.jiang@intel.com>
Date: Wednesday, June 24 2020 02:09:39
DPDK git baseline: Repo:dpdk
Branch: master
CommitID:0149ee8dc82cba3254c47cdc4adf44881c6dc26c
72048 --> performance testing pass
Test environment and result as below:
Ubuntu 18.04
Kernel: 4.15.0-generic
Compiler: gcc 7.4
NIC: Intel Corporation Ethernet Converged Network Adapter XL710-QDA2 40000 Mbps
Target: x86_64-native-linuxapp-gcc
Fail/Total: 0/2
Detail performance results:
+------------+---------+-------------------------------------+
| frame_size | txd/rxd | throughput difference from expected |
+============+=========+=====================================+
| 64 | 512 | 4.820 |
+------------+---------+-------------------------------------+
| 64 | 2048 | 2.718 |
+------------+---------+-------------------------------------+
Ubuntu 18.04
Kernel: 4.15.0-generic
Compiler: gcc 7.4
NIC: Intel Corporation Ethernet Converged Network Adapter 82599ES 10000 Mbps
Target: x86_64-native-linuxapp-gcc
Fail/Total: 0/2
Detail performance results:
+------------+---------+-------------------------------------+
| frame_size | txd/rxd | throughput difference from expected |
+============+=========+=====================================+
| 64 | 512 | 2.711 |
+------------+---------+-------------------------------------+
| 64 | 2048 | 1.016 |
+------------+---------+-------------------------------------+
To view detailed results, visit:
https://lab.dpdk.org/results/dashboard/patchsets/11630/
UNH-IOL DPDK Community Lab
To manage your email subscriptions, visit:
https://lab.dpdk.org/results/dashboard/preferences/subscriptions/
^ permalink raw reply [flat|nested] 7+ messages in thread
* [dpdk-test-report] |SUCCESS| pw72048 [PATCH] [v4] net/ice: initialize and update RSS based on user request
@ 2020-06-24 3:01 dpdklab
0 siblings, 0 replies; 7+ messages in thread
From: dpdklab @ 2020-06-24 3:01 UTC (permalink / raw)
To: Ajit Khaparde, Test Report; +Cc: dpdk-test-reports
[-- Attachment #1: Type: text/plain, Size: 1264 bytes --]
Test-Label: iol-broadcom-Performance
Test-Status: SUCCESS
http://dpdk.org/patch/72048
_Performance Testing PASS_
Submitter: Junyu Jiang <junyux.jiang@intel.com>
Date: Wednesday, June 24 2020 02:09:39
DPDK git baseline: Repo:dpdk
Branch: master
CommitID:0149ee8dc82cba3254c47cdc4adf44881c6dc26c
72048 --> performance testing pass
Test environment and result as below:
Ubuntu 18.04
Kernel: 4.15.0-65-generic
Compiler: gcc gcc (Ubuntu 7.4.0-1ubuntu1~18.04.1) 7.4.0
NIC: Broadcom Inc. brcm_57414 25000 Mbps
Target: x86_64-native-linuxapp-gcc
Fail/Total: 0/2
Detail performance results:
+------------+---------+-------------------------------------+
| frame_size | txd/rxd | throughput difference from expected |
+============+=========+=====================================+
| 64 | 512 | 0.072 |
+------------+---------+-------------------------------------+
| 64 | 2048 | -0.010 |
+------------+---------+-------------------------------------+
To view detailed results, visit:
https://lab.dpdk.org/results/dashboard/patchsets/11630/
UNH-IOL DPDK Community Lab
To manage your email subscriptions, visit:
https://lab.dpdk.org/results/dashboard/preferences/subscriptions/
^ permalink raw reply [flat|nested] 7+ messages in thread
end of thread, other threads:[~2020-06-24 18:23 UTC | newest]
Thread overview: 7+ messages (download: mbox.gz / follow: Atom feed)
-- links below jump to the message on this page --
[not found] <20200624020939.38262-1-junyux.jiang@intel.com>
2020-06-24 2:26 ` [dpdk-test-report] |SUCCESS| pw72048 [PATCH v4] net/ice: initialize and update RSS based on user request checkpatch
2020-06-24 4:13 ` [dpdk-test-report] |SUCCESS| pw72048 " 0-day Robot
2020-06-24 18:23 [dpdk-test-report] |SUCCESS| pw72048 [PATCH] [v4] " dpdklab
-- strict thread matches above, loose matches on Subject: below --
2020-06-24 8:58 dpdklab
2020-06-24 3:30 dpdklab
2020-06-24 3:26 dpdklab
2020-06-24 3:01 dpdklab
This is a public inbox, see mirroring instructions
for how to clone and mirror all data and code used for this inbox;
as well as URLs for NNTP newsgroup(s).