* [dpdk-test-report] |SUCCESS| pw72055-72096 [PATCH] [v2, 01/42] net/e1000/base: resolve flash presence for i210 devices
@ 2020-06-24 9:32 dpdklab
0 siblings, 0 replies; 5+ messages in thread
From: dpdklab @ 2020-06-24 9:32 UTC (permalink / raw)
To: Test Report; +Cc: dpdk-test-reports
[-- Attachment #1: Type: text/plain, Size: 1917 bytes --]
Test-Label: iol-intel-Performance
Test-Status: SUCCESS
http://dpdk.org/patch/72055
_Performance Testing PASS_
Submitter: Guinan Sun <guinanx.sun@intel.com>
Date: Wednesday, June 24 2020 07:52:56
DPDK git baseline: Repo:dpdk
Branch: master
CommitID:0149ee8dc82cba3254c47cdc4adf44881c6dc26c
72055-72096 --> performance testing pass
Test environment and result as below:
Ubuntu 18.04
Kernel: 4.15.0-generic
Compiler: gcc 7.4
NIC: Intel Corporation Ethernet Converged Network Adapter XL710-QDA2 40000 Mbps
Target: x86_64-native-linuxapp-gcc
Fail/Total: 0/2
Detail performance results:
+------------+---------+-------------------------------------+
| frame_size | txd/rxd | throughput difference from expected |
+============+=========+=====================================+
| 64 | 512 | 4.655 |
+------------+---------+-------------------------------------+
| 64 | 2048 | 2.520 |
+------------+---------+-------------------------------------+
Ubuntu 18.04
Kernel: 4.15.0-generic
Compiler: gcc 7.4
NIC: Intel Corporation Ethernet Converged Network Adapter 82599ES 10000 Mbps
Target: x86_64-native-linuxapp-gcc
Fail/Total: 0/2
Detail performance results:
+------------+---------+-------------------------------------+
| frame_size | txd/rxd | throughput difference from expected |
+============+=========+=====================================+
| 64 | 512 | 2.758 |
+------------+---------+-------------------------------------+
| 64 | 2048 | 0.892 |
+------------+---------+-------------------------------------+
To view detailed results, visit:
https://lab.dpdk.org/results/dashboard/patchsets/11632/
UNH-IOL DPDK Community Lab
To manage your email subscriptions, visit:
https://lab.dpdk.org/results/dashboard/preferences/subscriptions/
^ permalink raw reply [flat|nested] 5+ messages in thread
* [dpdk-test-report] |SUCCESS| pw72055-72096 [PATCH] [v2, 01/42] net/e1000/base: resolve flash presence for i210 devices
@ 2020-06-24 22:17 dpdklab
0 siblings, 0 replies; 5+ messages in thread
From: dpdklab @ 2020-06-24 22:17 UTC (permalink / raw)
To: Test Report; +Cc: dpdk-test-reports
[-- Attachment #1: Type: text/plain, Size: 2912 bytes --]
Test-Label: iol-testing
Test-Status: SUCCESS
http://dpdk.org/patch/72055
_Testing PASS_
Submitter: Guinan Sun <guinanx.sun@intel.com>
Date: Wednesday, June 24 2020 07:52:56
DPDK git baseline: Repo:dpdk
Branch: master
CommitID:0149ee8dc82cba3254c47cdc4adf44881c6dc26c
72055-72096 --> testing pass
Test environment and result as below:
+---------------------+--------------------+-------------------+----------------+------------------+--------------+
| Environment | dpdk_meson_compile | dpdk_compile_spdk | dpdk_unit_test | dpdk_compile_ovs | dpdk_compile |
+=====================+====================+===================+================+==================+==============+
| Windows Server 2019 | PASS | SKIPPED | SKIPPED | SKIPPED | SKIPPED |
+---------------------+--------------------+-------------------+----------------+------------------+--------------+
| openSUSE Leap 15 | PASS | PASS | SKIPPED | PASS | PASS |
+---------------------+--------------------+-------------------+----------------+------------------+--------------+
| Fedora 31 | PASS | PASS | SKIPPED | PASS | PASS |
+---------------------+--------------------+-------------------+----------------+------------------+--------------+
| CentOS 8 | PASS | PASS | SKIPPED | PASS | PASS |
+---------------------+--------------------+-------------------+----------------+------------------+--------------+
| Ubuntu 18.04 | PASS | PASS | PASS | PASS | PASS |
+---------------------+--------------------+-------------------+----------------+------------------+--------------+
| Arch Linux | PASS | SKIPPED | SKIPPED | PASS | PASS |
+---------------------+--------------------+-------------------+----------------+------------------+--------------+
| FreeBSD 11.2 | PASS | PASS | SKIPPED | SKIPPED | PASS |
+---------------------+--------------------+-------------------+----------------+------------------+--------------+
Windows Server 2019
Kernel: 10.0
Compiler: clang 9.0
openSUSE Leap 15
Kernel: 4.12.14
Compiler: gcc 7.4.1
Fedora 31
Kernel: 5.3.16
Compiler: gcc 9.2.1
CentOS 8
Kernel: 4.18.0.el8_0
Compiler: gcc 8.3.1
Ubuntu 18.04
Kernel: 4.15.0-generic
Compiler: gcc 7.4
Arch Linux
Kernel: latest
Compiler: gcc latest
FreeBSD 11.2
Kernel: 11.2
Compiler: gcc 8.3
To view detailed results, visit:
https://lab.dpdk.org/results/dashboard/patchsets/11632/
UNH-IOL DPDK Community Lab
To manage your email subscriptions, visit:
https://lab.dpdk.org/results/dashboard/preferences/subscriptions/
^ permalink raw reply [flat|nested] 5+ messages in thread
* [dpdk-test-report] |SUCCESS| pw72055-72096 [PATCH] [v2, 01/42] net/e1000/base: resolve flash presence for i210 devices
@ 2020-06-24 12:04 dpdklab
0 siblings, 0 replies; 5+ messages in thread
From: dpdklab @ 2020-06-24 12:04 UTC (permalink / raw)
To: Ali Alnubani, Test Report; +Cc: dpdk-test-reports
[-- Attachment #1: Type: text/plain, Size: 3967 bytes --]
Test-Label: iol-mellanox-Performance
Test-Status: SUCCESS
http://dpdk.org/patch/72055
_Performance Testing PASS_
Submitter: Guinan Sun <guinanx.sun@intel.com>
Date: Wednesday, June 24 2020 07:52:56
DPDK git baseline: Repo:dpdk
Branch: master
CommitID:0149ee8dc82cba3254c47cdc4adf44881c6dc26c
72055-72096 --> performance testing pass
Test environment and result as below:
Ubuntu 18.04
Kernel: 4.15.0-generic
Compiler: gcc 7.4
NIC: Mellanox ConnectX-5 100000 Mbps
Target: x86_64-native-linuxapp-gcc
Fail/Total: 0/6
Detail performance results:
+------------+---------+-------------------------------------+
| frame_size | txd/rxd | throughput difference from expected |
+============+=========+=====================================+
| 64 | 256 | 0.551 |
+------------+---------+-------------------------------------+
| 128 | 256 | 0.088 |
+------------+---------+-------------------------------------+
| 256 | 256 | 0.140 |
+------------+---------+-------------------------------------+
| 512 | 256 | 0.212 |
+------------+---------+-------------------------------------+
| 1024 | 256 | 0.030 |
+------------+---------+-------------------------------------+
| 1518 | 256 | 0.006 |
+------------+---------+-------------------------------------+
Ubuntu 18.04
Kernel: 4.15.0-generic
Compiler: gcc 7.4
NIC: Mellanox ConnectX-4 Lx 25000 Mbps
Target: x86_64-native-linuxapp-gcc
Fail/Total: 0/6
Detail performance results:
+------------+---------+-------------------------------------+
| frame_size | txd/rxd | throughput difference from expected |
+============+=========+=====================================+
| 64 | 256 | 0.107 |
+------------+---------+-------------------------------------+
| 128 | 256 | 0.136 |
+------------+---------+-------------------------------------+
| 256 | 256 | 0.081 |
+------------+---------+-------------------------------------+
| 512 | 256 | -0.002 |
+------------+---------+-------------------------------------+
| 1024 | 256 | 0.006 |
+------------+---------+-------------------------------------+
| 1518 | 256 | 0.010 |
+------------+---------+-------------------------------------+
Ubuntu 18.04
Kernel: 4.15.0-generic
Compiler: gcc 7.4
NIC: Mellanox ConnectX-4 Lx 40000 Mbps
Target: x86_64-native-linuxapp-gcc
Fail/Total: 0/6
Detail performance results:
+------------+---------+-------------------------------------+
| frame_size | txd/rxd | throughput difference from expected |
+============+=========+=====================================+
| 64 | 256 | -0.549 |
+------------+---------+-------------------------------------+
| 128 | 256 | -0.268 |
+------------+---------+-------------------------------------+
| 256 | 256 | 0.124 |
+------------+---------+-------------------------------------+
| 512 | 256 | 0.012 |
+------------+---------+-------------------------------------+
| 1024 | 256 | -0.003 |
+------------+---------+-------------------------------------+
| 1518 | 256 | -0.015 |
+------------+---------+-------------------------------------+
To view detailed results, visit:
https://lab.dpdk.org/results/dashboard/patchsets/11632/
UNH-IOL DPDK Community Lab
To manage your email subscriptions, visit:
https://lab.dpdk.org/results/dashboard/preferences/subscriptions/
^ permalink raw reply [flat|nested] 5+ messages in thread
* [dpdk-test-report] |SUCCESS| pw72055-72096 [PATCH] [v2, 01/42] net/e1000/base: resolve flash presence for i210 devices
@ 2020-06-24 9:38 dpdklab
0 siblings, 0 replies; 5+ messages in thread
From: dpdklab @ 2020-06-24 9:38 UTC (permalink / raw)
To: Ruoshan Shi, Test Report; +Cc: dpdk-test-reports
[-- Attachment #1: Type: text/plain, Size: 1205 bytes --]
Test-Label: iol-nxp-Performance
Test-Status: SUCCESS
http://dpdk.org/patch/72055
_Performance Testing PASS_
Submitter: Guinan Sun <guinanx.sun@intel.com>
Date: Wednesday, June 24 2020 07:52:56
DPDK git baseline: Repo:dpdk
Branch: master
CommitID:0149ee8dc82cba3254c47cdc4adf44881c6dc26c
72055-72096 --> performance testing pass
Test environment and result as below:
Ubuntu 18.04
Kernel: 4.14.122
Compiler: gcc 7.3.0
NIC: NXP LS2088A 10000 Mbps
Target: x86_64-native-linuxapp-gcc
Fail/Total: 0/2
Detail performance results:
+------------+---------+-------------------------------------+
| frame_size | txd/rxd | throughput difference from expected |
+============+=========+=====================================+
| 64 | 512 | -0.112 |
+------------+---------+-------------------------------------+
| 64 | 2048 | 0.001 |
+------------+---------+-------------------------------------+
To view detailed results, visit:
https://lab.dpdk.org/results/dashboard/patchsets/11632/
UNH-IOL DPDK Community Lab
To manage your email subscriptions, visit:
https://lab.dpdk.org/results/dashboard/preferences/subscriptions/
^ permalink raw reply [flat|nested] 5+ messages in thread
* [dpdk-test-report] |SUCCESS| pw72055-72096 [PATCH] [v2, 01/42] net/e1000/base: resolve flash presence for i210 devices
@ 2020-06-24 8:47 dpdklab
0 siblings, 0 replies; 5+ messages in thread
From: dpdklab @ 2020-06-24 8:47 UTC (permalink / raw)
To: Ajit Khaparde, Test Report; +Cc: dpdk-test-reports
[-- Attachment #1: Type: text/plain, Size: 1268 bytes --]
Test-Label: iol-broadcom-Performance
Test-Status: SUCCESS
http://dpdk.org/patch/72055
_Performance Testing PASS_
Submitter: Guinan Sun <guinanx.sun@intel.com>
Date: Wednesday, June 24 2020 07:52:56
DPDK git baseline: Repo:dpdk
Branch: master
CommitID:0149ee8dc82cba3254c47cdc4adf44881c6dc26c
72055-72096 --> performance testing pass
Test environment and result as below:
Ubuntu 18.04
Kernel: 4.15.0-65-generic
Compiler: gcc gcc (Ubuntu 7.4.0-1ubuntu1~18.04.1) 7.4.0
NIC: Broadcom Inc. brcm_57414 25000 Mbps
Target: x86_64-native-linuxapp-gcc
Fail/Total: 0/2
Detail performance results:
+------------+---------+-------------------------------------+
| frame_size | txd/rxd | throughput difference from expected |
+============+=========+=====================================+
| 64 | 512 | 0.083 |
+------------+---------+-------------------------------------+
| 64 | 2048 | -0.026 |
+------------+---------+-------------------------------------+
To view detailed results, visit:
https://lab.dpdk.org/results/dashboard/patchsets/11632/
UNH-IOL DPDK Community Lab
To manage your email subscriptions, visit:
https://lab.dpdk.org/results/dashboard/preferences/subscriptions/
^ permalink raw reply [flat|nested] 5+ messages in thread
end of thread, other threads:[~2020-06-24 22:17 UTC | newest]
Thread overview: 5+ messages (download: mbox.gz / follow: Atom feed)
-- links below jump to the message on this page --
2020-06-24 9:32 [dpdk-test-report] |SUCCESS| pw72055-72096 [PATCH] [v2, 01/42] net/e1000/base: resolve flash presence for i210 devices dpdklab
-- strict thread matches above, loose matches on Subject: below --
2020-06-24 22:17 dpdklab
2020-06-24 12:04 dpdklab
2020-06-24 9:38 dpdklab
2020-06-24 8:47 dpdklab
This is a public inbox, see mirroring instructions
for how to clone and mirror all data and code used for this inbox;
as well as URLs for NNTP newsgroup(s).