Test-Label: checkpatch Test-Status: SUCCESS http://dpdk.org/patch/72102 _coding style OK_
[-- Attachment #1: Type: text/plain, Size: 1265 bytes --] Test-Label: iol-broadcom-Performance Test-Status: SUCCESS http://dpdk.org/patch/72102 _Performance Testing PASS_ Submitter: Ferruh Yigit <ferruh.yigit@intel.com> Date: Wednesday, June 24 2020 09:35:20 DPDK git baseline: Repo:dpdk Branch: master CommitID:0149ee8dc82cba3254c47cdc4adf44881c6dc26c 72102 --> performance testing pass Test environment and result as below: Ubuntu 18.04 Kernel: 4.15.0-65-generic Compiler: gcc gcc (Ubuntu 7.4.0-1ubuntu1~18.04.1) 7.4.0 NIC: Broadcom Inc. brcm_57414 25000 Mbps Target: x86_64-native-linuxapp-gcc Fail/Total: 0/2 Detail performance results: +------------+---------+-------------------------------------+ | frame_size | txd/rxd | throughput difference from expected | +============+=========+=====================================+ | 64 | 512 | 0.071 | +------------+---------+-------------------------------------+ | 64 | 2048 | -0.021 | +------------+---------+-------------------------------------+ To view detailed results, visit: https://lab.dpdk.org/results/dashboard/patchsets/11635/ UNH-IOL DPDK Community Lab To manage your email subscriptions, visit: https://lab.dpdk.org/results/dashboard/preferences/subscriptions/
[-- Attachment #1: Type: text/plain, Size: 1914 bytes --] Test-Label: iol-intel-Performance Test-Status: SUCCESS http://dpdk.org/patch/72102 _Performance Testing PASS_ Submitter: Ferruh Yigit <ferruh.yigit@intel.com> Date: Wednesday, June 24 2020 09:35:20 DPDK git baseline: Repo:dpdk Branch: master CommitID:0149ee8dc82cba3254c47cdc4adf44881c6dc26c 72102 --> performance testing pass Test environment and result as below: Ubuntu 18.04 Kernel: 4.15.0-generic Compiler: gcc 7.4 NIC: Intel Corporation Ethernet Converged Network Adapter XL710-QDA2 40000 Mbps Target: x86_64-native-linuxapp-gcc Fail/Total: 0/2 Detail performance results: +------------+---------+-------------------------------------+ | frame_size | txd/rxd | throughput difference from expected | +============+=========+=====================================+ | 64 | 512 | 4.751 | +------------+---------+-------------------------------------+ | 64 | 2048 | 3.162 | +------------+---------+-------------------------------------+ Ubuntu 18.04 Kernel: 4.15.0-generic Compiler: gcc 7.4 NIC: Intel Corporation Ethernet Converged Network Adapter 82599ES 10000 Mbps Target: x86_64-native-linuxapp-gcc Fail/Total: 0/2 Detail performance results: +------------+---------+-------------------------------------+ | frame_size | txd/rxd | throughput difference from expected | +============+=========+=====================================+ | 64 | 512 | 2.682 | +------------+---------+-------------------------------------+ | 64 | 2048 | 0.922 | +------------+---------+-------------------------------------+ To view detailed results, visit: https://lab.dpdk.org/results/dashboard/patchsets/11635/ UNH-IOL DPDK Community Lab To manage your email subscriptions, visit: https://lab.dpdk.org/results/dashboard/preferences/subscriptions/
[-- Attachment #1: Type: text/plain, Size: 1202 bytes --] Test-Label: iol-nxp-Performance Test-Status: SUCCESS http://dpdk.org/patch/72102 _Performance Testing PASS_ Submitter: Ferruh Yigit <ferruh.yigit@intel.com> Date: Wednesday, June 24 2020 09:35:20 DPDK git baseline: Repo:dpdk Branch: master CommitID:0149ee8dc82cba3254c47cdc4adf44881c6dc26c 72102 --> performance testing pass Test environment and result as below: Ubuntu 18.04 Kernel: 4.14.122 Compiler: gcc 7.3.0 NIC: NXP LS2088A 10000 Mbps Target: x86_64-native-linuxapp-gcc Fail/Total: 0/2 Detail performance results: +------------+---------+-------------------------------------+ | frame_size | txd/rxd | throughput difference from expected | +============+=========+=====================================+ | 64 | 512 | -0.017 | +------------+---------+-------------------------------------+ | 64 | 2048 | 0.026 | +------------+---------+-------------------------------------+ To view detailed results, visit: https://lab.dpdk.org/results/dashboard/patchsets/11635/ UNH-IOL DPDK Community Lab To manage your email subscriptions, visit: https://lab.dpdk.org/results/dashboard/preferences/subscriptions/
[-- Attachment #1: Type: text/plain, Size: 3964 bytes --] Test-Label: iol-mellanox-Performance Test-Status: SUCCESS http://dpdk.org/patch/72102 _Performance Testing PASS_ Submitter: Ferruh Yigit <ferruh.yigit@intel.com> Date: Wednesday, June 24 2020 09:35:20 DPDK git baseline: Repo:dpdk Branch: master CommitID:0149ee8dc82cba3254c47cdc4adf44881c6dc26c 72102 --> performance testing pass Test environment and result as below: Ubuntu 18.04 Kernel: 4.15.0-generic Compiler: gcc 7.4 NIC: Mellanox ConnectX-5 100000 Mbps Target: x86_64-native-linuxapp-gcc Fail/Total: 0/6 Detail performance results: +------------+---------+-------------------------------------+ | frame_size | txd/rxd | throughput difference from expected | +============+=========+=====================================+ | 64 | 256 | 0.239 | +------------+---------+-------------------------------------+ | 128 | 256 | 0.099 | +------------+---------+-------------------------------------+ | 256 | 256 | 0.003 | +------------+---------+-------------------------------------+ | 512 | 256 | 0.043 | +------------+---------+-------------------------------------+ | 1024 | 256 | 0.050 | +------------+---------+-------------------------------------+ | 1518 | 256 | -0.002 | +------------+---------+-------------------------------------+ Ubuntu 18.04 Kernel: 4.15.0-generic Compiler: gcc 7.4 NIC: Mellanox ConnectX-4 Lx 25000 Mbps Target: x86_64-native-linuxapp-gcc Fail/Total: 0/6 Detail performance results: +------------+---------+-------------------------------------+ | frame_size | txd/rxd | throughput difference from expected | +============+=========+=====================================+ | 64 | 256 | -0.266 | +------------+---------+-------------------------------------+ | 128 | 256 | 0.059 | +------------+---------+-------------------------------------+ | 256 | 256 | 0.094 | +------------+---------+-------------------------------------+ | 512 | 256 | -0.001 | +------------+---------+-------------------------------------+ | 1024 | 256 | 0.002 | +------------+---------+-------------------------------------+ | 1518 | 256 | 0.010 | +------------+---------+-------------------------------------+ Ubuntu 18.04 Kernel: 4.15.0-generic Compiler: gcc 7.4 NIC: Mellanox ConnectX-4 Lx 40000 Mbps Target: x86_64-native-linuxapp-gcc Fail/Total: 0/6 Detail performance results: +------------+---------+-------------------------------------+ | frame_size | txd/rxd | throughput difference from expected | +============+=========+=====================================+ | 64 | 256 | -0.577 | +------------+---------+-------------------------------------+ | 128 | 256 | 1.245 | +------------+---------+-------------------------------------+ | 256 | 256 | -0.017 | +------------+---------+-------------------------------------+ | 512 | 256 | 0.004 | +------------+---------+-------------------------------------+ | 1024 | 256 | -0.009 | +------------+---------+-------------------------------------+ | 1518 | 256 | -0.014 | +------------+---------+-------------------------------------+ To view detailed results, visit: https://lab.dpdk.org/results/dashboard/patchsets/11635/ UNH-IOL DPDK Community Lab To manage your email subscriptions, visit: https://lab.dpdk.org/results/dashboard/preferences/subscriptions/
[-- Attachment #1: Type: text/plain, Size: 2909 bytes --] Test-Label: iol-testing Test-Status: SUCCESS http://dpdk.org/patch/72102 _Testing PASS_ Submitter: Ferruh Yigit <ferruh.yigit@intel.com> Date: Wednesday, June 24 2020 09:35:20 DPDK git baseline: Repo:dpdk Branch: master CommitID:0149ee8dc82cba3254c47cdc4adf44881c6dc26c 72102 --> testing pass Test environment and result as below: +---------------------+--------------------+--------------+----------------+-------------------+------------------+ | Environment | dpdk_meson_compile | dpdk_compile | dpdk_unit_test | dpdk_compile_spdk | dpdk_compile_ovs | +=====================+====================+==============+================+===================+==================+ | Windows Server 2019 | PASS | SKIPPED | SKIPPED | SKIPPED | SKIPPED | +---------------------+--------------------+--------------+----------------+-------------------+------------------+ | openSUSE Leap 15 | PASS | PASS | SKIPPED | PASS | PASS | +---------------------+--------------------+--------------+----------------+-------------------+------------------+ | CentOS 8 | PASS | PASS | SKIPPED | PASS | PASS | +---------------------+--------------------+--------------+----------------+-------------------+------------------+ | Ubuntu 18.04 | PASS | PASS | PASS | PASS | PASS | +---------------------+--------------------+--------------+----------------+-------------------+------------------+ | Fedora 31 | PASS | PASS | SKIPPED | PASS | PASS | +---------------------+--------------------+--------------+----------------+-------------------+------------------+ | Arch Linux | PASS | PASS | SKIPPED | SKIPPED | PASS | +---------------------+--------------------+--------------+----------------+-------------------+------------------+ | FreeBSD 11.2 | PASS | PASS | SKIPPED | PASS | SKIPPED | +---------------------+--------------------+--------------+----------------+-------------------+------------------+ Windows Server 2019 Kernel: 10.0 Compiler: clang 9.0 openSUSE Leap 15 Kernel: 4.12.14 Compiler: gcc 7.4.1 CentOS 8 Kernel: 4.18.0.el8_0 Compiler: gcc 8.3.1 Ubuntu 18.04 Kernel: 4.15.0-generic Compiler: gcc 7.4 Fedora 31 Kernel: 5.3.16 Compiler: gcc 9.2.1 Arch Linux Kernel: latest Compiler: gcc latest FreeBSD 11.2 Kernel: 11.2 Compiler: gcc 8.3 To view detailed results, visit: https://lab.dpdk.org/results/dashboard/patchsets/11635/ UNH-IOL DPDK Community Lab To manage your email subscriptions, visit: https://lab.dpdk.org/results/dashboard/preferences/subscriptions/