[-- Attachment #1: Type: text/plain, Size: 1263 bytes --] Test-Label: iol-broadcom-Performance Test-Status: SUCCESS http://dpdk.org/patch/72360 _Performance Testing PASS_ Submitter: Zhao1, Wei <wei.zhao1@intel.com> Date: Sunday, June 28 2020 05:01:42 DPDK git baseline: Repo:dpdk Branch: master CommitID:6248368a9ae1eadf6b7fb05ab37497afdb714429 72360-72363 --> performance testing pass Test environment and result as below: Ubuntu 18.04 Kernel: 4.15.0-65-generic Compiler: gcc gcc (Ubuntu 7.4.0-1ubuntu1~18.04.1) 7.4.0 NIC: Broadcom Inc. brcm_57414 25000 Mbps Target: x86_64-native-linuxapp-gcc Fail/Total: 0/2 Detail performance results: +------------+---------+-------------------------------------+ | frame_size | txd/rxd | throughput difference from expected | +============+=========+=====================================+ | 64 | 512 | 0.022 | +------------+---------+-------------------------------------+ | 64 | 2048 | -0.049 | +------------+---------+-------------------------------------+ To view detailed results, visit: https://lab.dpdk.org/results/dashboard/patchsets/11704/ UNH-IOL DPDK Community Lab To manage your email subscriptions, visit: https://lab.dpdk.org/results/dashboard/preferences/subscriptions/
[-- Attachment #1: Type: text/plain, Size: 1912 bytes --] Test-Label: iol-intel-Performance Test-Status: SUCCESS http://dpdk.org/patch/72360 _Performance Testing PASS_ Submitter: Zhao1, Wei <wei.zhao1@intel.com> Date: Sunday, June 28 2020 05:01:42 DPDK git baseline: Repo:dpdk Branch: master CommitID:6248368a9ae1eadf6b7fb05ab37497afdb714429 72360-72363 --> performance testing pass Test environment and result as below: Ubuntu 18.04 Kernel: 4.15.0-generic Compiler: gcc 7.4 NIC: Intel Corporation Ethernet Converged Network Adapter XL710-QDA2 40000 Mbps Target: x86_64-native-linuxapp-gcc Fail/Total: 0/2 Detail performance results: +------------+---------+-------------------------------------+ | frame_size | txd/rxd | throughput difference from expected | +============+=========+=====================================+ | 64 | 512 | 5.119 | +------------+---------+-------------------------------------+ | 64 | 2048 | 3.107 | +------------+---------+-------------------------------------+ Ubuntu 18.04 Kernel: 4.15.0-generic Compiler: gcc 7.4 NIC: Intel Corporation Ethernet Converged Network Adapter 82599ES 10000 Mbps Target: x86_64-native-linuxapp-gcc Fail/Total: 0/2 Detail performance results: +------------+---------+-------------------------------------+ | frame_size | txd/rxd | throughput difference from expected | +============+=========+=====================================+ | 64 | 512 | 2.782 | +------------+---------+-------------------------------------+ | 64 | 2048 | 0.828 | +------------+---------+-------------------------------------+ To view detailed results, visit: https://lab.dpdk.org/results/dashboard/patchsets/11704/ UNH-IOL DPDK Community Lab To manage your email subscriptions, visit: https://lab.dpdk.org/results/dashboard/preferences/subscriptions/
[-- Attachment #1: Type: text/plain, Size: 1200 bytes --] Test-Label: iol-nxp-Performance Test-Status: SUCCESS http://dpdk.org/patch/72360 _Performance Testing PASS_ Submitter: Zhao1, Wei <wei.zhao1@intel.com> Date: Sunday, June 28 2020 05:01:42 DPDK git baseline: Repo:dpdk Branch: master CommitID:6248368a9ae1eadf6b7fb05ab37497afdb714429 72360-72363 --> performance testing pass Test environment and result as below: Ubuntu 18.04 Kernel: 4.14.122 Compiler: gcc 7.3.0 NIC: NXP LS2088A 10000 Mbps Target: x86_64-native-linuxapp-gcc Fail/Total: 0/2 Detail performance results: +------------+---------+-------------------------------------+ | frame_size | txd/rxd | throughput difference from expected | +============+=========+=====================================+ | 64 | 512 | -0.141 | +------------+---------+-------------------------------------+ | 64 | 2048 | 0.005 | +------------+---------+-------------------------------------+ To view detailed results, visit: https://lab.dpdk.org/results/dashboard/patchsets/11704/ UNH-IOL DPDK Community Lab To manage your email subscriptions, visit: https://lab.dpdk.org/results/dashboard/preferences/subscriptions/
[-- Attachment #1: Type: text/plain, Size: 3960 bytes --] Test-Label: iol-mellanox-Performance Test-Status: SUCCESS http://dpdk.org/patch/72360 _Performance Testing PASS_ Submitter: Wei Zhao <wei.zhao1@intel.com> Date: Sunday, June 28 2020 05:01:42 DPDK git baseline: Repo:dpdk Branch: master CommitID:6248368a9ae1eadf6b7fb05ab37497afdb714429 72360-72363 --> performance testing pass Test environment and result as below: Ubuntu 18.04 Kernel: 4.15.0-generic Compiler: gcc 7.4 NIC: Mellanox ConnectX-5 100000 Mbps Target: x86_64-native-linuxapp-gcc Fail/Total: 0/6 Detail performance results: +------------+---------+-------------------------------------+ | frame_size | txd/rxd | throughput difference from expected | +============+=========+=====================================+ | 64 | 256 | 0.705 | +------------+---------+-------------------------------------+ | 128 | 256 | -0.097 | +------------+---------+-------------------------------------+ | 256 | 256 | 0.117 | +------------+---------+-------------------------------------+ | 512 | 256 | -0.158 | +------------+---------+-------------------------------------+ | 1024 | 256 | -0.037 | +------------+---------+-------------------------------------+ | 1518 | 256 | 0.017 | +------------+---------+-------------------------------------+ Ubuntu 18.04 Kernel: 4.15.0-generic Compiler: gcc 7.4 NIC: Mellanox ConnectX-4 Lx 25000 Mbps Target: x86_64-native-linuxapp-gcc Fail/Total: 0/6 Detail performance results: +------------+---------+-------------------------------------+ | frame_size | txd/rxd | throughput difference from expected | +============+=========+=====================================+ | 64 | 256 | -0.095 | +------------+---------+-------------------------------------+ | 128 | 256 | 0.065 | +------------+---------+-------------------------------------+ | 256 | 256 | 0.107 | +------------+---------+-------------------------------------+ | 512 | 256 | 0.016 | +------------+---------+-------------------------------------+ | 1024 | 256 | 0.003 | +------------+---------+-------------------------------------+ | 1518 | 256 | 0.013 | +------------+---------+-------------------------------------+ Ubuntu 18.04 Kernel: 4.15.0-generic Compiler: gcc 7.4 NIC: Mellanox ConnectX-4 Lx 40000 Mbps Target: x86_64-native-linuxapp-gcc Fail/Total: 0/6 Detail performance results: +------------+---------+-------------------------------------+ | frame_size | txd/rxd | throughput difference from expected | +============+=========+=====================================+ | 64 | 256 | -0.001 | +------------+---------+-------------------------------------+ | 128 | 256 | 1.117 | +------------+---------+-------------------------------------+ | 256 | 256 | 0.072 | +------------+---------+-------------------------------------+ | 512 | 256 | 0.010 | +------------+---------+-------------------------------------+ | 1024 | 256 | -0.007 | +------------+---------+-------------------------------------+ | 1518 | 256 | -0.014 | +------------+---------+-------------------------------------+ To view detailed results, visit: https://lab.dpdk.org/results/dashboard/patchsets/11704/ UNH-IOL DPDK Community Lab To manage your email subscriptions, visit: https://lab.dpdk.org/results/dashboard/preferences/subscriptions/
[-- Attachment #1: Type: text/plain, Size: 2905 bytes --] Test-Label: iol-testing Test-Status: SUCCESS http://dpdk.org/patch/72360 _Testing PASS_ Submitter: Wei Zhao <wei.zhao1@intel.com> Date: Sunday, June 28 2020 05:01:42 DPDK git baseline: Repo:dpdk Branch: master CommitID:6248368a9ae1eadf6b7fb05ab37497afdb714429 72360-72363 --> testing pass Test environment and result as below: +---------------------+--------------------+-------------------+------------------+--------------+----------------+ | Environment | dpdk_meson_compile | dpdk_compile_spdk | dpdk_compile_ovs | dpdk_compile | dpdk_unit_test | +=====================+====================+===================+==================+==============+================+ | Windows Server 2019 | PASS | SKIPPED | SKIPPED | SKIPPED | SKIPPED | +---------------------+--------------------+-------------------+------------------+--------------+----------------+ | Fedora 31 | PASS | PASS | PASS | PASS | SKIPPED | +---------------------+--------------------+-------------------+------------------+--------------+----------------+ | CentOS 8 | PASS | PASS | PASS | PASS | SKIPPED | +---------------------+--------------------+-------------------+------------------+--------------+----------------+ | Ubuntu 18.04 | PASS | PASS | PASS | PASS | PASS | +---------------------+--------------------+-------------------+------------------+--------------+----------------+ | openSUSE Leap 15 | PASS | PASS | PASS | PASS | SKIPPED | +---------------------+--------------------+-------------------+------------------+--------------+----------------+ | Arch Linux | PASS | SKIPPED | PASS | PASS | SKIPPED | +---------------------+--------------------+-------------------+------------------+--------------+----------------+ | FreeBSD 11.2 | PASS | PASS | SKIPPED | PASS | SKIPPED | +---------------------+--------------------+-------------------+------------------+--------------+----------------+ Windows Server 2019 Kernel: 10.0 Compiler: clang 9.0 Fedora 31 Kernel: 5.3.16 Compiler: gcc 9.2.1 CentOS 8 Kernel: 4.18.0.el8_0 Compiler: gcc 8.3.1 Ubuntu 18.04 Kernel: 4.15.0-generic Compiler: gcc 7.4 openSUSE Leap 15 Kernel: 4.12.14 Compiler: gcc 7.4.1 Arch Linux Kernel: latest Compiler: gcc latest FreeBSD 11.2 Kernel: 11.2 Compiler: gcc 8.3 To view detailed results, visit: https://lab.dpdk.org/results/dashboard/patchsets/11704/ UNH-IOL DPDK Community Lab To manage your email subscriptions, visit: https://lab.dpdk.org/results/dashboard/preferences/subscriptions/