automatic DPDK test reports
 help / color / Atom feed
* [dpdk-test-report] |SUCCESS| pw72432 [PATCH] net/mlx5: fix LACP action type casting
       [not found] <1593446472-4335-1-git-send-email-shirik@mellanox.com>
@ 2020-06-29 16:02 ` checkpatch
  0 siblings, 0 replies; 6+ messages in thread
From: checkpatch @ 2020-06-29 16:02 UTC (permalink / raw)
  To: test-report

Test-Label: checkpatch
Test-Status: SUCCESS
http://dpdk.org/patch/72432

_coding style OK_



^ permalink raw reply	[flat|nested] 6+ messages in thread

* [dpdk-test-report] |SUCCESS| pw72432 [PATCH] net/mlx5: fix LACP action type casting
@ 2020-06-29 21:36 dpdklab
  0 siblings, 0 replies; 6+ messages in thread
From: dpdklab @ 2020-06-29 21:36 UTC (permalink / raw)
  To: Test Report; +Cc: dpdk-test-reports

[-- Attachment #1: Type: text/plain, Size: 2915 bytes --]

Test-Label: iol-testing
Test-Status: SUCCESS
http://dpdk.org/patch/72432

_Testing PASS_

Submitter: Shiri Kuzin <shirik@mellanox.com>
Date: Monday, June 29 2020 16:01:12 
DPDK git baseline: Repo:dpdk-next-net-mlx
  Branch: master
  CommitID:7f0e72df48cb8d1f54135c21d5b7ad4d89d30dab

72432 --> testing pass

Test environment and result as below:

+---------------------+--------------------+-------------------+------------------+----------------+--------------+
|     Environment     | dpdk_meson_compile | dpdk_compile_spdk | dpdk_compile_ovs | dpdk_unit_test | dpdk_compile |
+=====================+====================+===================+==================+================+==============+
| Windows Server 2019 | PASS               | SKIPPED           | SKIPPED          | SKIPPED        | SKIPPED      |
+---------------------+--------------------+-------------------+------------------+----------------+--------------+
| Fedora 31           | PASS               | PASS              | PASS             | SKIPPED        | PASS         |
+---------------------+--------------------+-------------------+------------------+----------------+--------------+
| CentOS 8            | PASS               | PASS              | PASS             | SKIPPED        | PASS         |
+---------------------+--------------------+-------------------+------------------+----------------+--------------+
| Ubuntu 18.04        | PASS               | PASS              | PASS             | PASS           | PASS         |
+---------------------+--------------------+-------------------+------------------+----------------+--------------+
| openSUSE Leap 15    | PASS               | PASS              | PASS             | SKIPPED        | PASS         |
+---------------------+--------------------+-------------------+------------------+----------------+--------------+
| Arch Linux          | PASS               | SKIPPED           | PASS             | SKIPPED        | PASS         |
+---------------------+--------------------+-------------------+------------------+----------------+--------------+
| FreeBSD 11.2        | PASS               | PASS              | SKIPPED          | SKIPPED        | PASS         |
+---------------------+--------------------+-------------------+------------------+----------------+--------------+

Windows Server 2019
	Kernel: 10.0
	Compiler: clang 9.0

Fedora 31
	Kernel: 5.3.16
	Compiler: gcc 9.2.1

CentOS 8
	Kernel: 4.18.0.el8_0
	Compiler: gcc 8.3.1

Ubuntu 18.04
	Kernel: 4.15.0-generic
	Compiler: gcc 7.4

openSUSE Leap 15
	Kernel: 4.12.14
	Compiler: gcc 7.4.1

Arch Linux
	Kernel: latest
	Compiler: gcc latest

FreeBSD 11.2
	Kernel: 11.2
	Compiler: gcc 8.3

To view detailed results, visit:
https://lab.dpdk.org/results/dashboard/patchsets/11723/

UNH-IOL DPDK Community Lab

To manage your email subscriptions, visit: 
https://lab.dpdk.org/results/dashboard/preferences/subscriptions/

^ permalink raw reply	[flat|nested] 6+ messages in thread

* [dpdk-test-report] |SUCCESS| pw72432 [PATCH] net/mlx5: fix LACP action type casting
@ 2020-06-29 21:02 dpdklab
  0 siblings, 0 replies; 6+ messages in thread
From: dpdklab @ 2020-06-29 21:02 UTC (permalink / raw)
  To: Ali Alnubani, Test Report; +Cc: dpdk-test-reports

[-- Attachment #1: Type: text/plain, Size: 3970 bytes --]

Test-Label: iol-mellanox-Performance
Test-Status: SUCCESS
http://dpdk.org/patch/72432

_Performance Testing PASS_

Submitter: Shiri Kuzin <shirik@mellanox.com>
Date: Monday, June 29 2020 16:01:12 
DPDK git baseline: Repo:dpdk-next-net-mlx
  Branch: master
  CommitID:7f0e72df48cb8d1f54135c21d5b7ad4d89d30dab

72432 --> performance testing pass

Test environment and result as below:

Ubuntu 18.04
Kernel: 4.15.0-generic
Compiler: gcc 7.4
NIC: Mellanox ConnectX-5 100000 Mbps
Target: x86_64-native-linuxapp-gcc
Fail/Total: 0/6

Detail performance results: 
+------------+---------+-------------------------------------+
| frame_size | txd/rxd | throughput difference from expected |
+============+=========+=====================================+
| 64         | 256     | 0.370                               |
+------------+---------+-------------------------------------+
| 128        | 256     | 0.039                               |
+------------+---------+-------------------------------------+
| 256        | 256     | 0.072                               |
+------------+---------+-------------------------------------+
| 512        | 256     | -0.157                              |
+------------+---------+-------------------------------------+
| 1024       | 256     | -0.007                              |
+------------+---------+-------------------------------------+
| 1518       | 256     | 0.019                               |
+------------+---------+-------------------------------------+

Ubuntu 18.04
Kernel: 4.15.0-generic
Compiler: gcc 7.4
NIC: Mellanox ConnectX-4 Lx 25000 Mbps
Target: x86_64-native-linuxapp-gcc
Fail/Total: 0/6

Detail performance results: 
+------------+---------+-------------------------------------+
| frame_size | txd/rxd | throughput difference from expected |
+============+=========+=====================================+
| 64         | 256     | 0.633                               |
+------------+---------+-------------------------------------+
| 128        | 256     | 0.208                               |
+------------+---------+-------------------------------------+
| 256        | 256     | 0.112                               |
+------------+---------+-------------------------------------+
| 512        | 256     | 0.002                               |
+------------+---------+-------------------------------------+
| 1024       | 256     | -0.001                              |
+------------+---------+-------------------------------------+
| 1518       | 256     | -0.001                              |
+------------+---------+-------------------------------------+

Ubuntu 18.04
Kernel: 4.15.0-generic
Compiler: gcc 7.4
NIC: Mellanox ConnectX-4 Lx 40000 Mbps
Target: x86_64-native-linuxapp-gcc
Fail/Total: 0/6

Detail performance results: 
+------------+---------+-------------------------------------+
| frame_size | txd/rxd | throughput difference from expected |
+============+=========+=====================================+
| 64         | 256     | 0.714                               |
+------------+---------+-------------------------------------+
| 128        | 256     | 0.315                               |
+------------+---------+-------------------------------------+
| 256        | 256     | -0.012                              |
+------------+---------+-------------------------------------+
| 512        | 256     | -0.004                              |
+------------+---------+-------------------------------------+
| 1024       | 256     | -0.007                              |
+------------+---------+-------------------------------------+
| 1518       | 256     | -0.001                              |
+------------+---------+-------------------------------------+

To view detailed results, visit:
https://lab.dpdk.org/results/dashboard/patchsets/11723/

UNH-IOL DPDK Community Lab

To manage your email subscriptions, visit: 
https://lab.dpdk.org/results/dashboard/preferences/subscriptions/

^ permalink raw reply	[flat|nested] 6+ messages in thread

* [dpdk-test-report] |SUCCESS| pw72432 [PATCH] net/mlx5: fix LACP action type casting
@ 2020-06-29 17:50 dpdklab
  0 siblings, 0 replies; 6+ messages in thread
From: dpdklab @ 2020-06-29 17:50 UTC (permalink / raw)
  To: Ruoshan Shi, Test Report; +Cc: dpdk-test-reports

[-- Attachment #1: Type: text/plain, Size: 1208 bytes --]

Test-Label: iol-nxp-Performance
Test-Status: SUCCESS
http://dpdk.org/patch/72432

_Performance Testing PASS_

Submitter: Shiri Kuzin <shirik@mellanox.com>
Date: Monday, June 29 2020 16:01:12 
DPDK git baseline: Repo:dpdk-next-net-mlx
  Branch: master
  CommitID:7f0e72df48cb8d1f54135c21d5b7ad4d89d30dab

72432 --> performance testing pass

Test environment and result as below:

Ubuntu 18.04
Kernel: 4.14.122
Compiler: gcc 7.3.0
NIC: NXP LS2088A 10000 Mbps
Target: x86_64-native-linuxapp-gcc
Fail/Total: 0/2

Detail performance results: 
+------------+---------+-------------------------------------+
| frame_size | txd/rxd | throughput difference from expected |
+============+=========+=====================================+
| 64         | 512     | -0.008                              |
+------------+---------+-------------------------------------+
| 64         | 2048    | -0.141                              |
+------------+---------+-------------------------------------+

To view detailed results, visit:
https://lab.dpdk.org/results/dashboard/patchsets/11723/

UNH-IOL DPDK Community Lab

To manage your email subscriptions, visit: 
https://lab.dpdk.org/results/dashboard/preferences/subscriptions/

^ permalink raw reply	[flat|nested] 6+ messages in thread

* [dpdk-test-report] |SUCCESS| pw72432 [PATCH] net/mlx5: fix LACP action type casting
@ 2020-06-29 17:46 dpdklab
  0 siblings, 0 replies; 6+ messages in thread
From: dpdklab @ 2020-06-29 17:46 UTC (permalink / raw)
  To: Test Report; +Cc: dpdk-test-reports

[-- Attachment #1: Type: text/plain, Size: 1920 bytes --]

Test-Label: iol-intel-Performance
Test-Status: SUCCESS
http://dpdk.org/patch/72432

_Performance Testing PASS_

Submitter: Shiri Kuzin <shirik@mellanox.com>
Date: Monday, June 29 2020 16:01:12 
DPDK git baseline: Repo:dpdk-next-net-mlx
  Branch: master
  CommitID:7f0e72df48cb8d1f54135c21d5b7ad4d89d30dab

72432 --> performance testing pass

Test environment and result as below:

Ubuntu 18.04
Kernel: 4.15.0-generic
Compiler: gcc 7.4
NIC: Intel Corporation Ethernet Converged Network Adapter XL710-QDA2 40000 Mbps
Target: x86_64-native-linuxapp-gcc
Fail/Total: 0/2

Detail performance results: 
+------------+---------+-------------------------------------+
| frame_size | txd/rxd | throughput difference from expected |
+============+=========+=====================================+
| 64         | 512     | 4.654                               |
+------------+---------+-------------------------------------+
| 64         | 2048    | 2.969                               |
+------------+---------+-------------------------------------+

Ubuntu 18.04
Kernel: 4.15.0-generic
Compiler: gcc 7.4
NIC: Intel Corporation Ethernet Converged Network Adapter 82599ES 10000 Mbps
Target: x86_64-native-linuxapp-gcc
Fail/Total: 0/2

Detail performance results: 
+------------+---------+-------------------------------------+
| frame_size | txd/rxd | throughput difference from expected |
+============+=========+=====================================+
| 64         | 512     | 2.701                               |
+------------+---------+-------------------------------------+
| 64         | 2048    | 1.055                               |
+------------+---------+-------------------------------------+

To view detailed results, visit:
https://lab.dpdk.org/results/dashboard/patchsets/11723/

UNH-IOL DPDK Community Lab

To manage your email subscriptions, visit: 
https://lab.dpdk.org/results/dashboard/preferences/subscriptions/

^ permalink raw reply	[flat|nested] 6+ messages in thread

* [dpdk-test-report] |SUCCESS| pw72432 [PATCH] net/mlx5: fix LACP action type casting
@ 2020-06-29 17:21 dpdklab
  0 siblings, 0 replies; 6+ messages in thread
From: dpdklab @ 2020-06-29 17:21 UTC (permalink / raw)
  To: Ajit Khaparde, Test Report; +Cc: dpdk-test-reports

[-- Attachment #1: Type: text/plain, Size: 1271 bytes --]

Test-Label: iol-broadcom-Performance
Test-Status: SUCCESS
http://dpdk.org/patch/72432

_Performance Testing PASS_

Submitter: Shiri Kuzin <shirik@mellanox.com>
Date: Monday, June 29 2020 16:01:12 
DPDK git baseline: Repo:dpdk-next-net-mlx
  Branch: master
  CommitID:7f0e72df48cb8d1f54135c21d5b7ad4d89d30dab

72432 --> performance testing pass

Test environment and result as below:

Ubuntu 18.04
Kernel: 4.15.0-65-generic
Compiler: gcc gcc (Ubuntu 7.4.0-1ubuntu1~18.04.1) 7.4.0
NIC: Broadcom Inc. brcm_57414 25000 Mbps
Target: x86_64-native-linuxapp-gcc
Fail/Total: 0/2

Detail performance results: 
+------------+---------+-------------------------------------+
| frame_size | txd/rxd | throughput difference from expected |
+============+=========+=====================================+
| 64         | 512     | 0.042                               |
+------------+---------+-------------------------------------+
| 64         | 2048    | -0.048                              |
+------------+---------+-------------------------------------+

To view detailed results, visit:
https://lab.dpdk.org/results/dashboard/patchsets/11723/

UNH-IOL DPDK Community Lab

To manage your email subscriptions, visit: 
https://lab.dpdk.org/results/dashboard/preferences/subscriptions/

^ permalink raw reply	[flat|nested] 6+ messages in thread

end of thread, back to index

Thread overview: 6+ messages (download: mbox.gz / follow: Atom feed)
-- links below jump to the message on this page --
     [not found] <1593446472-4335-1-git-send-email-shirik@mellanox.com>
2020-06-29 16:02 ` [dpdk-test-report] |SUCCESS| pw72432 [PATCH] net/mlx5: fix LACP action type casting checkpatch
2020-06-29 17:21 dpdklab
2020-06-29 17:46 dpdklab
2020-06-29 17:50 dpdklab
2020-06-29 21:02 dpdklab
2020-06-29 21:36 dpdklab

automatic DPDK test reports

Archives are clonable:
	git clone --mirror http://inbox.dpdk.org/test-report/0 test-report/git/0.git

	# If you have public-inbox 1.1+ installed, you may
	# initialize and index your mirror using the following commands:
	public-inbox-init -V2 test-report test-report/ http://inbox.dpdk.org/test-report \
		test-report@dpdk.org
	public-inbox-index test-report


Newsgroup available over NNTP:
	nntp://inbox.dpdk.org/inbox.dpdk.test-report


AGPL code for this site: git clone https://public-inbox.org/ public-inbox