[-- Attachment #1: Type: text/plain, Size: 1704 bytes --] _Performance Testing PASS_ Branch: dpdk-next-net-mrvl 597416cde3d3592805a05ad479b72019b739a35a --> performance testing pass Test environment and result as below: Ubuntu 18.04 Kernel: 4.15.0-generic Compiler: gcc 7.4 NIC: Intel Corporation Ethernet Converged Network Adapter XL710-QDA2 40000 Mbps Target: x86_64-native-linuxapp-gcc Fail/Total: 0/2 Detail performance results: +------------+---------+-------------------------------------+ | frame_size | txd/rxd | throughput difference from expected | +============+=========+=====================================+ | 64 | 512 | 4.688 | +------------+---------+-------------------------------------+ | 64 | 2048 | 3 | +------------+---------+-------------------------------------+ Ubuntu 18.04 Kernel: 4.15.0-generic Compiler: gcc 7.4 NIC: Intel Corporation Ethernet Converged Network Adapter 82599ES 10000 Mbps Target: x86_64-native-linuxapp-gcc Fail/Total: 0/2 Detail performance results: +------------+---------+-------------------------------------+ | frame_size | txd/rxd | throughput difference from expected | +============+=========+=====================================+ | 64 | 512 | 2.679 | +------------+---------+-------------------------------------+ | 64 | 2048 | 0.830 | +------------+---------+-------------------------------------+ To view detailed results, visit: https://lab.dpdk.org/results/dashboard/tarballs/10162/ UNH-IOL DPDK Community Lab To manage your email subscriptions, visit: https://lab.dpdk.org/results/dashboard/preferences/subscriptions/
[-- Attachment #1: Type: text/plain, Size: 994 bytes --] _Performance Testing PASS_ Branch: dpdk-next-net-mrvl 597416cde3d3592805a05ad479b72019b739a35a --> performance testing pass Test environment and result as below: Ubuntu 18.04 Kernel: 4.14.122 Compiler: gcc 7.3.0 NIC: NXP LS2088A 10000 Mbps Target: x86_64-native-linuxapp-gcc Fail/Total: 0/2 Detail performance results: +------------+---------+-------------------------------------+ | frame_size | txd/rxd | throughput difference from expected | +============+=========+=====================================+ | 64 | 512 | 0.109 | +------------+---------+-------------------------------------+ | 64 | 2048 | 0.064 | +------------+---------+-------------------------------------+ To view detailed results, visit: https://lab.dpdk.org/results/dashboard/tarballs/10162/ UNH-IOL DPDK Community Lab To manage your email subscriptions, visit: https://lab.dpdk.org/results/dashboard/preferences/subscriptions/
[-- Attachment #1: Type: text/plain, Size: 3751 bytes --] _Performance Testing PASS_ Branch: dpdk-next-net-mrvl 597416cde3d3592805a05ad479b72019b739a35a --> performance testing pass Test environment and result as below: Ubuntu 18.04 Kernel: 4.15.0-generic Compiler: gcc 7.4 NIC: Mellanox ConnectX-5 100000 Mbps Target: x86_64-native-linuxapp-gcc Fail/Total: 0/6 Detail performance results: +------------+---------+-------------------------------------+ | frame_size | txd/rxd | throughput difference from expected | +============+=========+=====================================+ | 64 | 256 | 0.344 | +------------+---------+-------------------------------------+ | 128 | 256 | 0.058 | +------------+---------+-------------------------------------+ | 256 | 256 | 0.011 | +------------+---------+-------------------------------------+ | 512 | 256 | -0.276 | +------------+---------+-------------------------------------+ | 1024 | 256 | -0.062 | +------------+---------+-------------------------------------+ | 1518 | 256 | 0.009 | +------------+---------+-------------------------------------+ Ubuntu 18.04 Kernel: 4.15.0-generic Compiler: gcc 7.4 NIC: Mellanox ConnectX-4 Lx 25000 Mbps Target: x86_64-native-linuxapp-gcc Fail/Total: 0/6 Detail performance results: +------------+---------+-------------------------------------+ | frame_size | txd/rxd | throughput difference from expected | +============+=========+=====================================+ | 64 | 256 | -0.099 | +------------+---------+-------------------------------------+ | 128 | 256 | 0.166 | +------------+---------+-------------------------------------+ | 256 | 256 | 0.016 | +------------+---------+-------------------------------------+ | 512 | 256 | 0.006 | +------------+---------+-------------------------------------+ | 1024 | 256 | 0.006 | +------------+---------+-------------------------------------+ | 1518 | 256 | -0.001 | +------------+---------+-------------------------------------+ Ubuntu 18.04 Kernel: 4.15.0-generic Compiler: gcc 7.4 NIC: Mellanox ConnectX-4 Lx 40000 Mbps Target: x86_64-native-linuxapp-gcc Fail/Total: 0/6 Detail performance results: +------------+---------+-------------------------------------+ | frame_size | txd/rxd | throughput difference from expected | +============+=========+=====================================+ | 64 | 256 | 0.244 | +------------+---------+-------------------------------------+ | 128 | 256 | 0.307 | +------------+---------+-------------------------------------+ | 256 | 256 | -0.089 | +------------+---------+-------------------------------------+ | 512 | 256 | 0 | +------------+---------+-------------------------------------+ | 1024 | 256 | 0.007 | +------------+---------+-------------------------------------+ | 1518 | 256 | 0.007 | +------------+---------+-------------------------------------+ To view detailed results, visit: https://lab.dpdk.org/results/dashboard/tarballs/10162/ UNH-IOL DPDK Community Lab To manage your email subscriptions, visit: https://lab.dpdk.org/results/dashboard/preferences/subscriptions/
[-- Attachment #1: Type: text/plain, Size: 2709 bytes --] _Testing PASS_ Branch: dpdk-next-net-mrvl 597416cde3d3592805a05ad479b72019b739a35a --> testing pass Test environment and result as below: +---------------------+--------------------+-------------------+----------------+------------------+--------------+ | Environment | dpdk_meson_compile | dpdk_compile_spdk | dpdk_unit_test | dpdk_compile_ovs | dpdk_compile | +=====================+====================+===================+================+==================+==============+ | Windows Server 2019 | PASS | SKIPPED | SKIPPED | SKIPPED | SKIPPED | +---------------------+--------------------+-------------------+----------------+------------------+--------------+ | Fedora 31 | PASS | PASS | SKIPPED | PASS | PASS | +---------------------+--------------------+-------------------+----------------+------------------+--------------+ | CentOS 8 | PASS | PASS | SKIPPED | PASS | PASS | +---------------------+--------------------+-------------------+----------------+------------------+--------------+ | Ubuntu 18.04 | PASS | PASS | PASS | PASS | PASS | +---------------------+--------------------+-------------------+----------------+------------------+--------------+ | openSUSE Leap 15 | PASS | PASS | SKIPPED | PASS | PASS | +---------------------+--------------------+-------------------+----------------+------------------+--------------+ | Arch Linux | PASS | SKIPPED | SKIPPED | PASS | PASS | +---------------------+--------------------+-------------------+----------------+------------------+--------------+ | FreeBSD 11.2 | PASS | PASS | SKIPPED | SKIPPED | PASS | +---------------------+--------------------+-------------------+----------------+------------------+--------------+ Windows Server 2019 Kernel: 10.0 Compiler: clang 9.0 Fedora 31 Kernel: 5.3.16 Compiler: gcc 9.2.1 CentOS 8 Kernel: 4.18.0.el8_0 Compiler: gcc 8.3.1 Ubuntu 18.04 Kernel: 4.15.0-generic Compiler: gcc 7.4 openSUSE Leap 15 Kernel: 4.12.14 Compiler: gcc 7.4.1 Arch Linux Kernel: latest Compiler: gcc latest FreeBSD 11.2 Kernel: 11.2 Compiler: gcc 8.3 To view detailed results, visit: https://lab.dpdk.org/results/dashboard/tarballs/10162/ UNH-IOL DPDK Community Lab To manage your email subscriptions, visit: https://lab.dpdk.org/results/dashboard/preferences/subscriptions/