automatic DPDK test reports
 help / color / Atom feed
From: dpdklab@iol.unh.edu
To: Test Report <test-report@dpdk.org>
Cc: dpdk-test-reports@iol.unh.edu
Subject: [dpdk-test-report] |SUCCESS| pw72437 [PATCH] build: replace meson OS detection with variable
Date: Mon, 29 Jun 2020 22:55:14 -0400 (EDT)
Message-ID: <20200630025514.F18B76D437@noxus.dpdklab.iol.unh.edu> (raw)

[-- Attachment #1: Type: text/plain, Size: 2906 bytes --]

Test-Label: iol-testing
Test-Status: SUCCESS
http://dpdk.org/patch/72437

_Testing PASS_

Submitter: Thomas Monjalon <thomas@monjalon.net>
Date: Monday, June 29 2020 20:36:56 
DPDK git baseline: Repo:dpdk
  Branch: master
  CommitID:6248368a9ae1eadf6b7fb05ab37497afdb714429

72437 --> testing pass

Test environment and result as below:

+---------------------+--------------------+--------------+-------------------+------------------+----------------+
|     Environment     | dpdk_meson_compile | dpdk_compile | dpdk_compile_spdk | dpdk_compile_ovs | dpdk_unit_test |
+=====================+====================+==============+===================+==================+================+
| Windows Server 2019 | PASS               | SKIPPED      | SKIPPED           | SKIPPED          | SKIPPED        |
+---------------------+--------------------+--------------+-------------------+------------------+----------------+
| Ubuntu 18.04        | PASS               | PASS         | PASS              | PASS             | PASS           |
+---------------------+--------------------+--------------+-------------------+------------------+----------------+
| CentOS 8            | PASS               | PASS         | PASS              | PASS             | SKIPPED        |
+---------------------+--------------------+--------------+-------------------+------------------+----------------+
| openSUSE Leap 15    | PASS               | PASS         | PASS              | PASS             | SKIPPED        |
+---------------------+--------------------+--------------+-------------------+------------------+----------------+
| Fedora 31           | PASS               | PASS         | PASS              | PASS             | SKIPPED        |
+---------------------+--------------------+--------------+-------------------+------------------+----------------+
| Arch Linux          | PASS               | PASS         | SKIPPED           | PASS             | SKIPPED        |
+---------------------+--------------------+--------------+-------------------+------------------+----------------+
| FreeBSD 11.2        | PASS               | PASS         | PASS              | SKIPPED          | SKIPPED        |
+---------------------+--------------------+--------------+-------------------+------------------+----------------+

Windows Server 2019
	Kernel: 10.0
	Compiler: clang 9.0

Ubuntu 18.04
	Kernel: 4.15.0-generic
	Compiler: gcc 7.4

CentOS 8
	Kernel: 4.18.0.el8_0
	Compiler: gcc 8.3.1

openSUSE Leap 15
	Kernel: 4.12.14
	Compiler: gcc 7.4.1

Fedora 31
	Kernel: 5.3.16
	Compiler: gcc 9.2.1

Arch Linux
	Kernel: latest
	Compiler: gcc latest

FreeBSD 11.2
	Kernel: 11.2
	Compiler: gcc 8.3

To view detailed results, visit:
https://lab.dpdk.org/results/dashboard/patchsets/11728/

UNH-IOL DPDK Community Lab

To manage your email subscriptions, visit: 
https://lab.dpdk.org/results/dashboard/preferences/subscriptions/

             reply index

Thread overview: 6+ messages / expand[flat|nested]  mbox.gz  Atom feed  top
2020-06-30  2:55 dpdklab [this message]
  -- strict thread matches above, loose matches on Subject: below --
2020-06-30  1:02 dpdklab
2020-06-29 22:33 dpdklab
2020-06-29 22:23 dpdklab
2020-06-29 21:14 dpdklab
     [not found] <20200629203656.39052-1-thomas@monjalon.net>
2020-06-29 20:38 ` checkpatch

Reply instructions:

You may reply publically to this message via plain-text email
using any one of the following methods:

* Save the following mbox file, import it into your mail client,
  and reply-to-all from there: mbox

  Avoid top-posting and favor interleaved quoting:
  https://en.wikipedia.org/wiki/Posting_style#Interleaved_style

* Reply using the --to, --cc, and --in-reply-to
  switches of git-send-email(1):

  git send-email \
    --in-reply-to=20200630025514.F18B76D437@noxus.dpdklab.iol.unh.edu \
    --to=dpdklab@iol.unh.edu \
    --cc=dpdk-test-reports@iol.unh.edu \
    --cc=test-report@dpdk.org \
    /path/to/YOUR_REPLY

  https://kernel.org/pub/software/scm/git/docs/git-send-email.html

* If your mail client supports setting the In-Reply-To header
  via mailto: links, try the mailto: link

automatic DPDK test reports

Archives are clonable:
	git clone --mirror http://inbox.dpdk.org/test-report/0 test-report/git/0.git

	# If you have public-inbox 1.1+ installed, you may
	# initialize and index your mirror using the following commands:
	public-inbox-init -V2 test-report test-report/ http://inbox.dpdk.org/test-report \
		test-report@dpdk.org
	public-inbox-index test-report


Newsgroup available over NNTP:
	nntp://inbox.dpdk.org/inbox.dpdk.test-report


AGPL code for this site: git clone https://public-inbox.org/ public-inbox