automatic DPDK test reports
 help / color / Atom feed
* [dpdk-test-report] |SUCCESS| pw72439 [PATCH] [v2] net/ixgbe: add the support link speed info for x553
@ 2020-06-30  2:59 dpdklab
  0 siblings, 0 replies; 6+ messages in thread
From: dpdklab @ 2020-06-30  2:59 UTC (permalink / raw)
  To: Test Report; +Cc: dpdk-test-reports

[-- Attachment #1: Type: text/plain, Size: 1920 bytes --]

Test-Label: iol-intel-Performance
Test-Status: SUCCESS
http://dpdk.org/patch/72439

_Performance Testing PASS_

Submitter: Wei Zhao <wei.zhao1@intel.com>
Date: Tuesday, June 30 2020 01:16:51 
DPDK git baseline: Repo:dpdk-next-net-intel
  Branch: master
  CommitID:23ccc1696a8e724a3be7b9392aa17b910e1fed56

72439 --> performance testing pass

Test environment and result as below:

Ubuntu 18.04
Kernel: 4.15.0-generic
Compiler: gcc 7.4
NIC: Intel Corporation Ethernet Converged Network Adapter XL710-QDA2 40000 Mbps
Target: x86_64-native-linuxapp-gcc
Fail/Total: 0/2

Detail performance results: 
+------------+---------+-------------------------------------+
| frame_size | txd/rxd | throughput difference from expected |
+============+=========+=====================================+
| 64         | 512     | 4.997                               |
+------------+---------+-------------------------------------+
| 64         | 2048    | 2.911                               |
+------------+---------+-------------------------------------+

Ubuntu 18.04
Kernel: 4.15.0-generic
Compiler: gcc 7.4
NIC: Intel Corporation Ethernet Converged Network Adapter 82599ES 10000 Mbps
Target: x86_64-native-linuxapp-gcc
Fail/Total: 0/2

Detail performance results: 
+------------+---------+-------------------------------------+
| frame_size | txd/rxd | throughput difference from expected |
+============+=========+=====================================+
| 64         | 512     | 2.739                               |
+------------+---------+-------------------------------------+
| 64         | 2048    | 0.871                               |
+------------+---------+-------------------------------------+

To view detailed results, visit:
https://lab.dpdk.org/results/dashboard/patchsets/11730/

UNH-IOL DPDK Community Lab

To manage your email subscriptions, visit: 
https://lab.dpdk.org/results/dashboard/preferences/subscriptions/

^ permalink raw reply	[flat|nested] 6+ messages in thread

* [dpdk-test-report] |SUCCESS| pw72439 [PATCH] [v2] net/ixgbe: add the support link speed info for x553
@ 2020-06-30  7:48 dpdklab
  0 siblings, 0 replies; 6+ messages in thread
From: dpdklab @ 2020-06-30  7:48 UTC (permalink / raw)
  To: Test Report; +Cc: dpdk-test-reports

[-- Attachment #1: Type: text/plain, Size: 2915 bytes --]

Test-Label: iol-testing
Test-Status: SUCCESS
http://dpdk.org/patch/72439

_Testing PASS_

Submitter: Wei Zhao <wei.zhao1@intel.com>
Date: Tuesday, June 30 2020 01:16:51 
DPDK git baseline: Repo:dpdk-next-net-intel
  Branch: master
  CommitID:23ccc1696a8e724a3be7b9392aa17b910e1fed56

72439 --> testing pass

Test environment and result as below:

+---------------------+--------------------+-------------------+------------------+----------------+--------------+
|     Environment     | dpdk_meson_compile | dpdk_compile_spdk | dpdk_compile_ovs | dpdk_unit_test | dpdk_compile |
+=====================+====================+===================+==================+================+==============+
| Windows Server 2019 | PASS               | SKIPPED           | SKIPPED          | SKIPPED        | SKIPPED      |
+---------------------+--------------------+-------------------+------------------+----------------+--------------+
| CentOS 8            | PASS               | PASS              | PASS             | SKIPPED        | PASS         |
+---------------------+--------------------+-------------------+------------------+----------------+--------------+
| Fedora 31           | PASS               | PASS              | PASS             | SKIPPED        | PASS         |
+---------------------+--------------------+-------------------+------------------+----------------+--------------+
| Ubuntu 18.04        | PASS               | PASS              | PASS             | PASS           | PASS         |
+---------------------+--------------------+-------------------+------------------+----------------+--------------+
| openSUSE Leap 15    | PASS               | PASS              | PASS             | SKIPPED        | PASS         |
+---------------------+--------------------+-------------------+------------------+----------------+--------------+
| Arch Linux          | PASS               | SKIPPED           | PASS             | SKIPPED        | PASS         |
+---------------------+--------------------+-------------------+------------------+----------------+--------------+
| FreeBSD 11.2        | PASS               | PASS              | SKIPPED          | SKIPPED        | PASS         |
+---------------------+--------------------+-------------------+------------------+----------------+--------------+

Windows Server 2019
	Kernel: 10.0
	Compiler: clang 9.0

CentOS 8
	Kernel: 4.18.0.el8_0
	Compiler: gcc 8.3.1

Fedora 31
	Kernel: 5.3.16
	Compiler: gcc 9.2.1

Ubuntu 18.04
	Kernel: 4.15.0-generic
	Compiler: gcc 7.4

openSUSE Leap 15
	Kernel: 4.12.14
	Compiler: gcc 7.4.1

Arch Linux
	Kernel: latest
	Compiler: gcc latest

FreeBSD 11.2
	Kernel: 11.2
	Compiler: gcc 8.3

To view detailed results, visit:
https://lab.dpdk.org/results/dashboard/patchsets/11730/

UNH-IOL DPDK Community Lab

To manage your email subscriptions, visit: 
https://lab.dpdk.org/results/dashboard/preferences/subscriptions/

^ permalink raw reply	[flat|nested] 6+ messages in thread

* [dpdk-test-report] |SUCCESS| pw72439 [PATCH] [v2] net/ixgbe: add the support link speed info for x553
@ 2020-06-30  4:41 dpdklab
  0 siblings, 0 replies; 6+ messages in thread
From: dpdklab @ 2020-06-30  4:41 UTC (permalink / raw)
  To: Ali Alnubani, Test Report; +Cc: dpdk-test-reports

[-- Attachment #1: Type: text/plain, Size: 3970 bytes --]

Test-Label: iol-mellanox-Performance
Test-Status: SUCCESS
http://dpdk.org/patch/72439

_Performance Testing PASS_

Submitter: Wei Zhao <wei.zhao1@intel.com>
Date: Tuesday, June 30 2020 01:16:51 
DPDK git baseline: Repo:dpdk-next-net-intel
  Branch: master
  CommitID:23ccc1696a8e724a3be7b9392aa17b910e1fed56

72439 --> performance testing pass

Test environment and result as below:

Ubuntu 18.04
Kernel: 4.15.0-generic
Compiler: gcc 7.4
NIC: Mellanox ConnectX-5 100000 Mbps
Target: x86_64-native-linuxapp-gcc
Fail/Total: 0/6

Detail performance results: 
+------------+---------+-------------------------------------+
| frame_size | txd/rxd | throughput difference from expected |
+============+=========+=====================================+
| 64         | 256     | 0.445                               |
+------------+---------+-------------------------------------+
| 128        | 256     | 0.004                               |
+------------+---------+-------------------------------------+
| 256        | 256     | 0.043                               |
+------------+---------+-------------------------------------+
| 512        | 256     | -0.096                              |
+------------+---------+-------------------------------------+
| 1024       | 256     | 0.002                               |
+------------+---------+-------------------------------------+
| 1518       | 256     | 0.005                               |
+------------+---------+-------------------------------------+

Ubuntu 18.04
Kernel: 4.15.0-generic
Compiler: gcc 7.4
NIC: Mellanox ConnectX-4 Lx 25000 Mbps
Target: x86_64-native-linuxapp-gcc
Fail/Total: 0/6

Detail performance results: 
+------------+---------+-------------------------------------+
| frame_size | txd/rxd | throughput difference from expected |
+============+=========+=====================================+
| 64         | 256     | 0.169                               |
+------------+---------+-------------------------------------+
| 128        | 256     | 0.283                               |
+------------+---------+-------------------------------------+
| 256        | 256     | 0.115                               |
+------------+---------+-------------------------------------+
| 512        | 256     | 0.011                               |
+------------+---------+-------------------------------------+
| 1024       | 256     | 0                                   |
+------------+---------+-------------------------------------+
| 1518       | 256     | 0.009                               |
+------------+---------+-------------------------------------+

Ubuntu 18.04
Kernel: 4.15.0-generic
Compiler: gcc 7.4
NIC: Mellanox ConnectX-4 Lx 40000 Mbps
Target: x86_64-native-linuxapp-gcc
Fail/Total: 0/6

Detail performance results: 
+------------+---------+-------------------------------------+
| frame_size | txd/rxd | throughput difference from expected |
+============+=========+=====================================+
| 64         | 256     | 0.104                               |
+------------+---------+-------------------------------------+
| 128        | 256     | 0.785                               |
+------------+---------+-------------------------------------+
| 256        | 256     | 0.124                               |
+------------+---------+-------------------------------------+
| 512        | 256     | 0                                   |
+------------+---------+-------------------------------------+
| 1024       | 256     | -0.005                              |
+------------+---------+-------------------------------------+
| 1518       | 256     | 0.014                               |
+------------+---------+-------------------------------------+

To view detailed results, visit:
https://lab.dpdk.org/results/dashboard/patchsets/11730/

UNH-IOL DPDK Community Lab

To manage your email subscriptions, visit: 
https://lab.dpdk.org/results/dashboard/preferences/subscriptions/

^ permalink raw reply	[flat|nested] 6+ messages in thread

* [dpdk-test-report] |SUCCESS| pw72439 [PATCH] [v2] net/ixgbe: add the support link speed info for x553
@ 2020-06-30  3:01 dpdklab
  0 siblings, 0 replies; 6+ messages in thread
From: dpdklab @ 2020-06-30  3:01 UTC (permalink / raw)
  To: Ruoshan Shi, Test Report; +Cc: dpdk-test-reports

[-- Attachment #1: Type: text/plain, Size: 1208 bytes --]

Test-Label: iol-nxp-Performance
Test-Status: SUCCESS
http://dpdk.org/patch/72439

_Performance Testing PASS_

Submitter: Wei Zhao <wei.zhao1@intel.com>
Date: Tuesday, June 30 2020 01:16:51 
DPDK git baseline: Repo:dpdk-next-net-intel
  Branch: master
  CommitID:23ccc1696a8e724a3be7b9392aa17b910e1fed56

72439 --> performance testing pass

Test environment and result as below:

Ubuntu 18.04
Kernel: 4.14.122
Compiler: gcc 7.3.0
NIC: NXP LS2088A 10000 Mbps
Target: x86_64-native-linuxapp-gcc
Fail/Total: 0/2

Detail performance results: 
+------------+---------+-------------------------------------+
| frame_size | txd/rxd | throughput difference from expected |
+============+=========+=====================================+
| 64         | 512     | -0.058                              |
+------------+---------+-------------------------------------+
| 64         | 2048    | -0.027                              |
+------------+---------+-------------------------------------+

To view detailed results, visit:
https://lab.dpdk.org/results/dashboard/patchsets/11730/

UNH-IOL DPDK Community Lab

To manage your email subscriptions, visit: 
https://lab.dpdk.org/results/dashboard/preferences/subscriptions/

^ permalink raw reply	[flat|nested] 6+ messages in thread

* [dpdk-test-report] |SUCCESS| pw72439 [PATCH] [v2] net/ixgbe: add the support link speed info for x553
@ 2020-06-30  2:32 dpdklab
  0 siblings, 0 replies; 6+ messages in thread
From: dpdklab @ 2020-06-30  2:32 UTC (permalink / raw)
  To: Ajit Khaparde, Test Report; +Cc: dpdk-test-reports

[-- Attachment #1: Type: text/plain, Size: 1271 bytes --]

Test-Label: iol-broadcom-Performance
Test-Status: SUCCESS
http://dpdk.org/patch/72439

_Performance Testing PASS_

Submitter: Wei Zhao <wei.zhao1@intel.com>
Date: Tuesday, June 30 2020 01:16:51 
DPDK git baseline: Repo:dpdk-next-net-intel
  Branch: master
  CommitID:23ccc1696a8e724a3be7b9392aa17b910e1fed56

72439 --> performance testing pass

Test environment and result as below:

Ubuntu 18.04
Kernel: 4.15.0-65-generic
Compiler: gcc gcc (Ubuntu 7.4.0-1ubuntu1~18.04.1) 7.4.0
NIC: Broadcom Inc. brcm_57414 25000 Mbps
Target: x86_64-native-linuxapp-gcc
Fail/Total: 0/2

Detail performance results: 
+------------+---------+-------------------------------------+
| frame_size | txd/rxd | throughput difference from expected |
+============+=========+=====================================+
| 64         | 512     | 0.087                               |
+------------+---------+-------------------------------------+
| 64         | 2048    | -0.097                              |
+------------+---------+-------------------------------------+

To view detailed results, visit:
https://lab.dpdk.org/results/dashboard/patchsets/11730/

UNH-IOL DPDK Community Lab

To manage your email subscriptions, visit: 
https://lab.dpdk.org/results/dashboard/preferences/subscriptions/

^ permalink raw reply	[flat|nested] 6+ messages in thread

* [dpdk-test-report] |SUCCESS| pw72439 [PATCH v2] net/ixgbe: add the support link speed info for x553
       [not found] <20200630011651.57641-1-wei.zhao1@intel.com>
@ 2020-06-30  1:42 ` " checkpatch
  0 siblings, 0 replies; 6+ messages in thread
From: checkpatch @ 2020-06-30  1:42 UTC (permalink / raw)
  To: test-report

Test-Label: checkpatch
Test-Status: SUCCESS
http://dpdk.org/patch/72439

_coding style OK_



^ permalink raw reply	[flat|nested] 6+ messages in thread

end of thread, back to index

Thread overview: 6+ messages (download: mbox.gz / follow: Atom feed)
-- links below jump to the message on this page --
2020-06-30  2:59 [dpdk-test-report] |SUCCESS| pw72439 [PATCH] [v2] net/ixgbe: add the support link speed info for x553 dpdklab
  -- strict thread matches above, loose matches on Subject: below --
2020-06-30  7:48 dpdklab
2020-06-30  4:41 dpdklab
2020-06-30  3:01 dpdklab
2020-06-30  2:32 dpdklab
     [not found] <20200630011651.57641-1-wei.zhao1@intel.com>
2020-06-30  1:42 ` [dpdk-test-report] |SUCCESS| pw72439 [PATCH v2] " checkpatch

automatic DPDK test reports

Archives are clonable:
	git clone --mirror http://inbox.dpdk.org/test-report/0 test-report/git/0.git

	# If you have public-inbox 1.1+ installed, you may
	# initialize and index your mirror using the following commands:
	public-inbox-init -V2 test-report test-report/ http://inbox.dpdk.org/test-report \
		test-report@dpdk.org
	public-inbox-index test-report


Newsgroup available over NNTP:
	nntp://inbox.dpdk.org/inbox.dpdk.test-report


AGPL code for this site: git clone https://public-inbox.org/ public-inbox