automatic DPDK test reports
 help / color / Atom feed
* [dpdk-test-report] |SUCCESS| pw72445 [PATCH] net/dpaa2: avoid multiple PtoV calls
@ 2020-06-30  8:23 dpdklab
  0 siblings, 0 replies; 5+ messages in thread
From: dpdklab @ 2020-06-30  8:23 UTC (permalink / raw)
  To: Test Report; +Cc: dpdk-test-reports

[-- Attachment #1: Type: text/plain, Size: 1909 bytes --]

Test-Label: iol-intel-Performance
Test-Status: SUCCESS
http://dpdk.org/patch/72445

_Performance Testing PASS_

Submitter: Roman Kapl <rka@sysgo.com>
Date: Monday, June 29 2020 11:17:58 
DPDK git baseline: Repo:dpdk-next-net
  Branch: master
  CommitID:51703b8b6675356a102f15f9ba1db66109aa06b7

72445 --> performance testing pass

Test environment and result as below:

Ubuntu 18.04
Kernel: 4.15.0-generic
Compiler: gcc 7.4
NIC: Intel Corporation Ethernet Converged Network Adapter XL710-QDA2 40000 Mbps
Target: x86_64-native-linuxapp-gcc
Fail/Total: 0/2

Detail performance results: 
+------------+---------+-------------------------------------+
| frame_size | txd/rxd | throughput difference from expected |
+============+=========+=====================================+
| 64         | 512     | 4.933                               |
+------------+---------+-------------------------------------+
| 64         | 2048    | 2.850                               |
+------------+---------+-------------------------------------+

Ubuntu 18.04
Kernel: 4.15.0-generic
Compiler: gcc 7.4
NIC: Intel Corporation Ethernet Converged Network Adapter 82599ES 10000 Mbps
Target: x86_64-native-linuxapp-gcc
Fail/Total: 0/2

Detail performance results: 
+------------+---------+-------------------------------------+
| frame_size | txd/rxd | throughput difference from expected |
+============+=========+=====================================+
| 64         | 512     | 2.664                               |
+------------+---------+-------------------------------------+
| 64         | 2048    | 0.928                               |
+------------+---------+-------------------------------------+

To view detailed results, visit:
https://lab.dpdk.org/results/dashboard/patchsets/11733/

UNH-IOL DPDK Community Lab

To manage your email subscriptions, visit: 
https://lab.dpdk.org/results/dashboard/preferences/subscriptions/

^ permalink raw reply	[flat|nested] 5+ messages in thread
* [dpdk-test-report] |SUCCESS| pw72445 [PATCH] net/dpaa2: avoid multiple PtoV calls
@ 2020-06-30 10:21 dpdklab
  0 siblings, 0 replies; 5+ messages in thread
From: dpdklab @ 2020-06-30 10:21 UTC (permalink / raw)
  To: Test Report; +Cc: dpdk-test-reports

[-- Attachment #1: Type: text/plain, Size: 2904 bytes --]

Test-Label: iol-testing
Test-Status: SUCCESS
http://dpdk.org/patch/72445

_Testing PASS_

Submitter: Roman Kapl <rka@sysgo.com>
Date: Monday, June 29 2020 11:17:58 
DPDK git baseline: Repo:dpdk-next-net
  Branch: master
  CommitID:51703b8b6675356a102f15f9ba1db66109aa06b7

72445 --> testing pass

Test environment and result as below:

+---------------------+--------------------+-------------------+------------------+--------------+----------------+
|     Environment     | dpdk_meson_compile | dpdk_compile_spdk | dpdk_compile_ovs | dpdk_compile | dpdk_unit_test |
+=====================+====================+===================+==================+==============+================+
| Windows Server 2019 | PASS               | SKIPPED           | SKIPPED          | SKIPPED      | SKIPPED        |
+---------------------+--------------------+-------------------+------------------+--------------+----------------+
| Fedora 31           | PASS               | PASS              | PASS             | PASS         | SKIPPED        |
+---------------------+--------------------+-------------------+------------------+--------------+----------------+
| openSUSE Leap 15    | PASS               | PASS              | PASS             | PASS         | SKIPPED        |
+---------------------+--------------------+-------------------+------------------+--------------+----------------+
| CentOS 8            | PASS               | PASS              | PASS             | PASS         | SKIPPED        |
+---------------------+--------------------+-------------------+------------------+--------------+----------------+
| Ubuntu 18.04        | PASS               | PASS              | PASS             | PASS         | PASS           |
+---------------------+--------------------+-------------------+------------------+--------------+----------------+
| Arch Linux          | PASS               | SKIPPED           | PASS             | PASS         | SKIPPED        |
+---------------------+--------------------+-------------------+------------------+--------------+----------------+
| FreeBSD 11.2        | PASS               | PASS              | SKIPPED          | PASS         | SKIPPED        |
+---------------------+--------------------+-------------------+------------------+--------------+----------------+

Windows Server 2019
	Kernel: 10.0
	Compiler: clang 9.0

Fedora 31
	Kernel: 5.3.16
	Compiler: gcc 9.2.1

openSUSE Leap 15
	Kernel: 4.12.14
	Compiler: gcc 7.4.1

CentOS 8
	Kernel: 4.18.0.el8_0
	Compiler: gcc 8.3.1

Ubuntu 18.04
	Kernel: 4.15.0-generic
	Compiler: gcc 7.4

Arch Linux
	Kernel: latest
	Compiler: gcc latest

FreeBSD 11.2
	Kernel: 11.2
	Compiler: gcc 8.3

To view detailed results, visit:
https://lab.dpdk.org/results/dashboard/patchsets/11733/

UNH-IOL DPDK Community Lab

To manage your email subscriptions, visit: 
https://lab.dpdk.org/results/dashboard/preferences/subscriptions/

^ permalink raw reply	[flat|nested] 5+ messages in thread
* [dpdk-test-report] |SUCCESS| pw72445 [PATCH] net/dpaa2: avoid multiple PtoV calls
@ 2020-06-30  8:47 dpdklab
  0 siblings, 0 replies; 5+ messages in thread
From: dpdklab @ 2020-06-30  8:47 UTC (permalink / raw)
  To: Ali Alnubani, Test Report; +Cc: dpdk-test-reports

[-- Attachment #1: Type: text/plain, Size: 3959 bytes --]

Test-Label: iol-mellanox-Performance
Test-Status: SUCCESS
http://dpdk.org/patch/72445

_Performance Testing PASS_

Submitter: Roman Kapl <rka@sysgo.com>
Date: Monday, June 29 2020 11:17:58 
DPDK git baseline: Repo:dpdk-next-net
  Branch: master
  CommitID:51703b8b6675356a102f15f9ba1db66109aa06b7

72445 --> performance testing pass

Test environment and result as below:

Ubuntu 18.04
Kernel: 4.15.0-generic
Compiler: gcc 7.4
NIC: Mellanox ConnectX-5 100000 Mbps
Target: x86_64-native-linuxapp-gcc
Fail/Total: 0/6

Detail performance results: 
+------------+---------+-------------------------------------+
| frame_size | txd/rxd | throughput difference from expected |
+============+=========+=====================================+
| 64         | 256     | 0.387                               |
+------------+---------+-------------------------------------+
| 128        | 256     | -0.055                              |
+------------+---------+-------------------------------------+
| 256        | 256     | -0.016                              |
+------------+---------+-------------------------------------+
| 512        | 256     | -0.145                              |
+------------+---------+-------------------------------------+
| 1024       | 256     | -0.018                              |
+------------+---------+-------------------------------------+
| 1518       | 256     | 0.032                               |
+------------+---------+-------------------------------------+

Ubuntu 18.04
Kernel: 4.15.0-generic
Compiler: gcc 7.4
NIC: Mellanox ConnectX-4 Lx 25000 Mbps
Target: x86_64-native-linuxapp-gcc
Fail/Total: 0/6

Detail performance results: 
+------------+---------+-------------------------------------+
| frame_size | txd/rxd | throughput difference from expected |
+============+=========+=====================================+
| 64         | 256     | 0.196                               |
+------------+---------+-------------------------------------+
| 128        | 256     | 0.005                               |
+------------+---------+-------------------------------------+
| 256        | 256     | 0.066                               |
+------------+---------+-------------------------------------+
| 512        | 256     | 0.004                               |
+------------+---------+-------------------------------------+
| 1024       | 256     | 0.013                               |
+------------+---------+-------------------------------------+
| 1518       | 256     | -0.002                              |
+------------+---------+-------------------------------------+

Ubuntu 18.04
Kernel: 4.15.0-generic
Compiler: gcc 7.4
NIC: Mellanox ConnectX-4 Lx 40000 Mbps
Target: x86_64-native-linuxapp-gcc
Fail/Total: 0/6

Detail performance results: 
+------------+---------+-------------------------------------+
| frame_size | txd/rxd | throughput difference from expected |
+============+=========+=====================================+
| 64         | 256     | 1.109                               |
+------------+---------+-------------------------------------+
| 128        | 256     | 0.249                               |
+------------+---------+-------------------------------------+
| 256        | 256     | 0.073                               |
+------------+---------+-------------------------------------+
| 512        | 256     | -0.001                              |
+------------+---------+-------------------------------------+
| 1024       | 256     | -0.004                              |
+------------+---------+-------------------------------------+
| 1518       | 256     | 0.002                               |
+------------+---------+-------------------------------------+

To view detailed results, visit:
https://lab.dpdk.org/results/dashboard/patchsets/11733/

UNH-IOL DPDK Community Lab

To manage your email subscriptions, visit: 
https://lab.dpdk.org/results/dashboard/preferences/subscriptions/

^ permalink raw reply	[flat|nested] 5+ messages in thread
* [dpdk-test-report] |SUCCESS| pw72445 [PATCH] net/dpaa2: avoid multiple PtoV calls
@ 2020-06-30  8:25 dpdklab
  0 siblings, 0 replies; 5+ messages in thread
From: dpdklab @ 2020-06-30  8:25 UTC (permalink / raw)
  To: Ruoshan Shi, Test Report; +Cc: dpdk-test-reports

[-- Attachment #1: Type: text/plain, Size: 1197 bytes --]

Test-Label: iol-nxp-Performance
Test-Status: SUCCESS
http://dpdk.org/patch/72445

_Performance Testing PASS_

Submitter: Roman Kapl <rka@sysgo.com>
Date: Monday, June 29 2020 11:17:58 
DPDK git baseline: Repo:dpdk-next-net
  Branch: master
  CommitID:51703b8b6675356a102f15f9ba1db66109aa06b7

72445 --> performance testing pass

Test environment and result as below:

Ubuntu 18.04
Kernel: 4.14.122
Compiler: gcc 7.3.0
NIC: NXP LS2088A 10000 Mbps
Target: x86_64-native-linuxapp-gcc
Fail/Total: 0/2

Detail performance results: 
+------------+---------+-------------------------------------+
| frame_size | txd/rxd | throughput difference from expected |
+============+=========+=====================================+
| 64         | 512     | 0.133                               |
+------------+---------+-------------------------------------+
| 64         | 2048    | -0.049                              |
+------------+---------+-------------------------------------+

To view detailed results, visit:
https://lab.dpdk.org/results/dashboard/patchsets/11733/

UNH-IOL DPDK Community Lab

To manage your email subscriptions, visit: 
https://lab.dpdk.org/results/dashboard/preferences/subscriptions/

^ permalink raw reply	[flat|nested] 5+ messages in thread
* [dpdk-test-report] |SUCCESS| pw72445 [PATCH] net/dpaa2: avoid multiple PtoV calls
@ 2020-06-30  7:56 dpdklab
  0 siblings, 0 replies; 5+ messages in thread
From: dpdklab @ 2020-06-30  7:56 UTC (permalink / raw)
  To: Ajit Khaparde, Test Report; +Cc: dpdk-test-reports

[-- Attachment #1: Type: text/plain, Size: 1260 bytes --]

Test-Label: iol-broadcom-Performance
Test-Status: SUCCESS
http://dpdk.org/patch/72445

_Performance Testing PASS_

Submitter: Roman Kapl <rka@sysgo.com>
Date: Monday, June 29 2020 11:17:58 
DPDK git baseline: Repo:dpdk-next-net
  Branch: master
  CommitID:51703b8b6675356a102f15f9ba1db66109aa06b7

72445 --> performance testing pass

Test environment and result as below:

Ubuntu 18.04
Kernel: 4.15.0-65-generic
Compiler: gcc gcc (Ubuntu 7.4.0-1ubuntu1~18.04.1) 7.4.0
NIC: Broadcom Inc. brcm_57414 25000 Mbps
Target: x86_64-native-linuxapp-gcc
Fail/Total: 0/2

Detail performance results: 
+------------+---------+-------------------------------------+
| frame_size | txd/rxd | throughput difference from expected |
+============+=========+=====================================+
| 64         | 512     | 0.082                               |
+------------+---------+-------------------------------------+
| 64         | 2048    | -0.006                              |
+------------+---------+-------------------------------------+

To view detailed results, visit:
https://lab.dpdk.org/results/dashboard/patchsets/11733/

UNH-IOL DPDK Community Lab

To manage your email subscriptions, visit: 
https://lab.dpdk.org/results/dashboard/preferences/subscriptions/

^ permalink raw reply	[flat|nested] 5+ messages in thread

end of thread, back to index

Thread overview: 5+ messages (download: mbox.gz / follow: Atom feed)
-- links below jump to the message on this page --
2020-06-30  8:23 [dpdk-test-report] |SUCCESS| pw72445 [PATCH] net/dpaa2: avoid multiple PtoV calls dpdklab
  -- strict thread matches above, loose matches on Subject: below --
2020-06-30 10:21 dpdklab
2020-06-30  8:47 dpdklab
2020-06-30  8:25 dpdklab
2020-06-30  7:56 dpdklab

automatic DPDK test reports

Archives are clonable:
	git clone --mirror http://inbox.dpdk.org/test-report/0 test-report/git/0.git

	# If you have public-inbox 1.1+ installed, you may
	# initialize and index your mirror using the following commands:
	public-inbox-init -V2 test-report test-report/ http://inbox.dpdk.org/test-report \
		test-report@dpdk.org
	public-inbox-index test-report


Newsgroup available over NNTP:
	nntp://inbox.dpdk.org/inbox.dpdk.test-report


AGPL code for this site: git clone https://public-inbox.org/ public-inbox