automatic DPDK test reports
 help / color / Atom feed
* [dpdk-test-report] |SUCCESS| pw72452 [PATCH v2] eal: fix memory leak when removing event_cb
       [not found] <1593518201-27524-1-git-send-email-wangyunjian@huawei.com>
@ 2020-06-30 11:58 ` checkpatch
  2020-06-30 14:13 ` [dpdk-test-report] |SUCCESS| pw72452 " 0-day Robot
  1 sibling, 0 replies; 7+ messages in thread
From: checkpatch @ 2020-06-30 11:58 UTC (permalink / raw)
  To: test-report

Test-Label: checkpatch
Test-Status: SUCCESS
http://dpdk.org/patch/72452

_coding style OK_



^ permalink raw reply	[flat|nested] 7+ messages in thread

* [dpdk-test-report] |SUCCESS| pw72452 eal: fix memory leak when removing event_cb
       [not found] <1593518201-27524-1-git-send-email-wangyunjian@huawei.com>
  2020-06-30 11:58 ` [dpdk-test-report] |SUCCESS| pw72452 [PATCH v2] eal: fix memory leak when removing event_cb checkpatch
@ 2020-06-30 14:13 ` " 0-day Robot
  1 sibling, 0 replies; 7+ messages in thread
From: 0-day Robot @ 2020-06-30 14:13 UTC (permalink / raw)
  To: test-report; +Cc: robot

From: robot@bytheb.org

Test-Label: travis-robot
Test-Status: SUCCESS
http://dpdk.org/patch/72452

_Travis build: passed_
Build URL: https://travis-ci.com/ovsrobot/dpdk/builds/173644652

^ permalink raw reply	[flat|nested] 7+ messages in thread

* [dpdk-test-report] |SUCCESS| pw72452 [PATCH] [v2] eal: fix memory leak when removing event_cb
@ 2020-06-30 20:20 dpdklab
  0 siblings, 0 replies; 7+ messages in thread
From: dpdklab @ 2020-06-30 20:20 UTC (permalink / raw)
  To: Test Report; +Cc: dpdk-test-reports

[-- Attachment #1: Type: text/plain, Size: 2906 bytes --]

Test-Label: iol-testing
Test-Status: SUCCESS
http://dpdk.org/patch/72452

_Testing PASS_

Submitter: wangyunjian <wangyunjian@huawei.com>
Date: Tuesday, June 30 2020 11:56:41 
DPDK git baseline: Repo:dpdk
  Branch: master
  CommitID:014a7ec6c418eaf24a13be8ade8229638ddc6eed

72452 --> testing pass

Test environment and result as below:

+---------------------+--------------------+-------------------+------------------+----------------+--------------+
|     Environment     | dpdk_meson_compile | dpdk_compile_spdk | dpdk_compile_ovs | dpdk_unit_test | dpdk_compile |
+=====================+====================+===================+==================+================+==============+
| Windows Server 2019 | PASS               | SKIPPED           | SKIPPED          | SKIPPED        | SKIPPED      |
+---------------------+--------------------+-------------------+------------------+----------------+--------------+
| Fedora 31           | PASS               | PASS              | PASS             | SKIPPED        | PASS         |
+---------------------+--------------------+-------------------+------------------+----------------+--------------+
| CentOS 8            | PASS               | PASS              | PASS             | SKIPPED        | PASS         |
+---------------------+--------------------+-------------------+------------------+----------------+--------------+
| Ubuntu 18.04        | PASS               | PASS              | PASS             | PASS           | PASS         |
+---------------------+--------------------+-------------------+------------------+----------------+--------------+
| openSUSE Leap 15    | PASS               | PASS              | PASS             | SKIPPED        | PASS         |
+---------------------+--------------------+-------------------+------------------+----------------+--------------+
| Arch Linux          | PASS               | SKIPPED           | PASS             | SKIPPED        | PASS         |
+---------------------+--------------------+-------------------+------------------+----------------+--------------+
| FreeBSD 11.2        | PASS               | PASS              | SKIPPED          | SKIPPED        | PASS         |
+---------------------+--------------------+-------------------+------------------+----------------+--------------+

Windows Server 2019
	Kernel: 10.0
	Compiler: clang 9.0

Fedora 31
	Kernel: 5.3.16
	Compiler: gcc 9.2.1

CentOS 8
	Kernel: 4.18.0.el8_0
	Compiler: gcc 8.3.1

Ubuntu 18.04
	Kernel: 4.15.0-generic
	Compiler: gcc 7.4

openSUSE Leap 15
	Kernel: 4.12.14
	Compiler: gcc 7.4.1

Arch Linux
	Kernel: latest
	Compiler: gcc latest

FreeBSD 11.2
	Kernel: 11.2
	Compiler: gcc 8.3

To view detailed results, visit:
https://lab.dpdk.org/results/dashboard/patchsets/11739/

UNH-IOL DPDK Community Lab

To manage your email subscriptions, visit: 
https://lab.dpdk.org/results/dashboard/preferences/subscriptions/

^ permalink raw reply	[flat|nested] 7+ messages in thread

* [dpdk-test-report] |SUCCESS| pw72452 [PATCH] [v2] eal: fix memory leak when removing event_cb
@ 2020-06-30 19:22 dpdklab
  0 siblings, 0 replies; 7+ messages in thread
From: dpdklab @ 2020-06-30 19:22 UTC (permalink / raw)
  To: Ali Alnubani, Test Report; +Cc: dpdk-test-reports

[-- Attachment #1: Type: text/plain, Size: 3961 bytes --]

Test-Label: iol-mellanox-Performance
Test-Status: SUCCESS
http://dpdk.org/patch/72452

_Performance Testing PASS_

Submitter: wangyunjian <wangyunjian@huawei.com>
Date: Tuesday, June 30 2020 11:56:41 
DPDK git baseline: Repo:dpdk
  Branch: master
  CommitID:014a7ec6c418eaf24a13be8ade8229638ddc6eed

72452 --> performance testing pass

Test environment and result as below:

Ubuntu 18.04
Kernel: 4.15.0-generic
Compiler: gcc 7.4
NIC: Mellanox ConnectX-5 100000 Mbps
Target: x86_64-native-linuxapp-gcc
Fail/Total: 0/6

Detail performance results: 
+------------+---------+-------------------------------------+
| frame_size | txd/rxd | throughput difference from expected |
+============+=========+=====================================+
| 64         | 256     | -0.412                              |
+------------+---------+-------------------------------------+
| 128        | 256     | 0.044                               |
+------------+---------+-------------------------------------+
| 256        | 256     | 0.064                               |
+------------+---------+-------------------------------------+
| 512        | 256     | -0.046                              |
+------------+---------+-------------------------------------+
| 1024       | 256     | 0.046                               |
+------------+---------+-------------------------------------+
| 1518       | 256     | -0.002                              |
+------------+---------+-------------------------------------+

Ubuntu 18.04
Kernel: 4.15.0-generic
Compiler: gcc 7.4
NIC: Mellanox ConnectX-4 Lx 25000 Mbps
Target: x86_64-native-linuxapp-gcc
Fail/Total: 0/6

Detail performance results: 
+------------+---------+-------------------------------------+
| frame_size | txd/rxd | throughput difference from expected |
+============+=========+=====================================+
| 64         | 256     | 0.360                               |
+------------+---------+-------------------------------------+
| 128        | 256     | 0.030                               |
+------------+---------+-------------------------------------+
| 256        | 256     | 0.116                               |
+------------+---------+-------------------------------------+
| 512        | 256     | 0.021                               |
+------------+---------+-------------------------------------+
| 1024       | 256     | 0.013                               |
+------------+---------+-------------------------------------+
| 1518       | 256     | 0.009                               |
+------------+---------+-------------------------------------+

Ubuntu 18.04
Kernel: 4.15.0-generic
Compiler: gcc 7.4
NIC: Mellanox ConnectX-4 Lx 40000 Mbps
Target: x86_64-native-linuxapp-gcc
Fail/Total: 0/6

Detail performance results: 
+------------+---------+-------------------------------------+
| frame_size | txd/rxd | throughput difference from expected |
+============+=========+=====================================+
| 64         | 256     | 0.509                               |
+------------+---------+-------------------------------------+
| 128        | 256     | 0.113                               |
+------------+---------+-------------------------------------+
| 256        | 256     | -0.136                              |
+------------+---------+-------------------------------------+
| 512        | 256     | -0.051                              |
+------------+---------+-------------------------------------+
| 1024       | 256     | -0.006                              |
+------------+---------+-------------------------------------+
| 1518       | 256     | -0.002                              |
+------------+---------+-------------------------------------+

To view detailed results, visit:
https://lab.dpdk.org/results/dashboard/patchsets/11739/

UNH-IOL DPDK Community Lab

To manage your email subscriptions, visit: 
https://lab.dpdk.org/results/dashboard/preferences/subscriptions/

^ permalink raw reply	[flat|nested] 7+ messages in thread

* [dpdk-test-report] |SUCCESS| pw72452 [PATCH] [v2] eal: fix memory leak when removing event_cb
@ 2020-06-30 17:36 dpdklab
  0 siblings, 0 replies; 7+ messages in thread
From: dpdklab @ 2020-06-30 17:36 UTC (permalink / raw)
  To: Ruoshan Shi, Test Report; +Cc: dpdk-test-reports

[-- Attachment #1: Type: text/plain, Size: 1199 bytes --]

Test-Label: iol-nxp-Performance
Test-Status: SUCCESS
http://dpdk.org/patch/72452

_Performance Testing PASS_

Submitter: wangyunjian <wangyunjian@huawei.com>
Date: Tuesday, June 30 2020 11:56:41 
DPDK git baseline: Repo:dpdk
  Branch: master
  CommitID:014a7ec6c418eaf24a13be8ade8229638ddc6eed

72452 --> performance testing pass

Test environment and result as below:

Ubuntu 18.04
Kernel: 4.14.122
Compiler: gcc 7.3.0
NIC: NXP LS2088A 10000 Mbps
Target: x86_64-native-linuxapp-gcc
Fail/Total: 0/2

Detail performance results: 
+------------+---------+-------------------------------------+
| frame_size | txd/rxd | throughput difference from expected |
+============+=========+=====================================+
| 64         | 512     | 0.038                               |
+------------+---------+-------------------------------------+
| 64         | 2048    | -0.143                              |
+------------+---------+-------------------------------------+

To view detailed results, visit:
https://lab.dpdk.org/results/dashboard/patchsets/11739/

UNH-IOL DPDK Community Lab

To manage your email subscriptions, visit: 
https://lab.dpdk.org/results/dashboard/preferences/subscriptions/

^ permalink raw reply	[flat|nested] 7+ messages in thread

* [dpdk-test-report] |SUCCESS| pw72452 [PATCH] [v2] eal: fix memory leak when removing event_cb
@ 2020-06-30 17:29 dpdklab
  0 siblings, 0 replies; 7+ messages in thread
From: dpdklab @ 2020-06-30 17:29 UTC (permalink / raw)
  To: Ajit Khaparde, Test Report; +Cc: dpdk-test-reports

[-- Attachment #1: Type: text/plain, Size: 1262 bytes --]

Test-Label: iol-broadcom-Performance
Test-Status: SUCCESS
http://dpdk.org/patch/72452

_Performance Testing PASS_

Submitter: wangyunjian <wangyunjian@huawei.com>
Date: Tuesday, June 30 2020 11:56:41 
DPDK git baseline: Repo:dpdk
  Branch: master
  CommitID:014a7ec6c418eaf24a13be8ade8229638ddc6eed

72452 --> performance testing pass

Test environment and result as below:

Ubuntu 18.04
Kernel: 4.15.0-65-generic
Compiler: gcc gcc (Ubuntu 7.4.0-1ubuntu1~18.04.1) 7.4.0
NIC: Broadcom Inc. brcm_57414 25000 Mbps
Target: x86_64-native-linuxapp-gcc
Fail/Total: 0/2

Detail performance results: 
+------------+---------+-------------------------------------+
| frame_size | txd/rxd | throughput difference from expected |
+============+=========+=====================================+
| 64         | 512     | 0.090                               |
+------------+---------+-------------------------------------+
| 64         | 2048    | -0.026                              |
+------------+---------+-------------------------------------+

To view detailed results, visit:
https://lab.dpdk.org/results/dashboard/patchsets/11739/

UNH-IOL DPDK Community Lab

To manage your email subscriptions, visit: 
https://lab.dpdk.org/results/dashboard/preferences/subscriptions/

^ permalink raw reply	[flat|nested] 7+ messages in thread

* [dpdk-test-report] |SUCCESS| pw72452 [PATCH] [v2] eal: fix memory leak when removing event_cb
@ 2020-06-30 16:49 " dpdklab
  0 siblings, 0 replies; 7+ messages in thread
From: dpdklab @ 2020-06-30 16:49 UTC (permalink / raw)
  To: Test Report; +Cc: dpdk-test-reports

[-- Attachment #1: Type: text/plain, Size: 1911 bytes --]

Test-Label: iol-intel-Performance
Test-Status: SUCCESS
http://dpdk.org/patch/72452

_Performance Testing PASS_

Submitter: wangyunjian <wangyunjian@huawei.com>
Date: Tuesday, June 30 2020 11:56:41 
DPDK git baseline: Repo:dpdk
  Branch: master
  CommitID:014a7ec6c418eaf24a13be8ade8229638ddc6eed

72452 --> performance testing pass

Test environment and result as below:

Ubuntu 18.04
Kernel: 4.15.0-generic
Compiler: gcc 7.4
NIC: Intel Corporation Ethernet Converged Network Adapter XL710-QDA2 40000 Mbps
Target: x86_64-native-linuxapp-gcc
Fail/Total: 0/2

Detail performance results: 
+------------+---------+-------------------------------------+
| frame_size | txd/rxd | throughput difference from expected |
+============+=========+=====================================+
| 64         | 512     | 4.427                               |
+------------+---------+-------------------------------------+
| 64         | 2048    | 2.623                               |
+------------+---------+-------------------------------------+

Ubuntu 18.04
Kernel: 4.15.0-generic
Compiler: gcc 7.4
NIC: Intel Corporation Ethernet Converged Network Adapter 82599ES 10000 Mbps
Target: x86_64-native-linuxapp-gcc
Fail/Total: 0/2

Detail performance results: 
+------------+---------+-------------------------------------+
| frame_size | txd/rxd | throughput difference from expected |
+============+=========+=====================================+
| 64         | 512     | 2.716                               |
+------------+---------+-------------------------------------+
| 64         | 2048    | 0.780                               |
+------------+---------+-------------------------------------+

To view detailed results, visit:
https://lab.dpdk.org/results/dashboard/patchsets/11739/

UNH-IOL DPDK Community Lab

To manage your email subscriptions, visit: 
https://lab.dpdk.org/results/dashboard/preferences/subscriptions/

^ permalink raw reply	[flat|nested] 7+ messages in thread

end of thread, back to index

Thread overview: 7+ messages (download: mbox.gz / follow: Atom feed)
-- links below jump to the message on this page --
     [not found] <1593518201-27524-1-git-send-email-wangyunjian@huawei.com>
2020-06-30 11:58 ` [dpdk-test-report] |SUCCESS| pw72452 [PATCH v2] eal: fix memory leak when removing event_cb checkpatch
2020-06-30 14:13 ` [dpdk-test-report] |SUCCESS| pw72452 " 0-day Robot
2020-06-30 16:49 [dpdk-test-report] |SUCCESS| pw72452 [PATCH] [v2] " dpdklab
2020-06-30 17:29 dpdklab
2020-06-30 17:36 dpdklab
2020-06-30 19:22 dpdklab
2020-06-30 20:20 dpdklab

automatic DPDK test reports

Archives are clonable:
	git clone --mirror http://inbox.dpdk.org/test-report/0 test-report/git/0.git

	# If you have public-inbox 1.1+ installed, you may
	# initialize and index your mirror using the following commands:
	public-inbox-init -V2 test-report test-report/ http://inbox.dpdk.org/test-report \
		test-report@dpdk.org
	public-inbox-index test-report


Newsgroup available over NNTP:
	nntp://inbox.dpdk.org/inbox.dpdk.test-report


AGPL code for this site: git clone https://public-inbox.org/ public-inbox