automatic DPDK test reports
 help / color / Atom feed
* [dpdk-test-report] |SUCCESS| pw72454 [PATCH v2] build: replace meson OS detection with variable
       [not found] <20200630131523.1285693-1-thomas@monjalon.net>
@ 2020-06-30 13:17 ` checkpatch
  2020-06-30 15:13 ` [dpdk-test-report] |SUCCESS| pw72454 " 0-day Robot
  1 sibling, 0 replies; 7+ messages in thread
From: checkpatch @ 2020-06-30 13:17 UTC (permalink / raw)
  To: test-report

Test-Label: checkpatch
Test-Status: SUCCESS
http://dpdk.org/patch/72454

_coding style OK_



^ permalink raw reply	[flat|nested] 7+ messages in thread

* [dpdk-test-report] |SUCCESS| pw72454 build: replace meson OS detection with variable
       [not found] <20200630131523.1285693-1-thomas@monjalon.net>
  2020-06-30 13:17 ` [dpdk-test-report] |SUCCESS| pw72454 [PATCH v2] build: replace meson OS detection with variable checkpatch
@ 2020-06-30 15:13 ` " 0-day Robot
  1 sibling, 0 replies; 7+ messages in thread
From: 0-day Robot @ 2020-06-30 15:13 UTC (permalink / raw)
  To: test-report; +Cc: robot

From: robot@bytheb.org

Test-Label: travis-robot
Test-Status: SUCCESS
http://dpdk.org/patch/72454

_Travis build: passed_
Build URL: https://travis-ci.com/ovsrobot/dpdk/builds/173654645

^ permalink raw reply	[flat|nested] 7+ messages in thread

* [dpdk-test-report] |SUCCESS| pw72454 [PATCH] [v2] build: replace meson OS detection with variable
@ 2020-06-30 21:34 dpdklab
  0 siblings, 0 replies; 7+ messages in thread
From: dpdklab @ 2020-06-30 21:34 UTC (permalink / raw)
  To: Test Report; +Cc: dpdk-test-reports

[-- Attachment #1: Type: text/plain, Size: 2907 bytes --]

Test-Label: iol-testing
Test-Status: SUCCESS
http://dpdk.org/patch/72454

_Testing PASS_

Submitter: Thomas Monjalon <thomas@monjalon.net>
Date: Tuesday, June 30 2020 13:15:22 
DPDK git baseline: Repo:dpdk
  Branch: master
  CommitID:014a7ec6c418eaf24a13be8ade8229638ddc6eed

72454 --> testing pass

Test environment and result as below:

+---------------------+--------------------+-------------------+------------------+----------------+--------------+
|     Environment     | dpdk_meson_compile | dpdk_compile_spdk | dpdk_compile_ovs | dpdk_unit_test | dpdk_compile |
+=====================+====================+===================+==================+================+==============+
| Windows Server 2019 | PASS               | SKIPPED           | SKIPPED          | SKIPPED        | SKIPPED      |
+---------------------+--------------------+-------------------+------------------+----------------+--------------+
| CentOS 8            | PASS               | PASS              | PASS             | SKIPPED        | PASS         |
+---------------------+--------------------+-------------------+------------------+----------------+--------------+
| openSUSE Leap 15    | PASS               | PASS              | PASS             | SKIPPED        | PASS         |
+---------------------+--------------------+-------------------+------------------+----------------+--------------+
| Fedora 31           | PASS               | PASS              | PASS             | SKIPPED        | PASS         |
+---------------------+--------------------+-------------------+------------------+----------------+--------------+
| Ubuntu 18.04        | PASS               | PASS              | PASS             | PASS           | PASS         |
+---------------------+--------------------+-------------------+------------------+----------------+--------------+
| Arch Linux          | PASS               | SKIPPED           | PASS             | SKIPPED        | PASS         |
+---------------------+--------------------+-------------------+------------------+----------------+--------------+
| FreeBSD 11.2        | PASS               | PASS              | SKIPPED          | SKIPPED        | PASS         |
+---------------------+--------------------+-------------------+------------------+----------------+--------------+

Windows Server 2019
	Kernel: 10.0
	Compiler: clang 9.0

CentOS 8
	Kernel: 4.18.0.el8_0
	Compiler: gcc 8.3.1

openSUSE Leap 15
	Kernel: 4.12.14
	Compiler: gcc 7.4.1

Fedora 31
	Kernel: 5.3.16
	Compiler: gcc 9.2.1

Ubuntu 18.04
	Kernel: 4.15.0-generic
	Compiler: gcc 7.4

Arch Linux
	Kernel: latest
	Compiler: gcc latest

FreeBSD 11.2
	Kernel: 11.2
	Compiler: gcc 8.3

To view detailed results, visit:
https://lab.dpdk.org/results/dashboard/patchsets/11741/

UNH-IOL DPDK Community Lab

To manage your email subscriptions, visit: 
https://lab.dpdk.org/results/dashboard/preferences/subscriptions/

^ permalink raw reply	[flat|nested] 7+ messages in thread

* [dpdk-test-report] |SUCCESS| pw72454 [PATCH] [v2] build: replace meson OS detection with variable
@ 2020-06-30 20:19 dpdklab
  0 siblings, 0 replies; 7+ messages in thread
From: dpdklab @ 2020-06-30 20:19 UTC (permalink / raw)
  To: Ali Alnubani, Test Report; +Cc: dpdk-test-reports

[-- Attachment #1: Type: text/plain, Size: 3962 bytes --]

Test-Label: iol-mellanox-Performance
Test-Status: SUCCESS
http://dpdk.org/patch/72454

_Performance Testing PASS_

Submitter: Thomas Monjalon <thomas@monjalon.net>
Date: Tuesday, June 30 2020 13:15:22 
DPDK git baseline: Repo:dpdk
  Branch: master
  CommitID:014a7ec6c418eaf24a13be8ade8229638ddc6eed

72454 --> performance testing pass

Test environment and result as below:

Ubuntu 18.04
Kernel: 4.15.0-generic
Compiler: gcc 7.4
NIC: Mellanox ConnectX-5 100000 Mbps
Target: x86_64-native-linuxapp-gcc
Fail/Total: 0/6

Detail performance results: 
+------------+---------+-------------------------------------+
| frame_size | txd/rxd | throughput difference from expected |
+============+=========+=====================================+
| 64         | 256     | 0.236                               |
+------------+---------+-------------------------------------+
| 128        | 256     | -0.037                              |
+------------+---------+-------------------------------------+
| 256        | 256     | 0.090                               |
+------------+---------+-------------------------------------+
| 512        | 256     | -0.101                              |
+------------+---------+-------------------------------------+
| 1024       | 256     | 0.005                               |
+------------+---------+-------------------------------------+
| 1518       | 256     | -0.018                              |
+------------+---------+-------------------------------------+

Ubuntu 18.04
Kernel: 4.15.0-generic
Compiler: gcc 7.4
NIC: Mellanox ConnectX-4 Lx 25000 Mbps
Target: x86_64-native-linuxapp-gcc
Fail/Total: 0/6

Detail performance results: 
+------------+---------+-------------------------------------+
| frame_size | txd/rxd | throughput difference from expected |
+============+=========+=====================================+
| 64         | 256     | -0.163                              |
+------------+---------+-------------------------------------+
| 128        | 256     | 0.292                               |
+------------+---------+-------------------------------------+
| 256        | 256     | -0.008                              |
+------------+---------+-------------------------------------+
| 512        | 256     | 0.017                               |
+------------+---------+-------------------------------------+
| 1024       | 256     | 0                                   |
+------------+---------+-------------------------------------+
| 1518       | 256     | -0.001                              |
+------------+---------+-------------------------------------+

Ubuntu 18.04
Kernel: 4.15.0-generic
Compiler: gcc 7.4
NIC: Mellanox ConnectX-4 Lx 40000 Mbps
Target: x86_64-native-linuxapp-gcc
Fail/Total: 0/6

Detail performance results: 
+------------+---------+-------------------------------------+
| frame_size | txd/rxd | throughput difference from expected |
+============+=========+=====================================+
| 64         | 256     | 0.543                               |
+------------+---------+-------------------------------------+
| 128        | 256     | 0.084                               |
+------------+---------+-------------------------------------+
| 256        | 256     | -0.007                              |
+------------+---------+-------------------------------------+
| 512        | 256     | 0                                   |
+------------+---------+-------------------------------------+
| 1024       | 256     | -0.006                              |
+------------+---------+-------------------------------------+
| 1518       | 256     | -0.003                              |
+------------+---------+-------------------------------------+

To view detailed results, visit:
https://lab.dpdk.org/results/dashboard/patchsets/11741/

UNH-IOL DPDK Community Lab

To manage your email subscriptions, visit: 
https://lab.dpdk.org/results/dashboard/preferences/subscriptions/

^ permalink raw reply	[flat|nested] 7+ messages in thread

* [dpdk-test-report] |SUCCESS| pw72454 [PATCH] [v2] build: replace meson OS detection with variable
@ 2020-06-30 18:13 dpdklab
  0 siblings, 0 replies; 7+ messages in thread
From: dpdklab @ 2020-06-30 18:13 UTC (permalink / raw)
  To: Ruoshan Shi, Test Report; +Cc: dpdk-test-reports

[-- Attachment #1: Type: text/plain, Size: 1200 bytes --]

Test-Label: iol-nxp-Performance
Test-Status: SUCCESS
http://dpdk.org/patch/72454

_Performance Testing PASS_

Submitter: Thomas Monjalon <thomas@monjalon.net>
Date: Tuesday, June 30 2020 13:15:22 
DPDK git baseline: Repo:dpdk
  Branch: master
  CommitID:014a7ec6c418eaf24a13be8ade8229638ddc6eed

72454 --> performance testing pass

Test environment and result as below:

Ubuntu 18.04
Kernel: 4.14.122
Compiler: gcc 7.3.0
NIC: NXP LS2088A 10000 Mbps
Target: x86_64-native-linuxapp-gcc
Fail/Total: 0/2

Detail performance results: 
+------------+---------+-------------------------------------+
| frame_size | txd/rxd | throughput difference from expected |
+============+=========+=====================================+
| 64         | 512     | -0.145                              |
+------------+---------+-------------------------------------+
| 64         | 2048    | -0.031                              |
+------------+---------+-------------------------------------+

To view detailed results, visit:
https://lab.dpdk.org/results/dashboard/patchsets/11741/

UNH-IOL DPDK Community Lab

To manage your email subscriptions, visit: 
https://lab.dpdk.org/results/dashboard/preferences/subscriptions/

^ permalink raw reply	[flat|nested] 7+ messages in thread

* [dpdk-test-report] |SUCCESS| pw72454 [PATCH] [v2] build: replace meson OS detection with variable
@ 2020-06-30 17:24 dpdklab
  0 siblings, 0 replies; 7+ messages in thread
From: dpdklab @ 2020-06-30 17:24 UTC (permalink / raw)
  To: Test Report; +Cc: dpdk-test-reports

[-- Attachment #1: Type: text/plain, Size: 1912 bytes --]

Test-Label: iol-intel-Performance
Test-Status: SUCCESS
http://dpdk.org/patch/72454

_Performance Testing PASS_

Submitter: Thomas Monjalon <thomas@monjalon.net>
Date: Tuesday, June 30 2020 13:15:22 
DPDK git baseline: Repo:dpdk
  Branch: master
  CommitID:014a7ec6c418eaf24a13be8ade8229638ddc6eed

72454 --> performance testing pass

Test environment and result as below:

Ubuntu 18.04
Kernel: 4.15.0-generic
Compiler: gcc 7.4
NIC: Intel Corporation Ethernet Converged Network Adapter XL710-QDA2 40000 Mbps
Target: x86_64-native-linuxapp-gcc
Fail/Total: 0/2

Detail performance results: 
+------------+---------+-------------------------------------+
| frame_size | txd/rxd | throughput difference from expected |
+============+=========+=====================================+
| 64         | 512     | 4.769                               |
+------------+---------+-------------------------------------+
| 64         | 2048    | 2.749                               |
+------------+---------+-------------------------------------+

Ubuntu 18.04
Kernel: 4.15.0-generic
Compiler: gcc 7.4
NIC: Intel Corporation Ethernet Converged Network Adapter 82599ES 10000 Mbps
Target: x86_64-native-linuxapp-gcc
Fail/Total: 0/2

Detail performance results: 
+------------+---------+-------------------------------------+
| frame_size | txd/rxd | throughput difference from expected |
+============+=========+=====================================+
| 64         | 512     | 2.669                               |
+------------+---------+-------------------------------------+
| 64         | 2048    | 0.920                               |
+------------+---------+-------------------------------------+

To view detailed results, visit:
https://lab.dpdk.org/results/dashboard/patchsets/11741/

UNH-IOL DPDK Community Lab

To manage your email subscriptions, visit: 
https://lab.dpdk.org/results/dashboard/preferences/subscriptions/

^ permalink raw reply	[flat|nested] 7+ messages in thread

* [dpdk-test-report] |SUCCESS| pw72454 [PATCH] [v2] build: replace meson OS detection with variable
@ 2020-06-30 15:27 " dpdklab
  0 siblings, 0 replies; 7+ messages in thread
From: dpdklab @ 2020-06-30 15:27 UTC (permalink / raw)
  To: Ajit Khaparde, Test Report; +Cc: dpdk-test-reports

[-- Attachment #1: Type: text/plain, Size: 1263 bytes --]

Test-Label: iol-broadcom-Performance
Test-Status: SUCCESS
http://dpdk.org/patch/72454

_Performance Testing PASS_

Submitter: Thomas Monjalon <thomas@monjalon.net>
Date: Tuesday, June 30 2020 13:15:22 
DPDK git baseline: Repo:dpdk
  Branch: master
  CommitID:014a7ec6c418eaf24a13be8ade8229638ddc6eed

72454 --> performance testing pass

Test environment and result as below:

Ubuntu 18.04
Kernel: 4.15.0-65-generic
Compiler: gcc gcc (Ubuntu 7.4.0-1ubuntu1~18.04.1) 7.4.0
NIC: Broadcom Inc. brcm_57414 25000 Mbps
Target: x86_64-native-linuxapp-gcc
Fail/Total: 0/2

Detail performance results: 
+------------+---------+-------------------------------------+
| frame_size | txd/rxd | throughput difference from expected |
+============+=========+=====================================+
| 64         | 512     | 0.046                               |
+------------+---------+-------------------------------------+
| 64         | 2048    | -0.093                              |
+------------+---------+-------------------------------------+

To view detailed results, visit:
https://lab.dpdk.org/results/dashboard/patchsets/11741/

UNH-IOL DPDK Community Lab

To manage your email subscriptions, visit: 
https://lab.dpdk.org/results/dashboard/preferences/subscriptions/

^ permalink raw reply	[flat|nested] 7+ messages in thread

end of thread, back to index

Thread overview: 7+ messages (download: mbox.gz / follow: Atom feed)
-- links below jump to the message on this page --
     [not found] <20200630131523.1285693-1-thomas@monjalon.net>
2020-06-30 13:17 ` [dpdk-test-report] |SUCCESS| pw72454 [PATCH v2] build: replace meson OS detection with variable checkpatch
2020-06-30 15:13 ` [dpdk-test-report] |SUCCESS| pw72454 " 0-day Robot
2020-06-30 15:27 [dpdk-test-report] |SUCCESS| pw72454 [PATCH] [v2] " dpdklab
2020-06-30 17:24 dpdklab
2020-06-30 18:13 dpdklab
2020-06-30 20:19 dpdklab
2020-06-30 21:34 dpdklab

automatic DPDK test reports

Archives are clonable:
	git clone --mirror http://inbox.dpdk.org/test-report/0 test-report/git/0.git

	# If you have public-inbox 1.1+ installed, you may
	# initialize and index your mirror using the following commands:
	public-inbox-init -V2 test-report test-report/ http://inbox.dpdk.org/test-report \
		test-report@dpdk.org
	public-inbox-index test-report


Newsgroup available over NNTP:
	nntp://inbox.dpdk.org/inbox.dpdk.test-report


AGPL code for this site: git clone https://public-inbox.org/ public-inbox