automatic DPDK test reports
 help / color / Atom feed
* [dpdk-test-report] |SUCCESS| pw72455 [PATCH] app/testpmd: update uninitialized member when set fwd mode
       [not found] <1593523512-18096-1-git-send-email-oulijun@huawei.com>
@ 2020-06-30 13:27 ` checkpatch
  2020-06-30 16:13 ` [dpdk-test-report] |SUCCESS| pw72455 " 0-day Robot
  1 sibling, 0 replies; 7+ messages in thread
From: checkpatch @ 2020-06-30 13:27 UTC (permalink / raw)
  To: test-report

Test-Label: checkpatch
Test-Status: SUCCESS
http://dpdk.org/patch/72455

_coding style OK_



^ permalink raw reply	[flat|nested] 7+ messages in thread

* [dpdk-test-report] |SUCCESS| pw72455 app/testpmd: update uninitialized member when set fwd mode
       [not found] <1593523512-18096-1-git-send-email-oulijun@huawei.com>
  2020-06-30 13:27 ` [dpdk-test-report] |SUCCESS| pw72455 [PATCH] app/testpmd: update uninitialized member when set fwd mode checkpatch
@ 2020-06-30 16:13 ` " 0-day Robot
  1 sibling, 0 replies; 7+ messages in thread
From: 0-day Robot @ 2020-06-30 16:13 UTC (permalink / raw)
  To: test-report; +Cc: robot

From: robot@bytheb.org

Test-Label: travis-robot
Test-Status: SUCCESS
http://dpdk.org/patch/72455

_Travis build: passed_
Build URL: https://travis-ci.com/ovsrobot/dpdk/builds/173654966

^ permalink raw reply	[flat|nested] 7+ messages in thread

* [dpdk-test-report] |SUCCESS| pw72455 [PATCH] app/testpmd: update uninitialized member when set fwd mode
@ 2020-07-01  0:15 " dpdklab
  0 siblings, 0 replies; 7+ messages in thread
From: dpdklab @ 2020-07-01  0:15 UTC (permalink / raw)
  To: Ali Alnubani, Test Report; +Cc: dpdk-test-reports

[-- Attachment #1: Type: text/plain, Size: 3954 bytes --]

Test-Label: iol-mellanox-Performance
Test-Status: SUCCESS
http://dpdk.org/patch/72455

_Performance Testing PASS_

Submitter: Lijun Ou <oulijun@huawei.com>
Date: Tuesday, June 30 2020 13:25:12 
DPDK git baseline: Repo:dpdk
  Branch: master
  CommitID:014a7ec6c418eaf24a13be8ade8229638ddc6eed

72455 --> performance testing pass

Test environment and result as below:

Ubuntu 18.04
Kernel: 4.15.0-generic
Compiler: gcc 7.4
NIC: Mellanox ConnectX-5 100000 Mbps
Target: x86_64-native-linuxapp-gcc
Fail/Total: 0/6

Detail performance results: 
+------------+---------+-------------------------------------+
| frame_size | txd/rxd | throughput difference from expected |
+============+=========+=====================================+
| 64         | 256     | -0.099                              |
+------------+---------+-------------------------------------+
| 128        | 256     | -0.089                              |
+------------+---------+-------------------------------------+
| 256        | 256     | 0.068                               |
+------------+---------+-------------------------------------+
| 512        | 256     | 0.098                               |
+------------+---------+-------------------------------------+
| 1024       | 256     | -0.057                              |
+------------+---------+-------------------------------------+
| 1518       | 256     | 0.006                               |
+------------+---------+-------------------------------------+

Ubuntu 18.04
Kernel: 4.15.0-generic
Compiler: gcc 7.4
NIC: Mellanox ConnectX-4 Lx 25000 Mbps
Target: x86_64-native-linuxapp-gcc
Fail/Total: 0/6

Detail performance results: 
+------------+---------+-------------------------------------+
| frame_size | txd/rxd | throughput difference from expected |
+============+=========+=====================================+
| 64         | 256     | -0.072                              |
+------------+---------+-------------------------------------+
| 128        | 256     | 0.062                               |
+------------+---------+-------------------------------------+
| 256        | 256     | 0.026                               |
+------------+---------+-------------------------------------+
| 512        | 256     | 0.027                               |
+------------+---------+-------------------------------------+
| 1024       | 256     | -0.001                              |
+------------+---------+-------------------------------------+
| 1518       | 256     | 0.002                               |
+------------+---------+-------------------------------------+

Ubuntu 18.04
Kernel: 4.15.0-generic
Compiler: gcc 7.4
NIC: Mellanox ConnectX-4 Lx 40000 Mbps
Target: x86_64-native-linuxapp-gcc
Fail/Total: 0/6

Detail performance results: 
+------------+---------+-------------------------------------+
| frame_size | txd/rxd | throughput difference from expected |
+============+=========+=====================================+
| 64         | 256     | 0.286                               |
+------------+---------+-------------------------------------+
| 128        | 256     | 0.220                               |
+------------+---------+-------------------------------------+
| 256        | 256     | -0.107                              |
+------------+---------+-------------------------------------+
| 512        | 256     | 0.006                               |
+------------+---------+-------------------------------------+
| 1024       | 256     | -0.003                              |
+------------+---------+-------------------------------------+
| 1518       | 256     | -0.001                              |
+------------+---------+-------------------------------------+

To view detailed results, visit:
https://lab.dpdk.org/results/dashboard/patchsets/11742/

UNH-IOL DPDK Community Lab

To manage your email subscriptions, visit: 
https://lab.dpdk.org/results/dashboard/preferences/subscriptions/

^ permalink raw reply	[flat|nested] 7+ messages in thread

* [dpdk-test-report] |SUCCESS| pw72455 [PATCH] app/testpmd: update uninitialized member when set fwd mode
@ 2020-06-30 23:06 dpdklab
  0 siblings, 0 replies; 7+ messages in thread
From: dpdklab @ 2020-06-30 23:06 UTC (permalink / raw)
  To: Ruoshan Shi, Test Report; +Cc: dpdk-test-reports

[-- Attachment #1: Type: text/plain, Size: 1192 bytes --]

Test-Label: iol-nxp-Performance
Test-Status: SUCCESS
http://dpdk.org/patch/72455

_Performance Testing PASS_

Submitter: Lijun Ou <oulijun@huawei.com>
Date: Tuesday, June 30 2020 13:25:12 
DPDK git baseline: Repo:dpdk
  Branch: master
  CommitID:014a7ec6c418eaf24a13be8ade8229638ddc6eed

72455 --> performance testing pass

Test environment and result as below:

Ubuntu 18.04
Kernel: 4.14.122
Compiler: gcc 7.3.0
NIC: NXP LS2088A 10000 Mbps
Target: x86_64-native-linuxapp-gcc
Fail/Total: 0/2

Detail performance results: 
+------------+---------+-------------------------------------+
| frame_size | txd/rxd | throughput difference from expected |
+============+=========+=====================================+
| 64         | 512     | -0.004                              |
+------------+---------+-------------------------------------+
| 64         | 2048    | 0.063                               |
+------------+---------+-------------------------------------+

To view detailed results, visit:
https://lab.dpdk.org/results/dashboard/patchsets/11742/

UNH-IOL DPDK Community Lab

To manage your email subscriptions, visit: 
https://lab.dpdk.org/results/dashboard/preferences/subscriptions/

^ permalink raw reply	[flat|nested] 7+ messages in thread

* [dpdk-test-report] |SUCCESS| pw72455 [PATCH] app/testpmd: update uninitialized member when set fwd mode
@ 2020-06-30 19:35 dpdklab
  0 siblings, 0 replies; 7+ messages in thread
From: dpdklab @ 2020-06-30 19:35 UTC (permalink / raw)
  To: Test Report; +Cc: dpdk-test-reports

[-- Attachment #1: Type: text/plain, Size: 1904 bytes --]

Test-Label: iol-intel-Performance
Test-Status: SUCCESS
http://dpdk.org/patch/72455

_Performance Testing PASS_

Submitter: Lijun Ou <oulijun@huawei.com>
Date: Tuesday, June 30 2020 13:25:12 
DPDK git baseline: Repo:dpdk
  Branch: master
  CommitID:014a7ec6c418eaf24a13be8ade8229638ddc6eed

72455 --> performance testing pass

Test environment and result as below:

Ubuntu 18.04
Kernel: 4.15.0-generic
Compiler: gcc 7.4
NIC: Intel Corporation Ethernet Converged Network Adapter XL710-QDA2 40000 Mbps
Target: x86_64-native-linuxapp-gcc
Fail/Total: 0/2

Detail performance results: 
+------------+---------+-------------------------------------+
| frame_size | txd/rxd | throughput difference from expected |
+============+=========+=====================================+
| 64         | 512     | 4.798                               |
+------------+---------+-------------------------------------+
| 64         | 2048    | 2.989                               |
+------------+---------+-------------------------------------+

Ubuntu 18.04
Kernel: 4.15.0-generic
Compiler: gcc 7.4
NIC: Intel Corporation Ethernet Converged Network Adapter 82599ES 10000 Mbps
Target: x86_64-native-linuxapp-gcc
Fail/Total: 0/2

Detail performance results: 
+------------+---------+-------------------------------------+
| frame_size | txd/rxd | throughput difference from expected |
+============+=========+=====================================+
| 64         | 512     | 2.507                               |
+------------+---------+-------------------------------------+
| 64         | 2048    | 0.746                               |
+------------+---------+-------------------------------------+

To view detailed results, visit:
https://lab.dpdk.org/results/dashboard/patchsets/11742/

UNH-IOL DPDK Community Lab

To manage your email subscriptions, visit: 
https://lab.dpdk.org/results/dashboard/preferences/subscriptions/

^ permalink raw reply	[flat|nested] 7+ messages in thread

* [dpdk-test-report] |SUCCESS| pw72455 [PATCH] app/testpmd: update uninitialized member when set fwd mode
@ 2020-06-30 17:37 dpdklab
  0 siblings, 0 replies; 7+ messages in thread
From: dpdklab @ 2020-06-30 17:37 UTC (permalink / raw)
  To: Ajit Khaparde, Test Report; +Cc: dpdk-test-reports

[-- Attachment #1: Type: text/plain, Size: 1255 bytes --]

Test-Label: iol-broadcom-Performance
Test-Status: SUCCESS
http://dpdk.org/patch/72455

_Performance Testing PASS_

Submitter: Lijun Ou <oulijun@huawei.com>
Date: Tuesday, June 30 2020 13:25:12 
DPDK git baseline: Repo:dpdk
  Branch: master
  CommitID:014a7ec6c418eaf24a13be8ade8229638ddc6eed

72455 --> performance testing pass

Test environment and result as below:

Ubuntu 18.04
Kernel: 4.15.0-65-generic
Compiler: gcc gcc (Ubuntu 7.4.0-1ubuntu1~18.04.1) 7.4.0
NIC: Broadcom Inc. brcm_57414 25000 Mbps
Target: x86_64-native-linuxapp-gcc
Fail/Total: 0/2

Detail performance results: 
+------------+---------+-------------------------------------+
| frame_size | txd/rxd | throughput difference from expected |
+============+=========+=====================================+
| 64         | 512     | 0.088                               |
+------------+---------+-------------------------------------+
| 64         | 2048    | -0.029                              |
+------------+---------+-------------------------------------+

To view detailed results, visit:
https://lab.dpdk.org/results/dashboard/patchsets/11742/

UNH-IOL DPDK Community Lab

To manage your email subscriptions, visit: 
https://lab.dpdk.org/results/dashboard/preferences/subscriptions/

^ permalink raw reply	[flat|nested] 7+ messages in thread

* [dpdk-test-report] |SUCCESS| pw72455 [PATCH] app/testpmd: update uninitialized member when set fwd mode
@ 2020-06-30 15:13 dpdklab
  0 siblings, 0 replies; 7+ messages in thread
From: dpdklab @ 2020-06-30 15:13 UTC (permalink / raw)
  To: Test Report; +Cc: dpdk-test-reports

[-- Attachment #1: Type: text/plain, Size: 2899 bytes --]

Test-Label: iol-testing
Test-Status: SUCCESS
http://dpdk.org/patch/72455

_Testing PASS_

Submitter: Lijun Ou <oulijun@huawei.com>
Date: Tuesday, June 30 2020 13:25:12 
DPDK git baseline: Repo:dpdk
  Branch: master
  CommitID:014a7ec6c418eaf24a13be8ade8229638ddc6eed

72455 --> testing pass

Test environment and result as below:

+---------------------+--------------------+--------------+------------------+----------------+-------------------+
|     Environment     | dpdk_meson_compile | dpdk_compile | dpdk_compile_ovs | dpdk_unit_test | dpdk_compile_spdk |
+=====================+====================+==============+==================+================+===================+
| Windows Server 2019 | PASS               | SKIPPED      | SKIPPED          | SKIPPED        | SKIPPED           |
+---------------------+--------------------+--------------+------------------+----------------+-------------------+
| CentOS 8            | PASS               | PASS         | PASS             | SKIPPED        | PASS              |
+---------------------+--------------------+--------------+------------------+----------------+-------------------+
| Fedora 31           | PASS               | PASS         | PASS             | SKIPPED        | PASS              |
+---------------------+--------------------+--------------+------------------+----------------+-------------------+
| Ubuntu 18.04        | PASS               | PASS         | PASS             | PASS           | PASS              |
+---------------------+--------------------+--------------+------------------+----------------+-------------------+
| openSUSE Leap 15    | PASS               | PASS         | PASS             | SKIPPED        | PASS              |
+---------------------+--------------------+--------------+------------------+----------------+-------------------+
| Arch Linux          | PASS               | PASS         | PASS             | SKIPPED        | SKIPPED           |
+---------------------+--------------------+--------------+------------------+----------------+-------------------+
| FreeBSD 11.2        | PASS               | PASS         | SKIPPED          | SKIPPED        | PASS              |
+---------------------+--------------------+--------------+------------------+----------------+-------------------+

Windows Server 2019
	Kernel: 10.0
	Compiler: clang 9.0

CentOS 8
	Kernel: 4.18.0.el8_0
	Compiler: gcc 8.3.1

Fedora 31
	Kernel: 5.3.16
	Compiler: gcc 9.2.1

Ubuntu 18.04
	Kernel: 4.15.0-generic
	Compiler: gcc 7.4

openSUSE Leap 15
	Kernel: 4.12.14
	Compiler: gcc 7.4.1

Arch Linux
	Kernel: latest
	Compiler: gcc latest

FreeBSD 11.2
	Kernel: 11.2
	Compiler: gcc 8.3

To view detailed results, visit:
https://lab.dpdk.org/results/dashboard/patchsets/11742/

UNH-IOL DPDK Community Lab

To manage your email subscriptions, visit: 
https://lab.dpdk.org/results/dashboard/preferences/subscriptions/

^ permalink raw reply	[flat|nested] 7+ messages in thread

end of thread, back to index

Thread overview: 7+ messages (download: mbox.gz / follow: Atom feed)
-- links below jump to the message on this page --
     [not found] <1593523512-18096-1-git-send-email-oulijun@huawei.com>
2020-06-30 13:27 ` [dpdk-test-report] |SUCCESS| pw72455 [PATCH] app/testpmd: update uninitialized member when set fwd mode checkpatch
2020-06-30 16:13 ` [dpdk-test-report] |SUCCESS| pw72455 " 0-day Robot
2020-07-01  0:15 [dpdk-test-report] |SUCCESS| pw72455 [PATCH] " dpdklab
  -- strict thread matches above, loose matches on Subject: below --
2020-06-30 23:06 dpdklab
2020-06-30 19:35 dpdklab
2020-06-30 17:37 dpdklab
2020-06-30 15:13 dpdklab

automatic DPDK test reports

Archives are clonable:
	git clone --mirror http://inbox.dpdk.org/test-report/0 test-report/git/0.git

	# If you have public-inbox 1.1+ installed, you may
	# initialize and index your mirror using the following commands:
	public-inbox-init -V2 test-report test-report/ http://inbox.dpdk.org/test-report \
		test-report@dpdk.org
	public-inbox-index test-report


Newsgroup available over NNTP:
	nntp://inbox.dpdk.org/inbox.dpdk.test-report


AGPL code for this site: git clone https://public-inbox.org/ public-inbox