[-- Attachment #1: Type: text/plain, Size: 1277 bytes --] Test-Label: iol-broadcom-Performance Test-Status: SUCCESS http://dpdk.org/patch/72457 _Performance Testing PASS_ Submitter: Bruce Richardson <bruce.richardson@intel.com> Date: Tuesday, June 30 2020 14:14:27 DPDK git baseline: Repo:dpdk Branch: master CommitID:014a7ec6c418eaf24a13be8ade8229638ddc6eed 72457-72463 --> performance testing pass Test environment and result as below: Ubuntu 18.04 Kernel: 4.15.0-65-generic Compiler: gcc gcc (Ubuntu 7.4.0-1ubuntu1~18.04.1) 7.4.0 NIC: Broadcom Inc. brcm_57414 25000 Mbps Target: x86_64-native-linuxapp-gcc Fail/Total: 0/2 Detail performance results: +------------+---------+-------------------------------------+ | frame_size | txd/rxd | throughput difference from expected | +============+=========+=====================================+ | 64 | 512 | 0.074 | +------------+---------+-------------------------------------+ | 64 | 2048 | -0.044 | +------------+---------+-------------------------------------+ To view detailed results, visit: https://lab.dpdk.org/results/dashboard/patchsets/11743/ UNH-IOL DPDK Community Lab To manage your email subscriptions, visit: https://lab.dpdk.org/results/dashboard/preferences/subscriptions/
[-- Attachment #1: Type: text/plain, Size: 1926 bytes --] Test-Label: iol-intel-Performance Test-Status: SUCCESS http://dpdk.org/patch/72457 _Performance Testing PASS_ Submitter: Bruce Richardson <bruce.richardson@intel.com> Date: Tuesday, June 30 2020 14:14:27 DPDK git baseline: Repo:dpdk Branch: master CommitID:014a7ec6c418eaf24a13be8ade8229638ddc6eed 72457-72463 --> performance testing pass Test environment and result as below: Ubuntu 18.04 Kernel: 4.15.0-generic Compiler: gcc 7.4 NIC: Intel Corporation Ethernet Converged Network Adapter XL710-QDA2 40000 Mbps Target: x86_64-native-linuxapp-gcc Fail/Total: 0/2 Detail performance results: +------------+---------+-------------------------------------+ | frame_size | txd/rxd | throughput difference from expected | +============+=========+=====================================+ | 64 | 512 | 4.828 | +------------+---------+-------------------------------------+ | 64 | 2048 | 2.738 | +------------+---------+-------------------------------------+ Ubuntu 18.04 Kernel: 4.15.0-generic Compiler: gcc 7.4 NIC: Intel Corporation Ethernet Converged Network Adapter 82599ES 10000 Mbps Target: x86_64-native-linuxapp-gcc Fail/Total: 0/2 Detail performance results: +------------+---------+-------------------------------------+ | frame_size | txd/rxd | throughput difference from expected | +============+=========+=====================================+ | 64 | 512 | 2.497 | +------------+---------+-------------------------------------+ | 64 | 2048 | 0.929 | +------------+---------+-------------------------------------+ To view detailed results, visit: https://lab.dpdk.org/results/dashboard/patchsets/11743/ UNH-IOL DPDK Community Lab To manage your email subscriptions, visit: https://lab.dpdk.org/results/dashboard/preferences/subscriptions/
[-- Attachment #1: Type: text/plain, Size: 1214 bytes --] Test-Label: iol-nxp-Performance Test-Status: SUCCESS http://dpdk.org/patch/72457 _Performance Testing PASS_ Submitter: Bruce Richardson <bruce.richardson@intel.com> Date: Tuesday, June 30 2020 14:14:27 DPDK git baseline: Repo:dpdk Branch: master CommitID:014a7ec6c418eaf24a13be8ade8229638ddc6eed 72457-72463 --> performance testing pass Test environment and result as below: Ubuntu 18.04 Kernel: 4.14.122 Compiler: gcc 7.3.0 NIC: NXP LS2088A 10000 Mbps Target: x86_64-native-linuxapp-gcc Fail/Total: 0/2 Detail performance results: +------------+---------+-------------------------------------+ | frame_size | txd/rxd | throughput difference from expected | +============+=========+=====================================+ | 64 | 512 | 0.056 | +------------+---------+-------------------------------------+ | 64 | 2048 | 0.087 | +------------+---------+-------------------------------------+ To view detailed results, visit: https://lab.dpdk.org/results/dashboard/patchsets/11743/ UNH-IOL DPDK Community Lab To manage your email subscriptions, visit: https://lab.dpdk.org/results/dashboard/preferences/subscriptions/
[-- Attachment #1: Type: text/plain, Size: 3976 bytes --] Test-Label: iol-mellanox-Performance Test-Status: SUCCESS http://dpdk.org/patch/72457 _Performance Testing PASS_ Submitter: Bruce Richardson <bruce.richardson@intel.com> Date: Tuesday, June 30 2020 14:14:27 DPDK git baseline: Repo:dpdk Branch: master CommitID:014a7ec6c418eaf24a13be8ade8229638ddc6eed 72457-72463 --> performance testing pass Test environment and result as below: Ubuntu 18.04 Kernel: 4.15.0-generic Compiler: gcc 7.4 NIC: Mellanox ConnectX-5 100000 Mbps Target: x86_64-native-linuxapp-gcc Fail/Total: 0/6 Detail performance results: +------------+---------+-------------------------------------+ | frame_size | txd/rxd | throughput difference from expected | +============+=========+=====================================+ | 64 | 256 | 0.383 | +------------+---------+-------------------------------------+ | 128 | 256 | 0.041 | +------------+---------+-------------------------------------+ | 256 | 256 | 0.090 | +------------+---------+-------------------------------------+ | 512 | 256 | 0.052 | +------------+---------+-------------------------------------+ | 1024 | 256 | -0.064 | +------------+---------+-------------------------------------+ | 1518 | 256 | -0.022 | +------------+---------+-------------------------------------+ Ubuntu 18.04 Kernel: 4.15.0-generic Compiler: gcc 7.4 NIC: Mellanox ConnectX-4 Lx 25000 Mbps Target: x86_64-native-linuxapp-gcc Fail/Total: 0/6 Detail performance results: +------------+---------+-------------------------------------+ | frame_size | txd/rxd | throughput difference from expected | +============+=========+=====================================+ | 64 | 256 | 0.036 | +------------+---------+-------------------------------------+ | 128 | 256 | 0.098 | +------------+---------+-------------------------------------+ | 256 | 256 | 0.258 | +------------+---------+-------------------------------------+ | 512 | 256 | 0.037 | +------------+---------+-------------------------------------+ | 1024 | 256 | 0 | +------------+---------+-------------------------------------+ | 1518 | 256 | 0.005 | +------------+---------+-------------------------------------+ Ubuntu 18.04 Kernel: 4.15.0-generic Compiler: gcc 7.4 NIC: Mellanox ConnectX-4 Lx 40000 Mbps Target: x86_64-native-linuxapp-gcc Fail/Total: 0/6 Detail performance results: +------------+---------+-------------------------------------+ | frame_size | txd/rxd | throughput difference from expected | +============+=========+=====================================+ | 64 | 256 | 0.654 | +------------+---------+-------------------------------------+ | 128 | 256 | 0.607 | +------------+---------+-------------------------------------+ | 256 | 256 | -0.021 | +------------+---------+-------------------------------------+ | 512 | 256 | 0.001 | +------------+---------+-------------------------------------+ | 1024 | 256 | -0.004 | +------------+---------+-------------------------------------+ | 1518 | 256 | 0.014 | +------------+---------+-------------------------------------+ To view detailed results, visit: https://lab.dpdk.org/results/dashboard/patchsets/11743/ UNH-IOL DPDK Community Lab To manage your email subscriptions, visit: https://lab.dpdk.org/results/dashboard/preferences/subscriptions/
[-- Attachment #1: Type: text/plain, Size: 2921 bytes --] Test-Label: iol-testing Test-Status: SUCCESS http://dpdk.org/patch/72457 _Testing PASS_ Submitter: Bruce Richardson <bruce.richardson@intel.com> Date: Tuesday, June 30 2020 14:14:27 DPDK git baseline: Repo:dpdk Branch: master CommitID:014a7ec6c418eaf24a13be8ade8229638ddc6eed 72457-72463 --> testing pass Test environment and result as below: +---------------------+--------------------+-------------------+------------------+----------------+--------------+ | Environment | dpdk_meson_compile | dpdk_compile_spdk | dpdk_compile_ovs | dpdk_unit_test | dpdk_compile | +=====================+====================+===================+==================+================+==============+ | Windows Server 2019 | PASS | SKIPPED | SKIPPED | SKIPPED | SKIPPED | +---------------------+--------------------+-------------------+------------------+----------------+--------------+ | openSUSE Leap 15 | PASS | PASS | PASS | SKIPPED | PASS | +---------------------+--------------------+-------------------+------------------+----------------+--------------+ | Fedora 31 | PASS | PASS | PASS | SKIPPED | PASS | +---------------------+--------------------+-------------------+------------------+----------------+--------------+ | CentOS 8 | PASS | PASS | PASS | SKIPPED | PASS | +---------------------+--------------------+-------------------+------------------+----------------+--------------+ | Ubuntu 18.04 | PASS | PASS | PASS | PASS | PASS | +---------------------+--------------------+-------------------+------------------+----------------+--------------+ | Arch Linux | PASS | SKIPPED | PASS | SKIPPED | PASS | +---------------------+--------------------+-------------------+------------------+----------------+--------------+ | FreeBSD 11.2 | PASS | PASS | SKIPPED | SKIPPED | PASS | +---------------------+--------------------+-------------------+------------------+----------------+--------------+ Windows Server 2019 Kernel: 10.0 Compiler: clang 9.0 openSUSE Leap 15 Kernel: 4.12.14 Compiler: gcc 7.4.1 Fedora 31 Kernel: 5.3.16 Compiler: gcc 9.2.1 CentOS 8 Kernel: 4.18.0.el8_0 Compiler: gcc 8.3.1 Ubuntu 18.04 Kernel: 4.15.0-generic Compiler: gcc 7.4 Arch Linux Kernel: latest Compiler: gcc latest FreeBSD 11.2 Kernel: 11.2 Compiler: gcc 8.3 To view detailed results, visit: https://lab.dpdk.org/results/dashboard/patchsets/11743/ UNH-IOL DPDK Community Lab To manage your email subscriptions, visit: https://lab.dpdk.org/results/dashboard/preferences/subscriptions/