* [dpdk-test-report] |SUCCESS| pw72450 [PATCH] [v2, 1/4] net/qede/base: re-arrange few structures for DDC
@ 2020-06-30 19:05 dpdklab
0 siblings, 0 replies; 5+ messages in thread
From: dpdklab @ 2020-06-30 19:05 UTC (permalink / raw)
To: Test Report; +Cc: dpdk-test-reports
[-- Attachment #1: Type: text/plain, Size: 2901 bytes --]
Test-Label: iol-testing
Test-Status: SUCCESS
http://dpdk.org/patch/72450
_Testing PASS_
Submitter: Rasesh Mody <rmody@marvell.com>
Date: Tuesday, June 30 2020 08:32:12
DPDK git baseline: Repo:dpdk
Branch: master
CommitID:014a7ec6c418eaf24a13be8ade8229638ddc6eed
72450 --> testing pass
Test environment and result as below:
+---------------------+--------------------+-------------------+----------------+--------------+------------------+
| Environment | dpdk_meson_compile | dpdk_compile_spdk | dpdk_unit_test | dpdk_compile | dpdk_compile_ovs |
+=====================+====================+===================+================+==============+==================+
| Windows Server 2019 | PASS | SKIPPED | SKIPPED | SKIPPED | SKIPPED |
+---------------------+--------------------+-------------------+----------------+--------------+------------------+
| Fedora 31 | PASS | PASS | SKIPPED | PASS | PASS |
+---------------------+--------------------+-------------------+----------------+--------------+------------------+
| Ubuntu 18.04 | PASS | PASS | PASS | PASS | PASS |
+---------------------+--------------------+-------------------+----------------+--------------+------------------+
| CentOS 8 | PASS | PASS | SKIPPED | PASS | PASS |
+---------------------+--------------------+-------------------+----------------+--------------+------------------+
| openSUSE Leap 15 | PASS | PASS | SKIPPED | PASS | PASS |
+---------------------+--------------------+-------------------+----------------+--------------+------------------+
| Arch Linux | PASS | SKIPPED | SKIPPED | PASS | PASS |
+---------------------+--------------------+-------------------+----------------+--------------+------------------+
| FreeBSD 11.2 | PASS | PASS | SKIPPED | PASS | SKIPPED |
+---------------------+--------------------+-------------------+----------------+--------------+------------------+
Windows Server 2019
Kernel: 10.0
Compiler: clang 9.0
Fedora 31
Kernel: 5.3.16
Compiler: gcc 9.2.1
Ubuntu 18.04
Kernel: 4.15.0-generic
Compiler: gcc 7.4
CentOS 8
Kernel: 4.18.0.el8_0
Compiler: gcc 8.3.1
openSUSE Leap 15
Kernel: 4.12.14
Compiler: gcc 7.4.1
Arch Linux
Kernel: latest
Compiler: gcc latest
FreeBSD 11.2
Kernel: 11.2
Compiler: gcc 8.3
To view detailed results, visit:
https://lab.dpdk.org/results/dashboard/patchsets/11737/
UNH-IOL DPDK Community Lab
To manage your email subscriptions, visit:
https://lab.dpdk.org/results/dashboard/preferences/subscriptions/
^ permalink raw reply [flat|nested] 5+ messages in thread
* [dpdk-test-report] |SUCCESS| pw72450 [PATCH] [v2, 1/4] net/qede/base: re-arrange few structures for DDC
@ 2020-06-30 18:25 dpdklab
0 siblings, 0 replies; 5+ messages in thread
From: dpdklab @ 2020-06-30 18:25 UTC (permalink / raw)
To: Ali Alnubani, Test Report; +Cc: dpdk-test-reports
[-- Attachment #1: Type: text/plain, Size: 3956 bytes --]
Test-Label: iol-mellanox-Performance
Test-Status: SUCCESS
http://dpdk.org/patch/72450
_Performance Testing PASS_
Submitter: Rasesh Mody <rmody@marvell.com>
Date: Tuesday, June 30 2020 08:32:12
DPDK git baseline: Repo:dpdk
Branch: master
CommitID:014a7ec6c418eaf24a13be8ade8229638ddc6eed
72450 --> performance testing pass
Test environment and result as below:
Ubuntu 18.04
Kernel: 4.15.0-generic
Compiler: gcc 7.4
NIC: Mellanox ConnectX-5 100000 Mbps
Target: x86_64-native-linuxapp-gcc
Fail/Total: 0/6
Detail performance results:
+------------+---------+-------------------------------------+
| frame_size | txd/rxd | throughput difference from expected |
+============+=========+=====================================+
| 64 | 256 | 0.403 |
+------------+---------+-------------------------------------+
| 128 | 256 | -0.075 |
+------------+---------+-------------------------------------+
| 256 | 256 | 0.085 |
+------------+---------+-------------------------------------+
| 512 | 256 | -0.187 |
+------------+---------+-------------------------------------+
| 1024 | 256 | -0.052 |
+------------+---------+-------------------------------------+
| 1518 | 256 | 0.043 |
+------------+---------+-------------------------------------+
Ubuntu 18.04
Kernel: 4.15.0-generic
Compiler: gcc 7.4
NIC: Mellanox ConnectX-4 Lx 25000 Mbps
Target: x86_64-native-linuxapp-gcc
Fail/Total: 0/6
Detail performance results:
+------------+---------+-------------------------------------+
| frame_size | txd/rxd | throughput difference from expected |
+============+=========+=====================================+
| 64 | 256 | -0.034 |
+------------+---------+-------------------------------------+
| 128 | 256 | -0.121 |
+------------+---------+-------------------------------------+
| 256 | 256 | 0.090 |
+------------+---------+-------------------------------------+
| 512 | 256 | 0.009 |
+------------+---------+-------------------------------------+
| 1024 | 256 | 0.016 |
+------------+---------+-------------------------------------+
| 1518 | 256 | -0.001 |
+------------+---------+-------------------------------------+
Ubuntu 18.04
Kernel: 4.15.0-generic
Compiler: gcc 7.4
NIC: Mellanox ConnectX-4 Lx 40000 Mbps
Target: x86_64-native-linuxapp-gcc
Fail/Total: 0/6
Detail performance results:
+------------+---------+-------------------------------------+
| frame_size | txd/rxd | throughput difference from expected |
+============+=========+=====================================+
| 64 | 256 | 0.677 |
+------------+---------+-------------------------------------+
| 128 | 256 | 0.118 |
+------------+---------+-------------------------------------+
| 256 | 256 | -0.162 |
+------------+---------+-------------------------------------+
| 512 | 256 | 0.022 |
+------------+---------+-------------------------------------+
| 1024 | 256 | -0.004 |
+------------+---------+-------------------------------------+
| 1518 | 256 | -0.003 |
+------------+---------+-------------------------------------+
To view detailed results, visit:
https://lab.dpdk.org/results/dashboard/patchsets/11737/
UNH-IOL DPDK Community Lab
To manage your email subscriptions, visit:
https://lab.dpdk.org/results/dashboard/preferences/subscriptions/
^ permalink raw reply [flat|nested] 5+ messages in thread
* [dpdk-test-report] |SUCCESS| pw72450 [PATCH] [v2, 1/4] net/qede/base: re-arrange few structures for DDC
@ 2020-06-30 16:59 dpdklab
0 siblings, 0 replies; 5+ messages in thread
From: dpdklab @ 2020-06-30 16:59 UTC (permalink / raw)
To: Ruoshan Shi, Test Report; +Cc: dpdk-test-reports
[-- Attachment #1: Type: text/plain, Size: 1194 bytes --]
Test-Label: iol-nxp-Performance
Test-Status: SUCCESS
http://dpdk.org/patch/72450
_Performance Testing PASS_
Submitter: Rasesh Mody <rmody@marvell.com>
Date: Tuesday, June 30 2020 08:32:12
DPDK git baseline: Repo:dpdk
Branch: master
CommitID:014a7ec6c418eaf24a13be8ade8229638ddc6eed
72450 --> performance testing pass
Test environment and result as below:
Ubuntu 18.04
Kernel: 4.14.122
Compiler: gcc 7.3.0
NIC: NXP LS2088A 10000 Mbps
Target: x86_64-native-linuxapp-gcc
Fail/Total: 0/2
Detail performance results:
+------------+---------+-------------------------------------+
| frame_size | txd/rxd | throughput difference from expected |
+============+=========+=====================================+
| 64 | 512 | -0.016 |
+------------+---------+-------------------------------------+
| 64 | 2048 | -0.060 |
+------------+---------+-------------------------------------+
To view detailed results, visit:
https://lab.dpdk.org/results/dashboard/patchsets/11737/
UNH-IOL DPDK Community Lab
To manage your email subscriptions, visit:
https://lab.dpdk.org/results/dashboard/preferences/subscriptions/
^ permalink raw reply [flat|nested] 5+ messages in thread
* [dpdk-test-report] |SUCCESS| pw72450 [PATCH] [v2, 1/4] net/qede/base: re-arrange few structures for DDC
@ 2020-06-30 16:14 dpdklab
0 siblings, 0 replies; 5+ messages in thread
From: dpdklab @ 2020-06-30 16:14 UTC (permalink / raw)
To: Test Report; +Cc: dpdk-test-reports
[-- Attachment #1: Type: text/plain, Size: 1906 bytes --]
Test-Label: iol-intel-Performance
Test-Status: SUCCESS
http://dpdk.org/patch/72450
_Performance Testing PASS_
Submitter: Rasesh Mody <rmody@marvell.com>
Date: Tuesday, June 30 2020 08:32:12
DPDK git baseline: Repo:dpdk
Branch: master
CommitID:014a7ec6c418eaf24a13be8ade8229638ddc6eed
72450 --> performance testing pass
Test environment and result as below:
Ubuntu 18.04
Kernel: 4.15.0-generic
Compiler: gcc 7.4
NIC: Intel Corporation Ethernet Converged Network Adapter XL710-QDA2 40000 Mbps
Target: x86_64-native-linuxapp-gcc
Fail/Total: 0/2
Detail performance results:
+------------+---------+-------------------------------------+
| frame_size | txd/rxd | throughput difference from expected |
+============+=========+=====================================+
| 64 | 512 | 4.953 |
+------------+---------+-------------------------------------+
| 64 | 2048 | 2.674 |
+------------+---------+-------------------------------------+
Ubuntu 18.04
Kernel: 4.15.0-generic
Compiler: gcc 7.4
NIC: Intel Corporation Ethernet Converged Network Adapter 82599ES 10000 Mbps
Target: x86_64-native-linuxapp-gcc
Fail/Total: 0/2
Detail performance results:
+------------+---------+-------------------------------------+
| frame_size | txd/rxd | throughput difference from expected |
+============+=========+=====================================+
| 64 | 512 | 2.674 |
+------------+---------+-------------------------------------+
| 64 | 2048 | 0.793 |
+------------+---------+-------------------------------------+
To view detailed results, visit:
https://lab.dpdk.org/results/dashboard/patchsets/11737/
UNH-IOL DPDK Community Lab
To manage your email subscriptions, visit:
https://lab.dpdk.org/results/dashboard/preferences/subscriptions/
^ permalink raw reply [flat|nested] 5+ messages in thread
[parent not found: <20200630083215.13108-2-rmody@marvell.com>]
end of thread, other threads:[~2020-06-30 19:05 UTC | newest]
Thread overview: 5+ messages (download: mbox.gz / follow: Atom feed)
-- links below jump to the message on this page --
2020-06-30 19:05 [dpdk-test-report] |SUCCESS| pw72450 [PATCH] [v2, 1/4] net/qede/base: re-arrange few structures for DDC dpdklab
-- strict thread matches above, loose matches on Subject: below --
2020-06-30 18:25 dpdklab
2020-06-30 16:59 dpdklab
2020-06-30 16:14 dpdklab
[not found] <20200630083215.13108-2-rmody@marvell.com>
2020-06-30 8:33 ` [dpdk-test-report] |SUCCESS| pw72450 [PATCH v2 " checkpatch
This is a public inbox, see mirroring instructions
for how to clone and mirror all data and code used for this inbox;
as well as URLs for NNTP newsgroup(s).