* [dpdk-test-report] |SUCCESS| pw72494-72501 [PATCH] [v2, 1/8] net/ice/base: fix GTP-U inner RSS IPv4 IPv6 co-exist
@ 2020-07-01 16:04 dpdklab
0 siblings, 0 replies; 5+ messages in thread
From: dpdklab @ 2020-07-01 16:04 UTC (permalink / raw)
To: Test Report; +Cc: dpdk-test-reports
[-- Attachment #1: Type: text/plain, Size: 2927 bytes --]
Test-Label: iol-testing
Test-Status: SUCCESS
http://dpdk.org/patch/72494
_Testing PASS_
Submitter: Zhang, Qi Z <qi.z.zhang@intel.com>
Date: Wednesday, July 01 2020 05:49:44
DPDK git baseline: Repo:dpdk-next-net-intel
Branch: master
CommitID:9070cac0264d57363f5d02c4adfb779a4aabbe4e
72494-72501 --> testing pass
Test environment and result as below:
+---------------------+--------------------+-------------------+----------------+------------------+--------------+
| Environment | dpdk_meson_compile | dpdk_compile_spdk | dpdk_unit_test | dpdk_compile_ovs | dpdk_compile |
+=====================+====================+===================+================+==================+==============+
| Windows Server 2019 | PASS | SKIPPED | SKIPPED | SKIPPED | SKIPPED |
+---------------------+--------------------+-------------------+----------------+------------------+--------------+
| Fedora 31 | PASS | PASS | SKIPPED | PASS | PASS |
+---------------------+--------------------+-------------------+----------------+------------------+--------------+
| openSUSE Leap 15 | PASS | PASS | SKIPPED | PASS | PASS |
+---------------------+--------------------+-------------------+----------------+------------------+--------------+
| CentOS 8 | PASS | PASS | SKIPPED | PASS | PASS |
+---------------------+--------------------+-------------------+----------------+------------------+--------------+
| Ubuntu 18.04 | PASS | PASS | PASS | PASS | PASS |
+---------------------+--------------------+-------------------+----------------+------------------+--------------+
| Arch Linux | PASS | SKIPPED | SKIPPED | PASS | PASS |
+---------------------+--------------------+-------------------+----------------+------------------+--------------+
| FreeBSD 11.2 | PASS | PASS | SKIPPED | SKIPPED | PASS |
+---------------------+--------------------+-------------------+----------------+------------------+--------------+
Windows Server 2019
Kernel: 10.0
Compiler: clang 9.0
Fedora 31
Kernel: 5.3.16
Compiler: gcc 9.2.1
openSUSE Leap 15
Kernel: 4.12.14
Compiler: gcc 7.4.1
CentOS 8
Kernel: 4.18.0.el8_0
Compiler: gcc 8.3.1
Ubuntu 18.04
Kernel: 4.15.0-generic
Compiler: gcc 7.4
Arch Linux
Kernel: latest
Compiler: gcc latest
FreeBSD 11.2
Kernel: 11.2
Compiler: gcc 8.3
To view detailed results, visit:
https://lab.dpdk.org/results/dashboard/patchsets/11751/
UNH-IOL DPDK Community Lab
To manage your email subscriptions, visit:
https://lab.dpdk.org/results/dashboard/preferences/subscriptions/
^ permalink raw reply [flat|nested] 5+ messages in thread
* [dpdk-test-report] |SUCCESS| pw72494-72501 [PATCH] [v2, 1/8] net/ice/base: fix GTP-U inner RSS IPv4 IPv6 co-exist
@ 2020-07-01 11:22 dpdklab
0 siblings, 0 replies; 5+ messages in thread
From: dpdklab @ 2020-07-01 11:22 UTC (permalink / raw)
To: Ali Alnubani, Test Report; +Cc: dpdk-test-reports
[-- Attachment #1: Type: text/plain, Size: 3979 bytes --]
Test-Label: iol-mellanox-Performance
Test-Status: SUCCESS
http://dpdk.org/patch/72494
_Performance Testing PASS_
Submitter: Qi Zhang <qi.z.zhang@intel.com>
Date: Wednesday, July 01 2020 05:49:44
DPDK git baseline: Repo:dpdk-next-net-intel
Branch: master
CommitID:9070cac0264d57363f5d02c4adfb779a4aabbe4e
72494-72501 --> performance testing pass
Test environment and result as below:
Ubuntu 18.04
Kernel: 4.15.0-generic
Compiler: gcc 7.4
NIC: Mellanox ConnectX-5 100000 Mbps
Target: x86_64-native-linuxapp-gcc
Fail/Total: 0/6
Detail performance results:
+------------+---------+-------------------------------------+
| frame_size | txd/rxd | throughput difference from expected |
+============+=========+=====================================+
| 64 | 256 | 0.613 |
+------------+---------+-------------------------------------+
| 128 | 256 | 0.156 |
+------------+---------+-------------------------------------+
| 256 | 256 | 0.178 |
+------------+---------+-------------------------------------+
| 512 | 256 | 0.030 |
+------------+---------+-------------------------------------+
| 1024 | 256 | 0.039 |
+------------+---------+-------------------------------------+
| 1518 | 256 | 0.011 |
+------------+---------+-------------------------------------+
Ubuntu 18.04
Kernel: 4.15.0-generic
Compiler: gcc 7.4
NIC: Mellanox ConnectX-4 Lx 25000 Mbps
Target: x86_64-native-linuxapp-gcc
Fail/Total: 0/6
Detail performance results:
+------------+---------+-------------------------------------+
| frame_size | txd/rxd | throughput difference from expected |
+============+=========+=====================================+
| 64 | 256 | -0.132 |
+------------+---------+-------------------------------------+
| 128 | 256 | 0.198 |
+------------+---------+-------------------------------------+
| 256 | 256 | -0.017 |
+------------+---------+-------------------------------------+
| 512 | 256 | -0.012 |
+------------+---------+-------------------------------------+
| 1024 | 256 | 0.002 |
+------------+---------+-------------------------------------+
| 1518 | 256 | 0 |
+------------+---------+-------------------------------------+
Ubuntu 18.04
Kernel: 4.15.0-generic
Compiler: gcc 7.4
NIC: Mellanox ConnectX-4 Lx 40000 Mbps
Target: x86_64-native-linuxapp-gcc
Fail/Total: 0/6
Detail performance results:
+------------+---------+-------------------------------------+
| frame_size | txd/rxd | throughput difference from expected |
+============+=========+=====================================+
| 64 | 256 | -0.762 |
+------------+---------+-------------------------------------+
| 128 | 256 | 0.058 |
+------------+---------+-------------------------------------+
| 256 | 256 | -0.048 |
+------------+---------+-------------------------------------+
| 512 | 256 | 0 |
+------------+---------+-------------------------------------+
| 1024 | 256 | -0.001 |
+------------+---------+-------------------------------------+
| 1518 | 256 | 0.001 |
+------------+---------+-------------------------------------+
To view detailed results, visit:
https://lab.dpdk.org/results/dashboard/patchsets/11751/
UNH-IOL DPDK Community Lab
To manage your email subscriptions, visit:
https://lab.dpdk.org/results/dashboard/preferences/subscriptions/
^ permalink raw reply [flat|nested] 5+ messages in thread
* [dpdk-test-report] |SUCCESS| pw72494-72501 [PATCH] [v2, 1/8] net/ice/base: fix GTP-U inner RSS IPv4 IPv6 co-exist
@ 2020-07-01 6:58 dpdklab
0 siblings, 0 replies; 5+ messages in thread
From: dpdklab @ 2020-07-01 6:58 UTC (permalink / raw)
To: Ruoshan Shi, Test Report; +Cc: dpdk-test-reports
[-- Attachment #1: Type: text/plain, Size: 1217 bytes --]
Test-Label: iol-nxp-Performance
Test-Status: SUCCESS
http://dpdk.org/patch/72494
_Performance Testing PASS_
Submitter: Qi Zhang <qi.z.zhang@intel.com>
Date: Wednesday, July 01 2020 05:49:44
DPDK git baseline: Repo:dpdk-next-net-intel
Branch: master
CommitID:9070cac0264d57363f5d02c4adfb779a4aabbe4e
72494-72501 --> performance testing pass
Test environment and result as below:
Ubuntu 18.04
Kernel: 4.14.122
Compiler: gcc 7.3.0
NIC: NXP LS2088A 10000 Mbps
Target: x86_64-native-linuxapp-gcc
Fail/Total: 0/2
Detail performance results:
+------------+---------+-------------------------------------+
| frame_size | txd/rxd | throughput difference from expected |
+============+=========+=====================================+
| 64 | 512 | 0.038 |
+------------+---------+-------------------------------------+
| 64 | 2048 | -0.065 |
+------------+---------+-------------------------------------+
To view detailed results, visit:
https://lab.dpdk.org/results/dashboard/patchsets/11751/
UNH-IOL DPDK Community Lab
To manage your email subscriptions, visit:
https://lab.dpdk.org/results/dashboard/preferences/subscriptions/
^ permalink raw reply [flat|nested] 5+ messages in thread
* [dpdk-test-report] |SUCCESS| pw72494-72501 [PATCH] [v2, 1/8] net/ice/base: fix GTP-U inner RSS IPv4 IPv6 co-exist
@ 2020-07-01 6:54 dpdklab
0 siblings, 0 replies; 5+ messages in thread
From: dpdklab @ 2020-07-01 6:54 UTC (permalink / raw)
To: Test Report; +Cc: dpdk-test-reports
[-- Attachment #1: Type: text/plain, Size: 1929 bytes --]
Test-Label: iol-intel-Performance
Test-Status: SUCCESS
http://dpdk.org/patch/72494
_Performance Testing PASS_
Submitter: Qi Zhang <qi.z.zhang@intel.com>
Date: Wednesday, July 01 2020 05:49:44
DPDK git baseline: Repo:dpdk-next-net-intel
Branch: master
CommitID:9070cac0264d57363f5d02c4adfb779a4aabbe4e
72494-72501 --> performance testing pass
Test environment and result as below:
Ubuntu 18.04
Kernel: 4.15.0-generic
Compiler: gcc 7.4
NIC: Intel Corporation Ethernet Converged Network Adapter XL710-QDA2 40000 Mbps
Target: x86_64-native-linuxapp-gcc
Fail/Total: 0/2
Detail performance results:
+------------+---------+-------------------------------------+
| frame_size | txd/rxd | throughput difference from expected |
+============+=========+=====================================+
| 64 | 512 | 4.887 |
+------------+---------+-------------------------------------+
| 64 | 2048 | 2.995 |
+------------+---------+-------------------------------------+
Ubuntu 18.04
Kernel: 4.15.0-generic
Compiler: gcc 7.4
NIC: Intel Corporation Ethernet Converged Network Adapter 82599ES 10000 Mbps
Target: x86_64-native-linuxapp-gcc
Fail/Total: 0/2
Detail performance results:
+------------+---------+-------------------------------------+
| frame_size | txd/rxd | throughput difference from expected |
+============+=========+=====================================+
| 64 | 512 | 2.677 |
+------------+---------+-------------------------------------+
| 64 | 2048 | 0.992 |
+------------+---------+-------------------------------------+
To view detailed results, visit:
https://lab.dpdk.org/results/dashboard/patchsets/11751/
UNH-IOL DPDK Community Lab
To manage your email subscriptions, visit:
https://lab.dpdk.org/results/dashboard/preferences/subscriptions/
^ permalink raw reply [flat|nested] 5+ messages in thread
* [dpdk-test-report] |SUCCESS| pw72494-72501 [PATCH] [v2, 1/8] net/ice/base: fix GTP-U inner RSS IPv4 IPv6 co-exist
@ 2020-07-01 6:28 dpdklab
0 siblings, 0 replies; 5+ messages in thread
From: dpdklab @ 2020-07-01 6:28 UTC (permalink / raw)
To: Ajit Khaparde, Test Report; +Cc: dpdk-test-reports
[-- Attachment #1: Type: text/plain, Size: 1280 bytes --]
Test-Label: iol-broadcom-Performance
Test-Status: SUCCESS
http://dpdk.org/patch/72494
_Performance Testing PASS_
Submitter: Qi Zhang <qi.z.zhang@intel.com>
Date: Wednesday, July 01 2020 05:49:44
DPDK git baseline: Repo:dpdk-next-net-intel
Branch: master
CommitID:9070cac0264d57363f5d02c4adfb779a4aabbe4e
72494-72501 --> performance testing pass
Test environment and result as below:
Ubuntu 18.04
Kernel: 4.15.0-65-generic
Compiler: gcc gcc (Ubuntu 7.4.0-1ubuntu1~18.04.1) 7.4.0
NIC: Broadcom Inc. brcm_57414 25000 Mbps
Target: x86_64-native-linuxapp-gcc
Fail/Total: 0/2
Detail performance results:
+------------+---------+-------------------------------------+
| frame_size | txd/rxd | throughput difference from expected |
+============+=========+=====================================+
| 64 | 512 | 0.073 |
+------------+---------+-------------------------------------+
| 64 | 2048 | -0.006 |
+------------+---------+-------------------------------------+
To view detailed results, visit:
https://lab.dpdk.org/results/dashboard/patchsets/11751/
UNH-IOL DPDK Community Lab
To manage your email subscriptions, visit:
https://lab.dpdk.org/results/dashboard/preferences/subscriptions/
^ permalink raw reply [flat|nested] 5+ messages in thread
end of thread, other threads:[~2020-07-01 16:04 UTC | newest]
Thread overview: 5+ messages (download: mbox.gz / follow: Atom feed)
-- links below jump to the message on this page --
2020-07-01 16:04 [dpdk-test-report] |SUCCESS| pw72494-72501 [PATCH] [v2, 1/8] net/ice/base: fix GTP-U inner RSS IPv4 IPv6 co-exist dpdklab
-- strict thread matches above, loose matches on Subject: below --
2020-07-01 11:22 dpdklab
2020-07-01 6:58 dpdklab
2020-07-01 6:54 dpdklab
2020-07-01 6:28 dpdklab
automatic DPDK test reports
This inbox may be cloned and mirrored by anyone:
git clone --mirror http://inbox.dpdk.org/test-report/0 test-report/git/0.git
# If you have public-inbox 1.1+ installed, you may
# initialize and index your mirror using the following commands:
public-inbox-init -V2 test-report test-report/ http://inbox.dpdk.org/test-report \
test-report@dpdk.org
public-inbox-index test-report
Example config snippet for mirrors.
Newsgroup available over NNTP:
nntp://inbox.dpdk.org/inbox.dpdk.test-report
AGPL code for this site: git clone https://public-inbox.org/public-inbox.git