automatic DPDK test reports
 help / color / mirror / Atom feed
* [dpdk-test-report] |SUCCESS| pw72576 [PATCH] [v2] app/testpmd: fix missing set for current forward engine
@ 2020-07-02  0:09 dpdklab
  0 siblings, 0 replies; 5+ messages in thread
From: dpdklab @ 2020-07-02  0:09 UTC (permalink / raw)
  To: Test Report; +Cc: dpdk-test-reports

[-- Attachment #1: Type: text/plain, Size: 2901 bytes --]

Test-Label: iol-testing
Test-Status: SUCCESS
http://dpdk.org/patch/72576

_Testing PASS_

Submitter: Lijun Ou <oulijun@huawei.com>
Date: Wednesday, July 01 2020 07:43:26 
DPDK git baseline: Repo:dpdk
  Branch: master
  CommitID:4f299b7169000aa55fe7a48fe98736f728e4f710

72576 --> testing pass

Test environment and result as below:

+---------------------+--------------------+-------------------+--------------+----------------+------------------+
|     Environment     | dpdk_meson_compile | dpdk_compile_spdk | dpdk_compile | dpdk_unit_test | dpdk_compile_ovs |
+=====================+====================+===================+==============+================+==================+
| Windows Server 2019 | PASS               | SKIPPED           | SKIPPED      | SKIPPED        | SKIPPED          |
+---------------------+--------------------+-------------------+--------------+----------------+------------------+
| CentOS 8            | PASS               | PASS              | PASS         | SKIPPED        | PASS             |
+---------------------+--------------------+-------------------+--------------+----------------+------------------+
| Ubuntu 18.04        | PASS               | PASS              | PASS         | PASS           | PASS             |
+---------------------+--------------------+-------------------+--------------+----------------+------------------+
| Fedora 31           | PASS               | PASS              | PASS         | SKIPPED        | PASS             |
+---------------------+--------------------+-------------------+--------------+----------------+------------------+
| openSUSE Leap 15    | PASS               | PASS              | PASS         | SKIPPED        | PASS             |
+---------------------+--------------------+-------------------+--------------+----------------+------------------+
| Arch Linux          | PASS               | SKIPPED           | PASS         | SKIPPED        | PASS             |
+---------------------+--------------------+-------------------+--------------+----------------+------------------+
| FreeBSD 11.2        | PASS               | PASS              | PASS         | SKIPPED        | SKIPPED          |
+---------------------+--------------------+-------------------+--------------+----------------+------------------+

Windows Server 2019
	Kernel: 10.0
	Compiler: clang 9.0

CentOS 8
	Kernel: 4.18.0.el8_0
	Compiler: gcc 8.3.1

Ubuntu 18.04
	Kernel: 4.15.0-generic
	Compiler: gcc 7.4

Fedora 31
	Kernel: 5.3.16
	Compiler: gcc 9.2.1

openSUSE Leap 15
	Kernel: 4.12.14
	Compiler: gcc 7.4.1

Arch Linux
	Kernel: latest
	Compiler: gcc latest

FreeBSD 11.2
	Kernel: 11.2
	Compiler: gcc 8.3

To view detailed results, visit:
https://lab.dpdk.org/results/dashboard/patchsets/11757/

UNH-IOL DPDK Community Lab

To manage your email subscriptions, visit: 
https://lab.dpdk.org/results/dashboard/preferences/subscriptions/

^ permalink raw reply	[flat|nested] 5+ messages in thread

* [dpdk-test-report] |SUCCESS| pw72576 [PATCH] [v2] app/testpmd: fix missing set for current forward engine
@ 2020-07-01 18:19 dpdklab
  0 siblings, 0 replies; 5+ messages in thread
From: dpdklab @ 2020-07-01 18:19 UTC (permalink / raw)
  To: Ali Alnubani, Test Report; +Cc: dpdk-test-reports

[-- Attachment #1: Type: text/plain, Size: 3956 bytes --]

Test-Label: iol-mellanox-Performance
Test-Status: SUCCESS
http://dpdk.org/patch/72576

_Performance Testing PASS_

Submitter: Lijun Ou <oulijun@huawei.com>
Date: Wednesday, July 01 2020 07:43:26 
DPDK git baseline: Repo:dpdk
  Branch: master
  CommitID:4f299b7169000aa55fe7a48fe98736f728e4f710

72576 --> performance testing pass

Test environment and result as below:

Ubuntu 18.04
Kernel: 4.15.0-generic
Compiler: gcc 7.4
NIC: Mellanox ConnectX-5 100000 Mbps
Target: x86_64-native-linuxapp-gcc
Fail/Total: 0/6

Detail performance results: 
+------------+---------+-------------------------------------+
| frame_size | txd/rxd | throughput difference from expected |
+============+=========+=====================================+
| 64         | 256     | 0.794                               |
+------------+---------+-------------------------------------+
| 128        | 256     | 0.177                               |
+------------+---------+-------------------------------------+
| 256        | 256     | 0.079                               |
+------------+---------+-------------------------------------+
| 512        | 256     | -0.109                              |
+------------+---------+-------------------------------------+
| 1024       | 256     | 0.050                               |
+------------+---------+-------------------------------------+
| 1518       | 256     | 0.014                               |
+------------+---------+-------------------------------------+

Ubuntu 18.04
Kernel: 4.15.0-generic
Compiler: gcc 7.4
NIC: Mellanox ConnectX-4 Lx 25000 Mbps
Target: x86_64-native-linuxapp-gcc
Fail/Total: 0/6

Detail performance results: 
+------------+---------+-------------------------------------+
| frame_size | txd/rxd | throughput difference from expected |
+============+=========+=====================================+
| 64         | 256     | -0.695                              |
+------------+---------+-------------------------------------+
| 128        | 256     | 0.202                               |
+------------+---------+-------------------------------------+
| 256        | 256     | 0.283                               |
+------------+---------+-------------------------------------+
| 512        | 256     | -0.063                              |
+------------+---------+-------------------------------------+
| 1024       | 256     | 0.001                               |
+------------+---------+-------------------------------------+
| 1518       | 256     | -0.009                              |
+------------+---------+-------------------------------------+

Ubuntu 18.04
Kernel: 4.15.0-generic
Compiler: gcc 7.4
NIC: Mellanox ConnectX-4 Lx 40000 Mbps
Target: x86_64-native-linuxapp-gcc
Fail/Total: 0/6

Detail performance results: 
+------------+---------+-------------------------------------+
| frame_size | txd/rxd | throughput difference from expected |
+============+=========+=====================================+
| 64         | 256     | -0.508                              |
+------------+---------+-------------------------------------+
| 128        | 256     | 0.385                               |
+------------+---------+-------------------------------------+
| 256        | 256     | -0.039                              |
+------------+---------+-------------------------------------+
| 512        | 256     | 0.013                               |
+------------+---------+-------------------------------------+
| 1024       | 256     | 0.011                               |
+------------+---------+-------------------------------------+
| 1518       | 256     | 0.003                               |
+------------+---------+-------------------------------------+

To view detailed results, visit:
https://lab.dpdk.org/results/dashboard/patchsets/11757/

UNH-IOL DPDK Community Lab

To manage your email subscriptions, visit: 
https://lab.dpdk.org/results/dashboard/preferences/subscriptions/

^ permalink raw reply	[flat|nested] 5+ messages in thread

* [dpdk-test-report] |SUCCESS| pw72576 [PATCH] [v2] app/testpmd: fix missing set for current forward engine
@ 2020-07-01 11:27 dpdklab
  0 siblings, 0 replies; 5+ messages in thread
From: dpdklab @ 2020-07-01 11:27 UTC (permalink / raw)
  To: Ruoshan Shi, Test Report; +Cc: dpdk-test-reports

[-- Attachment #1: Type: text/plain, Size: 1194 bytes --]

Test-Label: iol-nxp-Performance
Test-Status: SUCCESS
http://dpdk.org/patch/72576

_Performance Testing PASS_

Submitter: Lijun Ou <oulijun@huawei.com>
Date: Wednesday, July 01 2020 07:43:26 
DPDK git baseline: Repo:dpdk
  Branch: master
  CommitID:4f299b7169000aa55fe7a48fe98736f728e4f710

72576 --> performance testing pass

Test environment and result as below:

Ubuntu 18.04
Kernel: 4.14.122
Compiler: gcc 7.3.0
NIC: NXP LS2088A 10000 Mbps
Target: x86_64-native-linuxapp-gcc
Fail/Total: 0/2

Detail performance results: 
+------------+---------+-------------------------------------+
| frame_size | txd/rxd | throughput difference from expected |
+============+=========+=====================================+
| 64         | 512     | 0.036                               |
+------------+---------+-------------------------------------+
| 64         | 2048    | 0.091                               |
+------------+---------+-------------------------------------+

To view detailed results, visit:
https://lab.dpdk.org/results/dashboard/patchsets/11757/

UNH-IOL DPDK Community Lab

To manage your email subscriptions, visit: 
https://lab.dpdk.org/results/dashboard/preferences/subscriptions/

^ permalink raw reply	[flat|nested] 5+ messages in thread

* [dpdk-test-report] |SUCCESS| pw72576 [PATCH] [v2] app/testpmd: fix missing set for current forward engine
@ 2020-07-01 11:02 dpdklab
  0 siblings, 0 replies; 5+ messages in thread
From: dpdklab @ 2020-07-01 11:02 UTC (permalink / raw)
  To: Test Report; +Cc: dpdk-test-reports

[-- Attachment #1: Type: text/plain, Size: 1906 bytes --]

Test-Label: iol-intel-Performance
Test-Status: SUCCESS
http://dpdk.org/patch/72576

_Performance Testing PASS_

Submitter: Lijun Ou <oulijun@huawei.com>
Date: Wednesday, July 01 2020 07:43:26 
DPDK git baseline: Repo:dpdk
  Branch: master
  CommitID:4f299b7169000aa55fe7a48fe98736f728e4f710

72576 --> performance testing pass

Test environment and result as below:

Ubuntu 18.04
Kernel: 4.15.0-generic
Compiler: gcc 7.4
NIC: Intel Corporation Ethernet Converged Network Adapter XL710-QDA2 40000 Mbps
Target: x86_64-native-linuxapp-gcc
Fail/Total: 0/2

Detail performance results: 
+------------+---------+-------------------------------------+
| frame_size | txd/rxd | throughput difference from expected |
+============+=========+=====================================+
| 64         | 512     | 4.910                               |
+------------+---------+-------------------------------------+
| 64         | 2048    | 2.936                               |
+------------+---------+-------------------------------------+

Ubuntu 18.04
Kernel: 4.15.0-generic
Compiler: gcc 7.4
NIC: Intel Corporation Ethernet Converged Network Adapter 82599ES 10000 Mbps
Target: x86_64-native-linuxapp-gcc
Fail/Total: 0/2

Detail performance results: 
+------------+---------+-------------------------------------+
| frame_size | txd/rxd | throughput difference from expected |
+============+=========+=====================================+
| 64         | 512     | 2.583                               |
+------------+---------+-------------------------------------+
| 64         | 2048    | 0.942                               |
+------------+---------+-------------------------------------+

To view detailed results, visit:
https://lab.dpdk.org/results/dashboard/patchsets/11757/

UNH-IOL DPDK Community Lab

To manage your email subscriptions, visit: 
https://lab.dpdk.org/results/dashboard/preferences/subscriptions/

^ permalink raw reply	[flat|nested] 5+ messages in thread

* [dpdk-test-report] |SUCCESS| pw72576 [PATCH] [v2] app/testpmd: fix missing set for current forward engine
@ 2020-07-01  9:12 dpdklab
  0 siblings, 0 replies; 5+ messages in thread
From: dpdklab @ 2020-07-01  9:12 UTC (permalink / raw)
  To: Ajit Khaparde, Test Report; +Cc: dpdk-test-reports

[-- Attachment #1: Type: text/plain, Size: 1257 bytes --]

Test-Label: iol-broadcom-Performance
Test-Status: SUCCESS
http://dpdk.org/patch/72576

_Performance Testing PASS_

Submitter: Lijun Ou <oulijun@huawei.com>
Date: Wednesday, July 01 2020 07:43:26 
DPDK git baseline: Repo:dpdk
  Branch: master
  CommitID:4f299b7169000aa55fe7a48fe98736f728e4f710

72576 --> performance testing pass

Test environment and result as below:

Ubuntu 18.04
Kernel: 4.15.0-65-generic
Compiler: gcc gcc (Ubuntu 7.4.0-1ubuntu1~18.04.1) 7.4.0
NIC: Broadcom Inc. brcm_57414 25000 Mbps
Target: x86_64-native-linuxapp-gcc
Fail/Total: 0/2

Detail performance results: 
+------------+---------+-------------------------------------+
| frame_size | txd/rxd | throughput difference from expected |
+============+=========+=====================================+
| 64         | 512     | 0.084                               |
+------------+---------+-------------------------------------+
| 64         | 2048    | -0.095                              |
+------------+---------+-------------------------------------+

To view detailed results, visit:
https://lab.dpdk.org/results/dashboard/patchsets/11757/

UNH-IOL DPDK Community Lab

To manage your email subscriptions, visit: 
https://lab.dpdk.org/results/dashboard/preferences/subscriptions/

^ permalink raw reply	[flat|nested] 5+ messages in thread

end of thread, other threads:[~2020-07-02  0:09 UTC | newest]

Thread overview: 5+ messages (download: mbox.gz / follow: Atom feed)
-- links below jump to the message on this page --
2020-07-02  0:09 [dpdk-test-report] |SUCCESS| pw72576 [PATCH] [v2] app/testpmd: fix missing set for current forward engine dpdklab
  -- strict thread matches above, loose matches on Subject: below --
2020-07-01 18:19 dpdklab
2020-07-01 11:27 dpdklab
2020-07-01 11:02 dpdklab
2020-07-01  9:12 dpdklab

automatic DPDK test reports

This inbox may be cloned and mirrored by anyone:

	git clone --mirror http://inbox.dpdk.org/test-report/0 test-report/git/0.git

	# If you have public-inbox 1.1+ installed, you may
	# initialize and index your mirror using the following commands:
	public-inbox-init -V2 test-report test-report/ http://inbox.dpdk.org/test-report \
		test-report@dpdk.org
	public-inbox-index test-report

Example config snippet for mirrors.
Newsgroup available over NNTP:
	nntp://inbox.dpdk.org/inbox.dpdk.test-report


AGPL code for this site: git clone https://public-inbox.org/public-inbox.git