From: dpdklab@iol.unh.edu
To: Test Report <test-report@dpdk.org>
Cc: dpdk-test-reports@iol.unh.edu
Subject: [dpdk-test-report] |SUCCESS| pw72635 [PATCH] app/test: fix rpath for drivers in meson build
Date: Thu, 2 Jul 2020 09:39:18 -0400 (EDT) [thread overview]
Message-ID: <20200702133918.172A96D437@noxus.dpdklab.iol.unh.edu> (raw)
[-- Attachment #1: Type: text/plain, Size: 2911 bytes --]
Test-Label: iol-testing
Test-Status: SUCCESS
http://dpdk.org/patch/72635
_Testing PASS_
Submitter: Timothy Redaelli <tredaelli@redhat.com>
Date: Wednesday, July 01 2020 17:16:38
DPDK git baseline: Repo:dpdk
Branch: master
CommitID:4f299b7169000aa55fe7a48fe98736f728e4f710
72635 --> testing pass
Test environment and result as below:
+---------------------+--------------------+-------------------+----------------+------------------+--------------+
| Environment | dpdk_meson_compile | dpdk_compile_spdk | dpdk_unit_test | dpdk_compile_ovs | dpdk_compile |
+=====================+====================+===================+================+==================+==============+
| Windows Server 2019 | PASS | SKIPPED | SKIPPED | SKIPPED | SKIPPED |
+---------------------+--------------------+-------------------+----------------+------------------+--------------+
| openSUSE Leap 15 | PASS | PASS | SKIPPED | PASS | PASS |
+---------------------+--------------------+-------------------+----------------+------------------+--------------+
| CentOS 8 | PASS | PASS | SKIPPED | PASS | PASS |
+---------------------+--------------------+-------------------+----------------+------------------+--------------+
| Fedora 31 | PASS | PASS | SKIPPED | PASS | PASS |
+---------------------+--------------------+-------------------+----------------+------------------+--------------+
| Ubuntu 18.04 | PASS | PASS | PASS | PASS | PASS |
+---------------------+--------------------+-------------------+----------------+------------------+--------------+
| Arch Linux | PASS | SKIPPED | SKIPPED | PASS | PASS |
+---------------------+--------------------+-------------------+----------------+------------------+--------------+
| FreeBSD 11.2 | PASS | PASS | SKIPPED | SKIPPED | PASS |
+---------------------+--------------------+-------------------+----------------+------------------+--------------+
Windows Server 2019
Kernel: 10.0
Compiler: clang 9.0
openSUSE Leap 15
Kernel: 4.12.14
Compiler: gcc 7.4.1
CentOS 8
Kernel: 4.18.0.el8_0
Compiler: gcc 8.3.1
Fedora 31
Kernel: 5.3.16
Compiler: gcc 9.2.1
Ubuntu 18.04
Kernel: 4.15.0-generic
Compiler: gcc 7.4
Arch Linux
Kernel: latest
Compiler: gcc latest
FreeBSD 11.2
Kernel: 11.2
Compiler: gcc 8.3
To view detailed results, visit:
https://lab.dpdk.org/results/dashboard/patchsets/11768/
UNH-IOL DPDK Community Lab
To manage your email subscriptions, visit:
https://lab.dpdk.org/results/dashboard/preferences/subscriptions/
next reply other threads:[~2020-07-02 13:39 UTC|newest]
Thread overview: 6+ messages / expand[flat|nested] mbox.gz Atom feed top
2020-07-02 13:39 dpdklab [this message]
-- strict thread matches above, loose matches on Subject: below --
2020-07-02 4:15 dpdklab
2020-07-01 18:31 dpdklab
2020-07-01 18:27 dpdklab
2020-07-01 18:02 dpdklab
[not found] <18f843ba879918cf02416f428bb810e7ea8cde10.1593623742.git.tredaelli@redhat.com>
2020-07-01 17:27 ` checkpatch
Reply instructions:
You may reply publicly to this message via plain-text email
using any one of the following methods:
* Save the following mbox file, import it into your mail client,
and reply-to-all from there: mbox
Avoid top-posting and favor interleaved quoting:
https://en.wikipedia.org/wiki/Posting_style#Interleaved_style
* Reply using the --to, --cc, and --in-reply-to
switches of git-send-email(1):
git send-email \
--in-reply-to=20200702133918.172A96D437@noxus.dpdklab.iol.unh.edu \
--to=dpdklab@iol.unh.edu \
--cc=dpdk-test-reports@iol.unh.edu \
--cc=test-report@dpdk.org \
/path/to/YOUR_REPLY
https://kernel.org/pub/software/scm/git/docs/git-send-email.html
* If your mail client supports setting the In-Reply-To header
via mailto: links, try the mailto: link
Be sure your reply has a Subject: header at the top and a blank line
before the message body.
This is a public inbox, see mirroring instructions
for how to clone and mirror all data and code used for this inbox;
as well as URLs for NNTP newsgroup(s).