[-- Attachment #1: Type: text/plain, Size: 1276 bytes --] Test-Label: iol-broadcom-Performance Test-Status: SUCCESS http://dpdk.org/patch/72861 _Performance Testing PASS_ Submitter: Jiawei Wang <jiaweiw@mellanox.com> Date: Thursday, July 02 2020 18:43:04 DPDK git baseline: Repo:dpdk-next-net Branch: master CommitID:c302a48873639efd0111d2b8815489148c04d83c 72861-72864 --> performance testing pass Test environment and result as below: Ubuntu 18.04 Kernel: 4.15.0-65-generic Compiler: gcc gcc (Ubuntu 7.4.0-1ubuntu1~18.04.1) 7.4.0 NIC: Broadcom Inc. brcm_57414 25000 Mbps Target: x86_64-native-linuxapp-gcc Fail/Total: 0/2 Detail performance results: +------------+---------+-------------------------------------+ | frame_size | txd/rxd | throughput difference from expected | +============+=========+=====================================+ | 64 | 512 | -0.003 | +------------+---------+-------------------------------------+ | 64 | 2048 | -0.094 | +------------+---------+-------------------------------------+ To view detailed results, visit: https://lab.dpdk.org/results/dashboard/patchsets/11801/ UNH-IOL DPDK Community Lab To manage your email subscriptions, visit: https://lab.dpdk.org/results/dashboard/preferences/subscriptions/
[-- Attachment #1: Type: text/plain, Size: 1925 bytes --] Test-Label: iol-intel-Performance Test-Status: SUCCESS http://dpdk.org/patch/72861 _Performance Testing PASS_ Submitter: Jiawei Wang <jiaweiw@mellanox.com> Date: Thursday, July 02 2020 18:43:04 DPDK git baseline: Repo:dpdk-next-net Branch: master CommitID:c302a48873639efd0111d2b8815489148c04d83c 72861-72864 --> performance testing pass Test environment and result as below: Ubuntu 18.04 Kernel: 4.15.0-generic Compiler: gcc 7.4 NIC: Intel Corporation Ethernet Converged Network Adapter XL710-QDA2 40000 Mbps Target: x86_64-native-linuxapp-gcc Fail/Total: 0/2 Detail performance results: +------------+---------+-------------------------------------+ | frame_size | txd/rxd | throughput difference from expected | +============+=========+=====================================+ | 64 | 512 | 3.952 | +------------+---------+-------------------------------------+ | 64 | 2048 | 3 | +------------+---------+-------------------------------------+ Ubuntu 18.04 Kernel: 4.15.0-generic Compiler: gcc 7.4 NIC: Intel Corporation Ethernet Converged Network Adapter 82599ES 10000 Mbps Target: x86_64-native-linuxapp-gcc Fail/Total: 0/2 Detail performance results: +------------+---------+-------------------------------------+ | frame_size | txd/rxd | throughput difference from expected | +============+=========+=====================================+ | 64 | 512 | 2.765 | +------------+---------+-------------------------------------+ | 64 | 2048 | 0.908 | +------------+---------+-------------------------------------+ To view detailed results, visit: https://lab.dpdk.org/results/dashboard/patchsets/11801/ UNH-IOL DPDK Community Lab To manage your email subscriptions, visit: https://lab.dpdk.org/results/dashboard/preferences/subscriptions/
[-- Attachment #1: Type: text/plain, Size: 3975 bytes --] Test-Label: iol-mellanox-Performance Test-Status: SUCCESS http://dpdk.org/patch/72861 _Performance Testing PASS_ Submitter: Jiawei Wang <jiaweiw@mellanox.com> Date: Thursday, July 02 2020 18:43:04 DPDK git baseline: Repo:dpdk-next-net Branch: master CommitID:c302a48873639efd0111d2b8815489148c04d83c 72861-72864 --> performance testing pass Test environment and result as below: Ubuntu 18.04 Kernel: 4.15.0-generic Compiler: gcc 7.4 NIC: Mellanox ConnectX-5 100000 Mbps Target: x86_64-native-linuxapp-gcc Fail/Total: 0/6 Detail performance results: +------------+---------+-------------------------------------+ | frame_size | txd/rxd | throughput difference from expected | +============+=========+=====================================+ | 64 | 256 | -0.425 | +------------+---------+-------------------------------------+ | 128 | 256 | -0.128 | +------------+---------+-------------------------------------+ | 256 | 256 | -0.066 | +------------+---------+-------------------------------------+ | 512 | 256 | 0.044 | +------------+---------+-------------------------------------+ | 1024 | 256 | -0.011 | +------------+---------+-------------------------------------+ | 1518 | 256 | 0.005 | +------------+---------+-------------------------------------+ Ubuntu 18.04 Kernel: 4.15.0-generic Compiler: gcc 7.4 NIC: Mellanox ConnectX-4 Lx 25000 Mbps Target: x86_64-native-linuxapp-gcc Fail/Total: 0/6 Detail performance results: +------------+---------+-------------------------------------+ | frame_size | txd/rxd | throughput difference from expected | +============+=========+=====================================+ | 64 | 256 | -0.387 | +------------+---------+-------------------------------------+ | 128 | 256 | -0.098 | +------------+---------+-------------------------------------+ | 256 | 256 | 0.070 | +------------+---------+-------------------------------------+ | 512 | 256 | -0.004 | +------------+---------+-------------------------------------+ | 1024 | 256 | -0.002 | +------------+---------+-------------------------------------+ | 1518 | 256 | 0.002 | +------------+---------+-------------------------------------+ Ubuntu 18.04 Kernel: 4.15.0-generic Compiler: gcc 7.4 NIC: Mellanox ConnectX-4 Lx 40000 Mbps Target: x86_64-native-linuxapp-gcc Fail/Total: 0/6 Detail performance results: +------------+---------+-------------------------------------+ | frame_size | txd/rxd | throughput difference from expected | +============+=========+=====================================+ | 64 | 256 | 0.089 | +------------+---------+-------------------------------------+ | 128 | 256 | -0.315 | +------------+---------+-------------------------------------+ | 256 | 256 | -0.019 | +------------+---------+-------------------------------------+ | 512 | 256 | 0.004 | +------------+---------+-------------------------------------+ | 1024 | 256 | 0 | +------------+---------+-------------------------------------+ | 1518 | 256 | -0.008 | +------------+---------+-------------------------------------+ To view detailed results, visit: https://lab.dpdk.org/results/dashboard/patchsets/11801/ UNH-IOL DPDK Community Lab To manage your email subscriptions, visit: https://lab.dpdk.org/results/dashboard/preferences/subscriptions/
[-- Attachment #1: Type: text/plain, Size: 2920 bytes --] Test-Label: iol-testing Test-Status: SUCCESS http://dpdk.org/patch/72861 _Testing PASS_ Submitter: Jiawei Wang <jiaweiw@mellanox.com> Date: Thursday, July 02 2020 18:43:04 DPDK git baseline: Repo:dpdk-next-net Branch: master CommitID:c302a48873639efd0111d2b8815489148c04d83c 72861-72864 --> testing pass Test environment and result as below: +---------------------+--------------------+-------------------+----------------+------------------+--------------+ | Environment | dpdk_meson_compile | dpdk_compile_spdk | dpdk_unit_test | dpdk_compile_ovs | dpdk_compile | +=====================+====================+===================+================+==================+==============+ | Windows Server 2019 | PASS | SKIPPED | SKIPPED | SKIPPED | SKIPPED | +---------------------+--------------------+-------------------+----------------+------------------+--------------+ | CentOS 8 | PASS | PASS | SKIPPED | PASS | PASS | +---------------------+--------------------+-------------------+----------------+------------------+--------------+ | Fedora 31 | PASS | PASS | SKIPPED | PASS | PASS | +---------------------+--------------------+-------------------+----------------+------------------+--------------+ | Ubuntu 18.04 | PASS | PASS | PASS | PASS | PASS | +---------------------+--------------------+-------------------+----------------+------------------+--------------+ | openSUSE Leap 15 | PASS | PASS | SKIPPED | PASS | PASS | +---------------------+--------------------+-------------------+----------------+------------------+--------------+ | Arch Linux | PASS | SKIPPED | SKIPPED | PASS | PASS | +---------------------+--------------------+-------------------+----------------+------------------+--------------+ | FreeBSD 11.2 | PASS | PASS | SKIPPED | SKIPPED | PASS | +---------------------+--------------------+-------------------+----------------+------------------+--------------+ Windows Server 2019 Kernel: 10.0 Compiler: clang 9.0 CentOS 8 Kernel: 4.18.0.el8_0 Compiler: gcc 8.3.1 Fedora 31 Kernel: 5.3.16 Compiler: gcc 9.2.1 Ubuntu 18.04 Kernel: 4.15.0-generic Compiler: gcc 7.4 openSUSE Leap 15 Kernel: 4.12.14 Compiler: gcc 7.4.1 Arch Linux Kernel: latest Compiler: gcc latest FreeBSD 11.2 Kernel: 11.2 Compiler: gcc 8.3 To view detailed results, visit: https://lab.dpdk.org/results/dashboard/patchsets/11801/ UNH-IOL DPDK Community Lab To manage your email subscriptions, visit: https://lab.dpdk.org/results/dashboard/preferences/subscriptions/