* [dpdk-test-report] |SUCCESS| pw74253 [PATCH v2] vhost: fix missing null dev pointer check
[not found] <20200716153758.2895041-1-patrick.fu@intel.com>
@ 2020-07-16 15:40 ` checkpatch
2020-07-16 23:58 ` [dpdk-test-report] |SUCCESS| pw74253 " 0-day Robot
1 sibling, 0 replies; 9+ messages in thread
From: checkpatch @ 2020-07-16 15:40 UTC (permalink / raw)
To: test-report
Test-Label: checkpatch
Test-Status: SUCCESS
http://dpdk.org/patch/74253
_coding style OK_
^ permalink raw reply [flat|nested] 9+ messages in thread
* [dpdk-test-report] |SUCCESS| pw74253 vhost: fix missing null dev pointer check
[not found] <20200716153758.2895041-1-patrick.fu@intel.com>
2020-07-16 15:40 ` [dpdk-test-report] |SUCCESS| pw74253 [PATCH v2] vhost: fix missing null dev pointer check checkpatch
@ 2020-07-16 23:58 ` 0-day Robot
1 sibling, 0 replies; 9+ messages in thread
From: 0-day Robot @ 2020-07-16 23:58 UTC (permalink / raw)
To: test-report; +Cc: robot
From: robot@bytheb.org
Test-Label: travis-robot
Test-Status: SUCCESS
http://dpdk.org/patch/74253
_Travis build: errored_
Build URL: https://travis-ci.com/ovsrobot/dpdk/builds/175907564
^ permalink raw reply [flat|nested] 9+ messages in thread
* [dpdk-test-report] |SUCCESS| pw74253 [PATCH] [v2] vhost: fix missing null dev pointer check
@ 2020-07-19 20:17 dpdklab
0 siblings, 0 replies; 9+ messages in thread
From: dpdklab @ 2020-07-19 20:17 UTC (permalink / raw)
To: Test Report; +Cc: dpdk-test-reports
[-- Attachment #1: Type: text/plain, Size: 2905 bytes --]
Test-Label: iol-testing
Test-Status: SUCCESS
http://dpdk.org/patch/74253
_Testing PASS_
Submitter: Fu, Patrick <patrick.fu@intel.com>
Date: Thursday, July 16 2020 15:37:58
DPDK git baseline: Repo:dpdk
Branch: master
CommitID:cfe4ca10210b6f2d5fce5f423681e69c1a4fa86f
74253 --> testing pass
Test environment and result as below:
+---------------------+--------------------+-------------------+----------------+--------------+------------------+
| Environment | dpdk_meson_compile | dpdk_compile_spdk | dpdk_unit_test | dpdk_compile | dpdk_compile_ovs |
+=====================+====================+===================+================+==============+==================+
| Windows Server 2019 | PASS | SKIPPED | SKIPPED | SKIPPED | SKIPPED |
+---------------------+--------------------+-------------------+----------------+--------------+------------------+
| FreeBSD 11.2 | PASS | PASS | SKIPPED | PASS | SKIPPED |
+---------------------+--------------------+-------------------+----------------+--------------+------------------+
| Fedora 31 | PASS | PASS | SKIPPED | PASS | PASS |
+---------------------+--------------------+-------------------+----------------+--------------+------------------+
| Ubuntu 18.04 | PASS | PASS | PASS | PASS | PASS |
+---------------------+--------------------+-------------------+----------------+--------------+------------------+
| CentOS 8 | PASS | PASS | SKIPPED | PASS | PASS |
+---------------------+--------------------+-------------------+----------------+--------------+------------------+
| openSUSE Leap 15 | PASS | PASS | SKIPPED | PASS | PASS |
+---------------------+--------------------+-------------------+----------------+--------------+------------------+
| Arch Linux | PASS | SKIPPED | SKIPPED | PASS | PASS |
+---------------------+--------------------+-------------------+----------------+--------------+------------------+
Windows Server 2019
Kernel: 10.0
Compiler: clang 9.0
FreeBSD 11.2
Kernel: 11.2
Compiler: gcc 8.3
Fedora 31
Kernel: 5.3.16
Compiler: gcc 9.2.1
Ubuntu 18.04
Kernel: 4.15.0-generic
Compiler: gcc 7.4
CentOS 8
Kernel: 4.18.0.el8_0
Compiler: gcc 8.3.1
openSUSE Leap 15
Kernel: 4.12.14
Compiler: gcc 7.4.1
Arch Linux
Kernel: latest
Compiler: gcc latest
To view detailed results, visit:
https://lab.dpdk.org/results/dashboard/patchsets/12147/
UNH-IOL DPDK Community Lab
To manage your email subscriptions, visit:
https://lab.dpdk.org/results/dashboard/preferences/subscriptions/
^ permalink raw reply [flat|nested] 9+ messages in thread
* [dpdk-test-report] |SUCCESS| pw74253 [PATCH] [v2] vhost: fix missing null dev pointer check
@ 2020-07-19 4:06 dpdklab
0 siblings, 0 replies; 9+ messages in thread
From: dpdklab @ 2020-07-19 4:06 UTC (permalink / raw)
To: Test Report; +Cc: dpdk-test-reports
[-- Attachment #1: Type: text/plain, Size: 2905 bytes --]
Test-Label: iol-testing
Test-Status: SUCCESS
http://dpdk.org/patch/74253
_Testing PASS_
Submitter: Fu, Patrick <patrick.fu@intel.com>
Date: Thursday, July 16 2020 15:37:58
DPDK git baseline: Repo:dpdk
Branch: master
CommitID:353162537fa416e2aa8b45bd6f86935f7eaf2d10
74253 --> testing pass
Test environment and result as below:
+---------------------+--------------------+--------------+----------------+------------------+-------------------+
| Environment | dpdk_meson_compile | dpdk_compile | dpdk_unit_test | dpdk_compile_ovs | dpdk_compile_spdk |
+=====================+====================+==============+================+==================+===================+
| Windows Server 2019 | PASS | SKIPPED | SKIPPED | SKIPPED | SKIPPED |
+---------------------+--------------------+--------------+----------------+------------------+-------------------+
| FreeBSD 11.2 | PASS | PASS | SKIPPED | SKIPPED | PASS |
+---------------------+--------------------+--------------+----------------+------------------+-------------------+
| Ubuntu 18.04 | PASS | PASS | PASS | PASS | PASS |
+---------------------+--------------------+--------------+----------------+------------------+-------------------+
| CentOS 8 | PASS | PASS | SKIPPED | PASS | PASS |
+---------------------+--------------------+--------------+----------------+------------------+-------------------+
| Arch Linux | PASS | PASS | SKIPPED | PASS | SKIPPED |
+---------------------+--------------------+--------------+----------------+------------------+-------------------+
| Fedora 31 | PASS | PASS | SKIPPED | PASS | PASS |
+---------------------+--------------------+--------------+----------------+------------------+-------------------+
| openSUSE Leap 15 | PASS | PASS | SKIPPED | PASS | PASS |
+---------------------+--------------------+--------------+----------------+------------------+-------------------+
Windows Server 2019
Kernel: 10.0
Compiler: clang 9.0
FreeBSD 11.2
Kernel: 11.2
Compiler: gcc 8.3
Ubuntu 18.04
Kernel: 4.15.0-generic
Compiler: gcc 7.4
CentOS 8
Kernel: 4.18.0.el8_0
Compiler: gcc 8.3.1
Arch Linux
Kernel: latest
Compiler: gcc latest
Fedora 31
Kernel: 5.3.16
Compiler: gcc 9.2.1
openSUSE Leap 15
Kernel: 4.12.14
Compiler: gcc 7.4.1
To view detailed results, visit:
https://lab.dpdk.org/results/dashboard/patchsets/12147/
UNH-IOL DPDK Community Lab
To manage your email subscriptions, visit:
https://lab.dpdk.org/results/dashboard/preferences/subscriptions/
^ permalink raw reply [flat|nested] 9+ messages in thread
* [dpdk-test-report] |SUCCESS| pw74253 [PATCH] [v2] vhost: fix missing null dev pointer check
@ 2020-07-18 15:02 dpdklab
0 siblings, 0 replies; 9+ messages in thread
From: dpdklab @ 2020-07-18 15:02 UTC (permalink / raw)
To: Test Report; +Cc: dpdk-test-reports
[-- Attachment #1: Type: text/plain, Size: 1910 bytes --]
Test-Label: iol-intel-Performance
Test-Status: SUCCESS
http://dpdk.org/patch/74253
_Performance Testing PASS_
Submitter: Fu, Patrick <patrick.fu@intel.com>
Date: Thursday, July 16 2020 15:37:58
DPDK git baseline: Repo:dpdk
Branch: master
CommitID:cfe4ca10210b6f2d5fce5f423681e69c1a4fa86f
74253 --> performance testing pass
Test environment and result as below:
Ubuntu 18.04
Kernel: 4.15.0-generic
Compiler: gcc 7.4
NIC: Intel Corporation Ethernet Converged Network Adapter XL710-QDA2 40000 Mbps
Target: x86_64-native-linuxapp-gcc
Fail/Total: 0/2
Detail performance results:
+------------+---------+-------------------------------------+
| frame_size | txd/rxd | throughput difference from expected |
+============+=========+=====================================+
| 64 | 512 | 5.054 |
+------------+---------+-------------------------------------+
| 64 | 2048 | 2.835 |
+------------+---------+-------------------------------------+
Ubuntu 18.04
Kernel: 4.15.0-generic
Compiler: gcc 7.4
NIC: Intel Corporation Ethernet Converged Network Adapter 82599ES 10000 Mbps
Target: x86_64-native-linuxapp-gcc
Fail/Total: 0/2
Detail performance results:
+------------+---------+-------------------------------------+
| frame_size | txd/rxd | throughput difference from expected |
+============+=========+=====================================+
| 64 | 512 | 2.962 |
+------------+---------+-------------------------------------+
| 64 | 2048 | 1.146 |
+------------+---------+-------------------------------------+
To view detailed results, visit:
https://lab.dpdk.org/results/dashboard/patchsets/12147/
UNH-IOL DPDK Community Lab
To manage your email subscriptions, visit:
https://lab.dpdk.org/results/dashboard/preferences/subscriptions/
^ permalink raw reply [flat|nested] 9+ messages in thread
* [dpdk-test-report] |SUCCESS| pw74253 [PATCH] [v2] vhost: fix missing null dev pointer check
@ 2020-07-18 4:03 dpdklab
0 siblings, 0 replies; 9+ messages in thread
From: dpdklab @ 2020-07-18 4:03 UTC (permalink / raw)
To: Test Report; +Cc: dpdk-test-reports
[-- Attachment #1: Type: text/plain, Size: 1910 bytes --]
Test-Label: iol-intel-Performance
Test-Status: SUCCESS
http://dpdk.org/patch/74253
_Performance Testing PASS_
Submitter: Fu, Patrick <patrick.fu@intel.com>
Date: Thursday, July 16 2020 15:37:58
DPDK git baseline: Repo:dpdk
Branch: master
CommitID:353162537fa416e2aa8b45bd6f86935f7eaf2d10
74253 --> performance testing pass
Test environment and result as below:
Ubuntu 18.04
Kernel: 4.15.0-generic
Compiler: gcc 7.4
NIC: Intel Corporation Ethernet Converged Network Adapter XL710-QDA2 40000 Mbps
Target: x86_64-native-linuxapp-gcc
Fail/Total: 0/2
Detail performance results:
+------------+---------+-------------------------------------+
| frame_size | txd/rxd | throughput difference from expected |
+============+=========+=====================================+
| 64 | 512 | 5.078 |
+------------+---------+-------------------------------------+
| 64 | 2048 | 2.940 |
+------------+---------+-------------------------------------+
Ubuntu 18.04
Kernel: 4.15.0-generic
Compiler: gcc 7.4
NIC: Intel Corporation Ethernet Converged Network Adapter 82599ES 10000 Mbps
Target: x86_64-native-linuxapp-gcc
Fail/Total: 0/2
Detail performance results:
+------------+---------+-------------------------------------+
| frame_size | txd/rxd | throughput difference from expected |
+============+=========+=====================================+
| 64 | 512 | 2.761 |
+------------+---------+-------------------------------------+
| 64 | 2048 | 1.054 |
+------------+---------+-------------------------------------+
To view detailed results, visit:
https://lab.dpdk.org/results/dashboard/patchsets/12147/
UNH-IOL DPDK Community Lab
To manage your email subscriptions, visit:
https://lab.dpdk.org/results/dashboard/preferences/subscriptions/
^ permalink raw reply [flat|nested] 9+ messages in thread
* [dpdk-test-report] |SUCCESS| pw74253 [PATCH] [v2] vhost: fix missing null dev pointer check
@ 2020-07-17 21:08 dpdklab
0 siblings, 0 replies; 9+ messages in thread
From: dpdklab @ 2020-07-17 21:08 UTC (permalink / raw)
To: Ali Alnubani, Test Report; +Cc: dpdk-test-reports
[-- Attachment #1: Type: text/plain, Size: 3960 bytes --]
Test-Label: iol-mellanox-Performance
Test-Status: SUCCESS
http://dpdk.org/patch/74253
_Performance Testing PASS_
Submitter: Fu, Patrick <patrick.fu@intel.com>
Date: Thursday, July 16 2020 15:37:58
DPDK git baseline: Repo:dpdk
Branch: master
CommitID:cfe4ca10210b6f2d5fce5f423681e69c1a4fa86f
74253 --> performance testing pass
Test environment and result as below:
Ubuntu 18.04
Kernel: 4.15.0-generic
Compiler: gcc 7.4
NIC: Mellanox ConnectX-5 100000 Mbps
Target: x86_64-native-linuxapp-gcc
Fail/Total: 0/6
Detail performance results:
+------------+---------+-------------------------------------+
| frame_size | txd/rxd | throughput difference from expected |
+============+=========+=====================================+
| 64 | 256 | -0.579 |
+------------+---------+-------------------------------------+
| 128 | 256 | 0.001 |
+------------+---------+-------------------------------------+
| 256 | 256 | -0.048 |
+------------+---------+-------------------------------------+
| 512 | 256 | -0.155 |
+------------+---------+-------------------------------------+
| 1024 | 256 | -0.013 |
+------------+---------+-------------------------------------+
| 1518 | 256 | 0.018 |
+------------+---------+-------------------------------------+
Ubuntu 18.04
Kernel: 4.15.0-generic
Compiler: gcc 7.4
NIC: Mellanox ConnectX-4 Lx 25000 Mbps
Target: x86_64-native-linuxapp-gcc
Fail/Total: 0/6
Detail performance results:
+------------+---------+-------------------------------------+
| frame_size | txd/rxd | throughput difference from expected |
+============+=========+=====================================+
| 64 | 256 | -0.212 |
+------------+---------+-------------------------------------+
| 128 | 256 | 0.028 |
+------------+---------+-------------------------------------+
| 256 | 256 | -0.030 |
+------------+---------+-------------------------------------+
| 512 | 256 | 0.025 |
+------------+---------+-------------------------------------+
| 1024 | 256 | 0.001 |
+------------+---------+-------------------------------------+
| 1518 | 256 | -0.012 |
+------------+---------+-------------------------------------+
Ubuntu 18.04
Kernel: 4.15.0-generic
Compiler: gcc 7.4
NIC: Mellanox ConnectX-4 Lx 40000 Mbps
Target: x86_64-native-linuxapp-gcc
Fail/Total: 0/6
Detail performance results:
+------------+---------+-------------------------------------+
| frame_size | txd/rxd | throughput difference from expected |
+============+=========+=====================================+
| 64 | 256 | 0.327 |
+------------+---------+-------------------------------------+
| 128 | 256 | 1.676 |
+------------+---------+-------------------------------------+
| 256 | 256 | -0.171 |
+------------+---------+-------------------------------------+
| 512 | 256 | 0 |
+------------+---------+-------------------------------------+
| 1024 | 256 | 0.001 |
+------------+---------+-------------------------------------+
| 1518 | 256 | 0 |
+------------+---------+-------------------------------------+
To view detailed results, visit:
https://lab.dpdk.org/results/dashboard/patchsets/12147/
UNH-IOL DPDK Community Lab
To manage your email subscriptions, visit:
https://lab.dpdk.org/results/dashboard/preferences/subscriptions/
^ permalink raw reply [flat|nested] 9+ messages in thread
* [dpdk-test-report] |SUCCESS| pw74253 [PATCH] [v2] vhost: fix missing null dev pointer check
@ 2020-07-17 10:37 dpdklab
0 siblings, 0 replies; 9+ messages in thread
From: dpdklab @ 2020-07-17 10:37 UTC (permalink / raw)
To: Ajit Khaparde, Test Report; +Cc: dpdk-test-reports
[-- Attachment #1: Type: text/plain, Size: 1261 bytes --]
Test-Label: iol-broadcom-Performance
Test-Status: SUCCESS
http://dpdk.org/patch/74253
_Performance Testing PASS_
Submitter: Fu, Patrick <patrick.fu@intel.com>
Date: Thursday, July 16 2020 15:37:58
DPDK git baseline: Repo:dpdk
Branch: master
CommitID:cfe4ca10210b6f2d5fce5f423681e69c1a4fa86f
74253 --> performance testing pass
Test environment and result as below:
Ubuntu 18.04
Kernel: 4.15.0-65-generic
Compiler: gcc gcc (Ubuntu 7.4.0-1ubuntu1~18.04.1) 7.4.0
NIC: Broadcom Inc. brcm_57414 25000 Mbps
Target: x86_64-native-linuxapp-gcc
Fail/Total: 0/2
Detail performance results:
+------------+---------+-------------------------------------+
| frame_size | txd/rxd | throughput difference from expected |
+============+=========+=====================================+
| 64 | 512 | -0.003 |
+------------+---------+-------------------------------------+
| 64 | 2048 | -0.024 |
+------------+---------+-------------------------------------+
To view detailed results, visit:
https://lab.dpdk.org/results/dashboard/patchsets/12147/
UNH-IOL DPDK Community Lab
To manage your email subscriptions, visit:
https://lab.dpdk.org/results/dashboard/preferences/subscriptions/
^ permalink raw reply [flat|nested] 9+ messages in thread
* [dpdk-test-report] |SUCCESS| pw74253 [PATCH] [v2] vhost: fix missing null dev pointer check
@ 2020-07-17 3:34 dpdklab
0 siblings, 0 replies; 9+ messages in thread
From: dpdklab @ 2020-07-17 3:34 UTC (permalink / raw)
To: Ajit Khaparde, Test Report; +Cc: dpdk-test-reports
[-- Attachment #1: Type: text/plain, Size: 1261 bytes --]
Test-Label: iol-broadcom-Performance
Test-Status: SUCCESS
http://dpdk.org/patch/74253
_Performance Testing PASS_
Submitter: Fu, Patrick <patrick.fu@intel.com>
Date: Thursday, July 16 2020 15:37:58
DPDK git baseline: Repo:dpdk
Branch: master
CommitID:353162537fa416e2aa8b45bd6f86935f7eaf2d10
74253 --> performance testing pass
Test environment and result as below:
Ubuntu 18.04
Kernel: 4.15.0-65-generic
Compiler: gcc gcc (Ubuntu 7.4.0-1ubuntu1~18.04.1) 7.4.0
NIC: Broadcom Inc. brcm_57414 25000 Mbps
Target: x86_64-native-linuxapp-gcc
Fail/Total: 0/2
Detail performance results:
+------------+---------+-------------------------------------+
| frame_size | txd/rxd | throughput difference from expected |
+============+=========+=====================================+
| 64 | 512 | 0.002 |
+------------+---------+-------------------------------------+
| 64 | 2048 | -0.043 |
+------------+---------+-------------------------------------+
To view detailed results, visit:
https://lab.dpdk.org/results/dashboard/patchsets/12147/
UNH-IOL DPDK Community Lab
To manage your email subscriptions, visit:
https://lab.dpdk.org/results/dashboard/preferences/subscriptions/
^ permalink raw reply [flat|nested] 9+ messages in thread
end of thread, other threads:[~2020-07-19 20:17 UTC | newest]
Thread overview: 9+ messages (download: mbox.gz / follow: Atom feed)
-- links below jump to the message on this page --
[not found] <20200716153758.2895041-1-patrick.fu@intel.com>
2020-07-16 15:40 ` [dpdk-test-report] |SUCCESS| pw74253 [PATCH v2] vhost: fix missing null dev pointer check checkpatch
2020-07-16 23:58 ` [dpdk-test-report] |SUCCESS| pw74253 " 0-day Robot
2020-07-17 3:34 [dpdk-test-report] |SUCCESS| pw74253 [PATCH] [v2] " dpdklab
2020-07-17 10:37 dpdklab
2020-07-17 21:08 dpdklab
2020-07-18 4:03 dpdklab
2020-07-18 15:02 dpdklab
2020-07-19 4:06 dpdklab
2020-07-19 20:17 dpdklab
This is a public inbox, see mirroring instructions
for how to clone and mirror all data and code used for this inbox;
as well as URLs for NNTP newsgroup(s).