* [dpdk-test-report] |SUCCESS| pw74272 [PATCH] net/ice: fix issue for GTPU and GTPU extension packet
@ 2020-07-17 4:53 dpdklab
0 siblings, 0 replies; 5+ messages in thread
From: dpdklab @ 2020-07-17 4:53 UTC (permalink / raw)
To: Ajit Khaparde, Test Report; +Cc: dpdk-test-reports
[-- Attachment #1: Type: text/plain, Size: 1254 bytes --]
Test-Label: iol-broadcom-Performance
Test-Status: SUCCESS
http://dpdk.org/patch/74272
_Performance Testing PASS_
Submitter: Simei Su <simei.su@intel.com>
Date: Friday, July 17 2020 03:27:36
DPDK git baseline: Repo:dpdk
Branch: master
CommitID:cfe4ca10210b6f2d5fce5f423681e69c1a4fa86f
74272 --> performance testing pass
Test environment and result as below:
Ubuntu 18.04
Kernel: 4.15.0-65-generic
Compiler: gcc gcc (Ubuntu 7.4.0-1ubuntu1~18.04.1) 7.4.0
NIC: Broadcom Inc. brcm_57414 25000 Mbps
Target: x86_64-native-linuxapp-gcc
Fail/Total: 0/2
Detail performance results:
+------------+---------+-------------------------------------+
| frame_size | txd/rxd | throughput difference from expected |
+============+=========+=====================================+
| 64 | 512 | 0.087 |
+------------+---------+-------------------------------------+
| 64 | 2048 | -0.008 |
+------------+---------+-------------------------------------+
To view detailed results, visit:
https://lab.dpdk.org/results/dashboard/patchsets/12160/
UNH-IOL DPDK Community Lab
To manage your email subscriptions, visit:
https://lab.dpdk.org/results/dashboard/preferences/subscriptions/
^ permalink raw reply [flat|nested] 5+ messages in thread
* [dpdk-test-report] |SUCCESS| pw74272 [PATCH] net/ice: fix issue for GTPU and GTPU extension packet
@ 2020-07-19 15:07 dpdklab
0 siblings, 0 replies; 5+ messages in thread
From: dpdklab @ 2020-07-19 15:07 UTC (permalink / raw)
To: Test Report; +Cc: dpdk-test-reports
[-- Attachment #1: Type: text/plain, Size: 2898 bytes --]
Test-Label: iol-testing
Test-Status: SUCCESS
http://dpdk.org/patch/74272
_Testing PASS_
Submitter: Simei Su <simei.su@intel.com>
Date: Friday, July 17 2020 03:27:36
DPDK git baseline: Repo:dpdk
Branch: master
CommitID:cfe4ca10210b6f2d5fce5f423681e69c1a4fa86f
74272 --> testing pass
Test environment and result as below:
+---------------------+--------------------+-------------------+----------------+------------------+--------------+
| Environment | dpdk_meson_compile | dpdk_compile_spdk | dpdk_unit_test | dpdk_compile_ovs | dpdk_compile |
+=====================+====================+===================+================+==================+==============+
| Windows Server 2019 | PASS | SKIPPED | SKIPPED | SKIPPED | SKIPPED |
+---------------------+--------------------+-------------------+----------------+------------------+--------------+
| FreeBSD 11.2 | PASS | PASS | SKIPPED | SKIPPED | PASS |
+---------------------+--------------------+-------------------+----------------+------------------+--------------+
| Ubuntu 18.04 | PASS | PASS | PASS | PASS | PASS |
+---------------------+--------------------+-------------------+----------------+------------------+--------------+
| CentOS 8 | PASS | PASS | SKIPPED | PASS | PASS |
+---------------------+--------------------+-------------------+----------------+------------------+--------------+
| Fedora 31 | PASS | PASS | SKIPPED | PASS | PASS |
+---------------------+--------------------+-------------------+----------------+------------------+--------------+
| openSUSE Leap 15 | PASS | PASS | SKIPPED | PASS | PASS |
+---------------------+--------------------+-------------------+----------------+------------------+--------------+
| Arch Linux | PASS | SKIPPED | SKIPPED | PASS | PASS |
+---------------------+--------------------+-------------------+----------------+------------------+--------------+
Windows Server 2019
Kernel: 10.0
Compiler: clang 9.0
FreeBSD 11.2
Kernel: 11.2
Compiler: gcc 8.3
Ubuntu 18.04
Kernel: 4.15.0-generic
Compiler: gcc 7.4
CentOS 8
Kernel: 4.18.0.el8_0
Compiler: gcc 8.3.1
Fedora 31
Kernel: 5.3.16
Compiler: gcc 9.2.1
openSUSE Leap 15
Kernel: 4.12.14
Compiler: gcc 7.4.1
Arch Linux
Kernel: latest
Compiler: gcc latest
To view detailed results, visit:
https://lab.dpdk.org/results/dashboard/patchsets/12160/
UNH-IOL DPDK Community Lab
To manage your email subscriptions, visit:
https://lab.dpdk.org/results/dashboard/preferences/subscriptions/
^ permalink raw reply [flat|nested] 5+ messages in thread
* [dpdk-test-report] |SUCCESS| pw74272 [PATCH] net/ice: fix issue for GTPU and GTPU extension packet
@ 2020-07-18 11:31 dpdklab
0 siblings, 0 replies; 5+ messages in thread
From: dpdklab @ 2020-07-18 11:31 UTC (permalink / raw)
To: Test Report; +Cc: dpdk-test-reports
[-- Attachment #1: Type: text/plain, Size: 1903 bytes --]
Test-Label: iol-intel-Performance
Test-Status: SUCCESS
http://dpdk.org/patch/74272
_Performance Testing PASS_
Submitter: Simei Su <simei.su@intel.com>
Date: Friday, July 17 2020 03:27:36
DPDK git baseline: Repo:dpdk
Branch: master
CommitID:cfe4ca10210b6f2d5fce5f423681e69c1a4fa86f
74272 --> performance testing pass
Test environment and result as below:
Ubuntu 18.04
Kernel: 4.15.0-generic
Compiler: gcc 7.4
NIC: Intel Corporation Ethernet Converged Network Adapter XL710-QDA2 40000 Mbps
Target: x86_64-native-linuxapp-gcc
Fail/Total: 0/2
Detail performance results:
+------------+---------+-------------------------------------+
| frame_size | txd/rxd | throughput difference from expected |
+============+=========+=====================================+
| 64 | 512 | 4.904 |
+------------+---------+-------------------------------------+
| 64 | 2048 | 2.748 |
+------------+---------+-------------------------------------+
Ubuntu 18.04
Kernel: 4.15.0-generic
Compiler: gcc 7.4
NIC: Intel Corporation Ethernet Converged Network Adapter 82599ES 10000 Mbps
Target: x86_64-native-linuxapp-gcc
Fail/Total: 0/2
Detail performance results:
+------------+---------+-------------------------------------+
| frame_size | txd/rxd | throughput difference from expected |
+============+=========+=====================================+
| 64 | 512 | 2.933 |
+------------+---------+-------------------------------------+
| 64 | 2048 | 1.105 |
+------------+---------+-------------------------------------+
To view detailed results, visit:
https://lab.dpdk.org/results/dashboard/patchsets/12160/
UNH-IOL DPDK Community Lab
To manage your email subscriptions, visit:
https://lab.dpdk.org/results/dashboard/preferences/subscriptions/
^ permalink raw reply [flat|nested] 5+ messages in thread
* [dpdk-test-report] |SUCCESS| pw74272 [PATCH] net/ice: fix issue for GTPU and GTPU extension packet
@ 2020-07-17 15:04 dpdklab
0 siblings, 0 replies; 5+ messages in thread
From: dpdklab @ 2020-07-17 15:04 UTC (permalink / raw)
To: Ali Alnubani, Test Report; +Cc: dpdk-test-reports
[-- Attachment #1: Type: text/plain, Size: 3953 bytes --]
Test-Label: iol-mellanox-Performance
Test-Status: SUCCESS
http://dpdk.org/patch/74272
_Performance Testing PASS_
Submitter: Simei Su <simei.su@intel.com>
Date: Friday, July 17 2020 03:27:36
DPDK git baseline: Repo:dpdk
Branch: master
CommitID:cfe4ca10210b6f2d5fce5f423681e69c1a4fa86f
74272 --> performance testing pass
Test environment and result as below:
Ubuntu 18.04
Kernel: 4.15.0-generic
Compiler: gcc 7.4
NIC: Mellanox ConnectX-5 100000 Mbps
Target: x86_64-native-linuxapp-gcc
Fail/Total: 0/6
Detail performance results:
+------------+---------+-------------------------------------+
| frame_size | txd/rxd | throughput difference from expected |
+============+=========+=====================================+
| 64 | 256 | -0.661 |
+------------+---------+-------------------------------------+
| 128 | 256 | -0.060 |
+------------+---------+-------------------------------------+
| 256 | 256 | -0.095 |
+------------+---------+-------------------------------------+
| 512 | 256 | 0.160 |
+------------+---------+-------------------------------------+
| 1024 | 256 | -0.040 |
+------------+---------+-------------------------------------+
| 1518 | 256 | 0.046 |
+------------+---------+-------------------------------------+
Ubuntu 18.04
Kernel: 4.15.0-generic
Compiler: gcc 7.4
NIC: Mellanox ConnectX-4 Lx 25000 Mbps
Target: x86_64-native-linuxapp-gcc
Fail/Total: 0/6
Detail performance results:
+------------+---------+-------------------------------------+
| frame_size | txd/rxd | throughput difference from expected |
+============+=========+=====================================+
| 64 | 256 | -0.099 |
+------------+---------+-------------------------------------+
| 128 | 256 | -0.003 |
+------------+---------+-------------------------------------+
| 256 | 256 | -0.136 |
+------------+---------+-------------------------------------+
| 512 | 256 | -0.010 |
+------------+---------+-------------------------------------+
| 1024 | 256 | 0.003 |
+------------+---------+-------------------------------------+
| 1518 | 256 | -0.006 |
+------------+---------+-------------------------------------+
Ubuntu 18.04
Kernel: 4.15.0-generic
Compiler: gcc 7.4
NIC: Mellanox ConnectX-4 Lx 40000 Mbps
Target: x86_64-native-linuxapp-gcc
Fail/Total: 0/6
Detail performance results:
+------------+---------+-------------------------------------+
| frame_size | txd/rxd | throughput difference from expected |
+============+=========+=====================================+
| 64 | 256 | 0.392 |
+------------+---------+-------------------------------------+
| 128 | 256 | 0.979 |
+------------+---------+-------------------------------------+
| 256 | 256 | -0.241 |
+------------+---------+-------------------------------------+
| 512 | 256 | 0.003 |
+------------+---------+-------------------------------------+
| 1024 | 256 | 0 |
+------------+---------+-------------------------------------+
| 1518 | 256 | 0.003 |
+------------+---------+-------------------------------------+
To view detailed results, visit:
https://lab.dpdk.org/results/dashboard/patchsets/12160/
UNH-IOL DPDK Community Lab
To manage your email subscriptions, visit:
https://lab.dpdk.org/results/dashboard/preferences/subscriptions/
^ permalink raw reply [flat|nested] 5+ messages in thread
[parent not found: <1594956456-338882-1-git-send-email-simei.su@intel.com>]
end of thread, other threads:[~2020-07-19 15:07 UTC | newest]
Thread overview: 5+ messages (download: mbox.gz / follow: Atom feed)
-- links below jump to the message on this page --
2020-07-17 4:53 [dpdk-test-report] |SUCCESS| pw74272 [PATCH] net/ice: fix issue for GTPU and GTPU extension packet dpdklab
-- strict thread matches above, loose matches on Subject: below --
2020-07-19 15:07 dpdklab
2020-07-18 11:31 dpdklab
2020-07-17 15:04 dpdklab
[not found] <1594956456-338882-1-git-send-email-simei.su@intel.com>
2020-07-17 3:30 ` checkpatch
This is a public inbox, see mirroring instructions
for how to clone and mirror all data and code used for this inbox;
as well as URLs for NNTP newsgroup(s).