Test-Label: checkpatch Test-Status: SUCCESS http://dpdk.org/patch/74243 _coding style OK_
[-- Attachment #1: Type: text/plain, Size: 3959 bytes --] Test-Label: iol-mellanox-Performance Test-Status: SUCCESS http://dpdk.org/patch/74243 _Performance Testing PASS_ Submitter: Wisam Jaddo <wisamm@mellanox.com> Date: Thursday, July 16 2020 14:16:56 DPDK git baseline: Repo:dpdk Branch: master CommitID:353162537fa416e2aa8b45bd6f86935f7eaf2d10 74243 --> performance testing pass Test environment and result as below: Ubuntu 18.04 Kernel: 4.15.0-generic Compiler: gcc 7.4 NIC: Mellanox ConnectX-5 100000 Mbps Target: x86_64-native-linuxapp-gcc Fail/Total: 0/6 Detail performance results: +------------+---------+-------------------------------------+ | frame_size | txd/rxd | throughput difference from expected | +============+=========+=====================================+ | 64 | 256 | -0.642 | +------------+---------+-------------------------------------+ | 128 | 256 | -0.044 | +------------+---------+-------------------------------------+ | 256 | 256 | -0.062 | +------------+---------+-------------------------------------+ | 512 | 256 | -0.327 | +------------+---------+-------------------------------------+ | 1024 | 256 | 0.023 | +------------+---------+-------------------------------------+ | 1518 | 256 | 0 | +------------+---------+-------------------------------------+ Ubuntu 18.04 Kernel: 4.15.0-generic Compiler: gcc 7.4 NIC: Mellanox ConnectX-4 Lx 25000 Mbps Target: x86_64-native-linuxapp-gcc Fail/Total: 0/6 Detail performance results: +------------+---------+-------------------------------------+ | frame_size | txd/rxd | throughput difference from expected | +============+=========+=====================================+ | 64 | 256 | -0.087 | +------------+---------+-------------------------------------+ | 128 | 256 | 0.220 | +------------+---------+-------------------------------------+ | 256 | 256 | -0.017 | +------------+---------+-------------------------------------+ | 512 | 256 | -0.001 | +------------+---------+-------------------------------------+ | 1024 | 256 | -0.011 | +------------+---------+-------------------------------------+ | 1518 | 256 | -0.012 | +------------+---------+-------------------------------------+ Ubuntu 18.04 Kernel: 4.15.0-generic Compiler: gcc 7.4 NIC: Mellanox ConnectX-4 Lx 40000 Mbps Target: x86_64-native-linuxapp-gcc Fail/Total: 0/6 Detail performance results: +------------+---------+-------------------------------------+ | frame_size | txd/rxd | throughput difference from expected | +============+=========+=====================================+ | 64 | 256 | -0.179 | +------------+---------+-------------------------------------+ | 128 | 256 | -0.952 | +------------+---------+-------------------------------------+ | 256 | 256 | 0.037 | +------------+---------+-------------------------------------+ | 512 | 256 | 0.013 | +------------+---------+-------------------------------------+ | 1024 | 256 | -0.019 | +------------+---------+-------------------------------------+ | 1518 | 256 | -0.002 | +------------+---------+-------------------------------------+ To view detailed results, visit: https://lab.dpdk.org/results/dashboard/patchsets/12144/ UNH-IOL DPDK Community Lab To manage your email subscriptions, visit: https://lab.dpdk.org/results/dashboard/preferences/subscriptions/
[-- Attachment #1: Type: text/plain, Size: 1260 bytes --] Test-Label: iol-broadcom-Performance Test-Status: SUCCESS http://dpdk.org/patch/74243 _Performance Testing PASS_ Submitter: Wisam Jaddo <wisamm@mellanox.com> Date: Thursday, July 16 2020 14:16:56 DPDK git baseline: Repo:dpdk Branch: master CommitID:353162537fa416e2aa8b45bd6f86935f7eaf2d10 74243 --> performance testing pass Test environment and result as below: Ubuntu 18.04 Kernel: 4.15.0-65-generic Compiler: gcc gcc (Ubuntu 7.4.0-1ubuntu1~18.04.1) 7.4.0 NIC: Broadcom Inc. brcm_57414 25000 Mbps Target: x86_64-native-linuxapp-gcc Fail/Total: 0/2 Detail performance results: +------------+---------+-------------------------------------+ | frame_size | txd/rxd | throughput difference from expected | +============+=========+=====================================+ | 64 | 512 | 0.088 | +------------+---------+-------------------------------------+ | 64 | 2048 | -0.091 | +------------+---------+-------------------------------------+ To view detailed results, visit: https://lab.dpdk.org/results/dashboard/patchsets/12144/ UNH-IOL DPDK Community Lab To manage your email subscriptions, visit: https://lab.dpdk.org/results/dashboard/preferences/subscriptions/
[-- Attachment #1: Type: text/plain, Size: 1909 bytes --] Test-Label: iol-intel-Performance Test-Status: SUCCESS http://dpdk.org/patch/74243 _Performance Testing PASS_ Submitter: Wisam Jaddo <wisamm@mellanox.com> Date: Thursday, July 16 2020 14:16:56 DPDK git baseline: Repo:dpdk Branch: master CommitID:353162537fa416e2aa8b45bd6f86935f7eaf2d10 74243 --> performance testing pass Test environment and result as below: Ubuntu 18.04 Kernel: 4.15.0-generic Compiler: gcc 7.4 NIC: Intel Corporation Ethernet Converged Network Adapter XL710-QDA2 40000 Mbps Target: x86_64-native-linuxapp-gcc Fail/Total: 0/2 Detail performance results: +------------+---------+-------------------------------------+ | frame_size | txd/rxd | throughput difference from expected | +============+=========+=====================================+ | 64 | 512 | 4.767 | +------------+---------+-------------------------------------+ | 64 | 2048 | 2.722 | +------------+---------+-------------------------------------+ Ubuntu 18.04 Kernel: 4.15.0-generic Compiler: gcc 7.4 NIC: Intel Corporation Ethernet Converged Network Adapter 82599ES 10000 Mbps Target: x86_64-native-linuxapp-gcc Fail/Total: 0/2 Detail performance results: +------------+---------+-------------------------------------+ | frame_size | txd/rxd | throughput difference from expected | +============+=========+=====================================+ | 64 | 512 | 2.695 | +------------+---------+-------------------------------------+ | 64 | 2048 | 1.038 | +------------+---------+-------------------------------------+ To view detailed results, visit: https://lab.dpdk.org/results/dashboard/patchsets/12144/ UNH-IOL DPDK Community Lab To manage your email subscriptions, visit: https://lab.dpdk.org/results/dashboard/preferences/subscriptions/
[-- Attachment #1: Type: text/plain, Size: 2904 bytes --] Test-Label: iol-testing Test-Status: SUCCESS http://dpdk.org/patch/74243 _Testing PASS_ Submitter: Wisam Jaddo <wisamm@mellanox.com> Date: Thursday, July 16 2020 14:16:56 DPDK git baseline: Repo:dpdk Branch: master CommitID:353162537fa416e2aa8b45bd6f86935f7eaf2d10 74243 --> testing pass Test environment and result as below: +---------------------+--------------------+-------------------+----------------+--------------+------------------+ | Environment | dpdk_meson_compile | dpdk_compile_spdk | dpdk_unit_test | dpdk_compile | dpdk_compile_ovs | +=====================+====================+===================+================+==============+==================+ | Windows Server 2019 | PASS | SKIPPED | SKIPPED | SKIPPED | SKIPPED | +---------------------+--------------------+-------------------+----------------+--------------+------------------+ | FreeBSD 11.2 | PASS | PASS | SKIPPED | PASS | SKIPPED | +---------------------+--------------------+-------------------+----------------+--------------+------------------+ | Ubuntu 18.04 | PASS | PASS | PASS | PASS | PASS | +---------------------+--------------------+-------------------+----------------+--------------+------------------+ | Fedora 31 | PASS | PASS | SKIPPED | PASS | PASS | +---------------------+--------------------+-------------------+----------------+--------------+------------------+ | CentOS 8 | PASS | PASS | SKIPPED | PASS | PASS | +---------------------+--------------------+-------------------+----------------+--------------+------------------+ | openSUSE Leap 15 | PASS | PASS | SKIPPED | PASS | PASS | +---------------------+--------------------+-------------------+----------------+--------------+------------------+ | Arch Linux | PASS | SKIPPED | SKIPPED | PASS | PASS | +---------------------+--------------------+-------------------+----------------+--------------+------------------+ Windows Server 2019 Kernel: 10.0 Compiler: clang 9.0 FreeBSD 11.2 Kernel: 11.2 Compiler: gcc 8.3 Ubuntu 18.04 Kernel: 4.15.0-generic Compiler: gcc 7.4 Fedora 31 Kernel: 5.3.16 Compiler: gcc 9.2.1 CentOS 8 Kernel: 4.18.0.el8_0 Compiler: gcc 8.3.1 openSUSE Leap 15 Kernel: 4.12.14 Compiler: gcc 7.4.1 Arch Linux Kernel: latest Compiler: gcc latest To view detailed results, visit: https://lab.dpdk.org/results/dashboard/patchsets/12144/ UNH-IOL DPDK Community Lab To manage your email subscriptions, visit: https://lab.dpdk.org/results/dashboard/preferences/subscriptions/