* [dpdk-test-report] |SUCCESS| pw74578 [PATCH] net/sfc: do not enforce RSS hash offload in RSS multi-queue
@ 2020-07-21 15:33 dpdklab
0 siblings, 0 replies; 6+ messages in thread
From: dpdklab @ 2020-07-21 15:33 UTC (permalink / raw)
To: Ajit Khaparde, Test Report; +Cc: dpdk-test-reports
[-- Attachment #1: Type: text/plain, Size: 1270 bytes --]
Test-Label: iol-broadcom-Performance
Test-Status: SUCCESS
http://dpdk.org/patch/74578
_Performance Testing PASS_
Submitter: Andrew Rybchenko <arybchenko@solarflare.com>
Date: Tuesday, July 21 2020 14:54:49
DPDK git baseline: Repo:dpdk
Branch: master
CommitID:cf43d9d04b935e3796331e453adedc3aabbedd12
74578 --> performance testing pass
Test environment and result as below:
Ubuntu 18.04
Kernel: 4.15.0-65-generic
Compiler: gcc gcc (Ubuntu 7.4.0-1ubuntu1~18.04.1) 7.4.0
NIC: Broadcom Inc. brcm_57414 25000 Mbps
Target: x86_64-native-linuxapp-gcc
Fail/Total: 0/2
Detail performance results:
+------------+---------+-------------------------------------+
| frame_size | txd/rxd | throughput difference from expected |
+============+=========+=====================================+
| 64 | 512 | 0.043 |
+------------+---------+-------------------------------------+
| 64 | 2048 | -0.008 |
+------------+---------+-------------------------------------+
To view detailed results, visit:
https://lab.dpdk.org/results/dashboard/patchsets/12262/
UNH-IOL DPDK Community Lab
To manage your email subscriptions, visit:
https://lab.dpdk.org/results/dashboard/preferences/subscriptions/
^ permalink raw reply [flat|nested] 6+ messages in thread
* [dpdk-test-report] |SUCCESS| pw74578 [PATCH] net/sfc: do not enforce RSS hash offload in RSS multi-queue
@ 2020-07-21 18:51 dpdklab
0 siblings, 0 replies; 6+ messages in thread
From: dpdklab @ 2020-07-21 18:51 UTC (permalink / raw)
To: Test Report; +Cc: dpdk-test-reports
[-- Attachment #1: Type: text/plain, Size: 1919 bytes --]
Test-Label: iol-intel-Performance
Test-Status: SUCCESS
http://dpdk.org/patch/74578
_Performance Testing PASS_
Submitter: Andrew Rybchenko <arybchenko@solarflare.com>
Date: Tuesday, July 21 2020 14:54:49
DPDK git baseline: Repo:dpdk
Branch: master
CommitID:cf43d9d04b935e3796331e453adedc3aabbedd12
74578 --> performance testing pass
Test environment and result as below:
Ubuntu 18.04
Kernel: 4.15.0-generic
Compiler: gcc 7.4
NIC: Intel Corporation Ethernet Converged Network Adapter XL710-QDA2 40000 Mbps
Target: x86_64-native-linuxapp-gcc
Fail/Total: 0/2
Detail performance results:
+------------+---------+-------------------------------------+
| frame_size | txd/rxd | throughput difference from expected |
+============+=========+=====================================+
| 64 | 512 | 5.105 |
+------------+---------+-------------------------------------+
| 64 | 2048 | 2.960 |
+------------+---------+-------------------------------------+
Ubuntu 18.04
Kernel: 4.15.0-generic
Compiler: gcc 7.4
NIC: Intel Corporation Ethernet Converged Network Adapter 82599ES 10000 Mbps
Target: x86_64-native-linuxapp-gcc
Fail/Total: 0/2
Detail performance results:
+------------+---------+-------------------------------------+
| frame_size | txd/rxd | throughput difference from expected |
+============+=========+=====================================+
| 64 | 512 | 2.955 |
+------------+---------+-------------------------------------+
| 64 | 2048 | 1.112 |
+------------+---------+-------------------------------------+
To view detailed results, visit:
https://lab.dpdk.org/results/dashboard/patchsets/12262/
UNH-IOL DPDK Community Lab
To manage your email subscriptions, visit:
https://lab.dpdk.org/results/dashboard/preferences/subscriptions/
^ permalink raw reply [flat|nested] 6+ messages in thread
* [dpdk-test-report] |SUCCESS| pw74578 [PATCH] net/sfc: do not enforce RSS hash offload in RSS multi-queue
@ 2020-07-22 15:53 dpdklab
0 siblings, 0 replies; 6+ messages in thread
From: dpdklab @ 2020-07-22 15:53 UTC (permalink / raw)
To: Ali Alnubani, Test Report; +Cc: dpdk-test-reports
[-- Attachment #1: Type: text/plain, Size: 3969 bytes --]
Test-Label: iol-mellanox-Performance
Test-Status: SUCCESS
http://dpdk.org/patch/74578
_Performance Testing PASS_
Submitter: Andrew Rybchenko <arybchenko@solarflare.com>
Date: Tuesday, July 21 2020 14:54:49
DPDK git baseline: Repo:dpdk
Branch: master
CommitID:cf43d9d04b935e3796331e453adedc3aabbedd12
74578 --> performance testing pass
Test environment and result as below:
Ubuntu 18.04
Kernel: 4.15.0-generic
Compiler: gcc 7.4
NIC: Mellanox ConnectX-5 100000 Mbps
Target: x86_64-native-linuxapp-gcc
Fail/Total: 0/6
Detail performance results:
+------------+---------+-------------------------------------+
| frame_size | txd/rxd | throughput difference from expected |
+============+=========+=====================================+
| 64 | 256 | -0.060 |
+------------+---------+-------------------------------------+
| 128 | 256 | 0.046 |
+------------+---------+-------------------------------------+
| 256 | 256 | -0.074 |
+------------+---------+-------------------------------------+
| 512 | 256 | -0.226 |
+------------+---------+-------------------------------------+
| 1024 | 256 | -0.046 |
+------------+---------+-------------------------------------+
| 1518 | 256 | 0.011 |
+------------+---------+-------------------------------------+
Ubuntu 18.04
Kernel: 4.15.0-generic
Compiler: gcc 7.4
NIC: Mellanox ConnectX-4 Lx 25000 Mbps
Target: x86_64-native-linuxapp-gcc
Fail/Total: 0/6
Detail performance results:
+------------+---------+-------------------------------------+
| frame_size | txd/rxd | throughput difference from expected |
+============+=========+=====================================+
| 64 | 256 | -0.127 |
+------------+---------+-------------------------------------+
| 128 | 256 | -0.111 |
+------------+---------+-------------------------------------+
| 256 | 256 | -0.011 |
+------------+---------+-------------------------------------+
| 512 | 256 | 0.011 |
+------------+---------+-------------------------------------+
| 1024 | 256 | 0.011 |
+------------+---------+-------------------------------------+
| 1518 | 256 | -0.004 |
+------------+---------+-------------------------------------+
Ubuntu 18.04
Kernel: 4.15.0-generic
Compiler: gcc 7.4
NIC: Mellanox ConnectX-4 Lx 40000 Mbps
Target: x86_64-native-linuxapp-gcc
Fail/Total: 0/6
Detail performance results:
+------------+---------+-------------------------------------+
| frame_size | txd/rxd | throughput difference from expected |
+============+=========+=====================================+
| 64 | 256 | -0.188 |
+------------+---------+-------------------------------------+
| 128 | 256 | -0.196 |
+------------+---------+-------------------------------------+
| 256 | 256 | -0.051 |
+------------+---------+-------------------------------------+
| 512 | 256 | -0.004 |
+------------+---------+-------------------------------------+
| 1024 | 256 | 0 |
+------------+---------+-------------------------------------+
| 1518 | 256 | 0 |
+------------+---------+-------------------------------------+
To view detailed results, visit:
https://lab.dpdk.org/results/dashboard/patchsets/12262/
UNH-IOL DPDK Community Lab
To manage your email subscriptions, visit:
https://lab.dpdk.org/results/dashboard/preferences/subscriptions/
^ permalink raw reply [flat|nested] 6+ messages in thread
* [dpdk-test-report] |SUCCESS| pw74578 [PATCH] net/sfc: do not enforce RSS hash offload in RSS multi-queue
@ 2020-07-22 23:08 dpdklab
0 siblings, 0 replies; 6+ messages in thread
From: dpdklab @ 2020-07-22 23:08 UTC (permalink / raw)
To: Test Report; +Cc: dpdk-test-reports
[-- Attachment #1: Type: text/plain, Size: 2914 bytes --]
Test-Label: iol-testing
Test-Status: SUCCESS
http://dpdk.org/patch/74578
_Testing PASS_
Submitter: Andrew Rybchenko <arybchenko@solarflare.com>
Date: Tuesday, July 21 2020 14:54:49
DPDK git baseline: Repo:dpdk
Branch: master
CommitID:cf43d9d04b935e3796331e453adedc3aabbedd12
74578 --> testing pass
Test environment and result as below:
+---------------------+--------------------+--------------+----------------+-------------------+------------------+
| Environment | dpdk_meson_compile | dpdk_compile | dpdk_unit_test | dpdk_compile_spdk | dpdk_compile_ovs |
+=====================+====================+==============+================+===================+==================+
| Windows Server 2019 | PASS | SKIPPED | SKIPPED | SKIPPED | SKIPPED |
+---------------------+--------------------+--------------+----------------+-------------------+------------------+
| FreeBSD 11.2 | PASS | PASS | SKIPPED | PASS | SKIPPED |
+---------------------+--------------------+--------------+----------------+-------------------+------------------+
| Ubuntu 18.04 | PASS | PASS | PASS | PASS | PASS |
+---------------------+--------------------+--------------+----------------+-------------------+------------------+
| CentOS 8 | PASS | PASS | SKIPPED | PASS | PASS |
+---------------------+--------------------+--------------+----------------+-------------------+------------------+
| Fedora 31 | PASS | PASS | SKIPPED | PASS | PASS |
+---------------------+--------------------+--------------+----------------+-------------------+------------------+
| openSUSE Leap 15 | PASS | PASS | SKIPPED | PASS | PASS |
+---------------------+--------------------+--------------+----------------+-------------------+------------------+
| Arch Linux | PASS | PASS | SKIPPED | SKIPPED | PASS |
+---------------------+--------------------+--------------+----------------+-------------------+------------------+
Windows Server 2019
Kernel: 10.0
Compiler: clang 9.0
FreeBSD 11.2
Kernel: 11.2
Compiler: gcc 8.3
Ubuntu 18.04
Kernel: 4.15.0-generic
Compiler: gcc 7.4
CentOS 8
Kernel: 4.18.0.el8_0
Compiler: gcc 8.3.1
Fedora 31
Kernel: 5.3.16
Compiler: gcc 9.2.1
openSUSE Leap 15
Kernel: 4.12.14
Compiler: gcc 7.4.1
Arch Linux
Kernel: latest
Compiler: gcc latest
To view detailed results, visit:
https://lab.dpdk.org/results/dashboard/patchsets/12262/
UNH-IOL DPDK Community Lab
To manage your email subscriptions, visit:
https://lab.dpdk.org/results/dashboard/preferences/subscriptions/
^ permalink raw reply [flat|nested] 6+ messages in thread
end of thread, other threads:[~2020-07-22 23:08 UTC | newest]
Thread overview: 6+ messages (download: mbox.gz / follow: Atom feed)
-- links below jump to the message on this page --
[not found] <1595343289-15589-1-git-send-email-arybchenko@solarflare.com>
2020-07-21 14:55 ` [dpdk-test-report] |SUCCESS| pw74578 [PATCH] net/sfc: do not enforce RSS hash offload in RSS multi-queue checkpatch
2020-07-21 19:56 ` [dpdk-test-report] |SUCCESS| pw74578 " 0-day Robot
2020-07-21 15:33 [dpdk-test-report] |SUCCESS| pw74578 [PATCH] " dpdklab
2020-07-21 18:51 dpdklab
2020-07-22 15:53 dpdklab
2020-07-22 23:08 dpdklab
This is a public inbox, see mirroring instructions
for how to clone and mirror all data and code used for this inbox;
as well as URLs for NNTP newsgroup(s).