* [dpdk-test-report] |SUCCESS| pw74630 [PATCH] [v1] vhost: fix vring disable fail in async transfer
@ 2020-07-24 13:38 dpdklab
0 siblings, 0 replies; 4+ messages in thread
From: dpdklab @ 2020-07-24 13:38 UTC (permalink / raw)
To: Ali Alnubani, Test Report; +Cc: dpdk-test-reports
[-- Attachment #1: Type: text/plain, Size: 3960 bytes --]
Test-Label: iol-mellanox-Performance
Test-Status: SUCCESS
http://dpdk.org/patch/74630
_Performance Testing PASS_
Submitter: Fu, Patrick <patrick.fu@intel.com>
Date: Thursday, July 23 2020 05:38:01
DPDK git baseline: Repo:dpdk
Branch: master
CommitID:3126c6e04118e92364571b7020f7bb1567bac694
74630 --> performance testing pass
Test environment and result as below:
Ubuntu 18.04
Kernel: 4.15.0-generic
Compiler: gcc 7.4
NIC: Mellanox ConnectX-5 100000 Mbps
Target: x86_64-native-linuxapp-gcc
Fail/Total: 0/6
Detail performance results:
+------------+---------+-------------------------------------+
| frame_size | txd/rxd | throughput difference from expected |
+============+=========+=====================================+
| 64 | 256 | -0.133 |
+------------+---------+-------------------------------------+
| 128 | 256 | -0.089 |
+------------+---------+-------------------------------------+
| 256 | 256 | -0.106 |
+------------+---------+-------------------------------------+
| 512 | 256 | -0.176 |
+------------+---------+-------------------------------------+
| 1024 | 256 | 0.152 |
+------------+---------+-------------------------------------+
| 1518 | 256 | -0.009 |
+------------+---------+-------------------------------------+
Ubuntu 18.04
Kernel: 4.15.0-generic
Compiler: gcc 7.4
NIC: Mellanox ConnectX-4 Lx 25000 Mbps
Target: x86_64-native-linuxapp-gcc
Fail/Total: 0/6
Detail performance results:
+------------+---------+-------------------------------------+
| frame_size | txd/rxd | throughput difference from expected |
+============+=========+=====================================+
| 64 | 256 | 0.329 |
+------------+---------+-------------------------------------+
| 128 | 256 | 0.008 |
+------------+---------+-------------------------------------+
| 256 | 256 | 0.144 |
+------------+---------+-------------------------------------+
| 512 | 256 | -0.021 |
+------------+---------+-------------------------------------+
| 1024 | 256 | 0.002 |
+------------+---------+-------------------------------------+
| 1518 | 256 | 0.002 |
+------------+---------+-------------------------------------+
Ubuntu 18.04
Kernel: 4.15.0-generic
Compiler: gcc 7.4
NIC: Mellanox ConnectX-4 Lx 40000 Mbps
Target: x86_64-native-linuxapp-gcc
Fail/Total: 0/6
Detail performance results:
+------------+---------+-------------------------------------+
| frame_size | txd/rxd | throughput difference from expected |
+============+=========+=====================================+
| 64 | 256 | 0.101 |
+------------+---------+-------------------------------------+
| 128 | 256 | -0.087 |
+------------+---------+-------------------------------------+
| 256 | 256 | 0.003 |
+------------+---------+-------------------------------------+
| 512 | 256 | 0.003 |
+------------+---------+-------------------------------------+
| 1024 | 256 | -0.006 |
+------------+---------+-------------------------------------+
| 1518 | 256 | -0.003 |
+------------+---------+-------------------------------------+
To view detailed results, visit:
https://lab.dpdk.org/results/dashboard/patchsets/12289/
UNH-IOL DPDK Community Lab
To manage your email subscriptions, visit:
https://lab.dpdk.org/results/dashboard/preferences/subscriptions/
^ permalink raw reply [flat|nested] 4+ messages in thread
* [dpdk-test-report] |SUCCESS| pw74630 [PATCH] [v1] vhost: fix vring disable fail in async transfer
@ 2020-07-24 12:42 dpdklab
0 siblings, 0 replies; 4+ messages in thread
From: dpdklab @ 2020-07-24 12:42 UTC (permalink / raw)
To: Test Report; +Cc: dpdk-test-reports
[-- Attachment #1: Type: text/plain, Size: 2905 bytes --]
Test-Label: iol-testing
Test-Status: SUCCESS
http://dpdk.org/patch/74630
_Testing PASS_
Submitter: Fu, Patrick <patrick.fu@intel.com>
Date: Thursday, July 23 2020 05:38:01
DPDK git baseline: Repo:dpdk
Branch: master
CommitID:3126c6e04118e92364571b7020f7bb1567bac694
74630 --> testing pass
Test environment and result as below:
+---------------------+--------------------+-------------------+----------------+------------------+--------------+
| Environment | dpdk_meson_compile | dpdk_compile_spdk | dpdk_unit_test | dpdk_compile_ovs | dpdk_compile |
+=====================+====================+===================+================+==================+==============+
| Windows Server 2019 | PASS | SKIPPED | SKIPPED | SKIPPED | SKIPPED |
+---------------------+--------------------+-------------------+----------------+------------------+--------------+
| FreeBSD 11.2 | PASS | PASS | SKIPPED | SKIPPED | PASS |
+---------------------+--------------------+-------------------+----------------+------------------+--------------+
| openSUSE Leap 15 | PASS | PASS | SKIPPED | PASS | PASS |
+---------------------+--------------------+-------------------+----------------+------------------+--------------+
| Ubuntu 18.04 | PASS | PASS | PASS | PASS | PASS |
+---------------------+--------------------+-------------------+----------------+------------------+--------------+
| Fedora 31 | PASS | PASS | SKIPPED | PASS | PASS |
+---------------------+--------------------+-------------------+----------------+------------------+--------------+
| CentOS 8 | PASS | PASS | SKIPPED | PASS | PASS |
+---------------------+--------------------+-------------------+----------------+------------------+--------------+
| Arch Linux | PASS | SKIPPED | SKIPPED | PASS | PASS |
+---------------------+--------------------+-------------------+----------------+------------------+--------------+
Windows Server 2019
Kernel: 10.0
Compiler: clang 9.0
FreeBSD 11.2
Kernel: 11.2
Compiler: gcc 8.3
openSUSE Leap 15
Kernel: 4.12.14
Compiler: gcc 7.4.1
Ubuntu 18.04
Kernel: 4.15.0-generic
Compiler: gcc 7.4
Fedora 31
Kernel: 5.3.16
Compiler: gcc 9.2.1
CentOS 8
Kernel: 4.18.0.el8_0
Compiler: gcc 8.3.1
Arch Linux
Kernel: latest
Compiler: gcc latest
To view detailed results, visit:
https://lab.dpdk.org/results/dashboard/patchsets/12289/
UNH-IOL DPDK Community Lab
To manage your email subscriptions, visit:
https://lab.dpdk.org/results/dashboard/preferences/subscriptions/
^ permalink raw reply [flat|nested] 4+ messages in thread
* [dpdk-test-report] |SUCCESS| pw74630 [PATCH] [v1] vhost: fix vring disable fail in async transfer
@ 2020-07-23 23:02 dpdklab
0 siblings, 0 replies; 4+ messages in thread
From: dpdklab @ 2020-07-23 23:02 UTC (permalink / raw)
To: Test Report; +Cc: dpdk-test-reports
[-- Attachment #1: Type: text/plain, Size: 1256 bytes --]
Test-Label: iol-intel-Performance
Test-Status: SUCCESS
http://dpdk.org/patch/74630
_Performance Testing PASS_
Submitter: Fu, Patrick <patrick.fu@intel.com>
Date: Thursday, July 23 2020 05:38:01
DPDK git baseline: Repo:dpdk
Branch: master
CommitID:3126c6e04118e92364571b7020f7bb1567bac694
74630 --> performance testing pass
Test environment and result as below:
Ubuntu 18.04
Kernel: 4.15.0-generic
Compiler: gcc 7.4
NIC: Intel Corporation Ethernet Converged Network Adapter XL710-QDA2 40000 Mbps
Target: x86_64-native-linuxapp-gcc
Fail/Total: 0/2
Detail performance results:
+------------+---------+-------------------------------------+
| frame_size | txd/rxd | throughput difference from expected |
+============+=========+=====================================+
| 64 | 512 | 4.814 |
+------------+---------+-------------------------------------+
| 64 | 2048 | 2.637 |
+------------+---------+-------------------------------------+
To view detailed results, visit:
https://lab.dpdk.org/results/dashboard/patchsets/12289/
UNH-IOL DPDK Community Lab
To manage your email subscriptions, visit:
https://lab.dpdk.org/results/dashboard/preferences/subscriptions/
^ permalink raw reply [flat|nested] 4+ messages in thread
[parent not found: <20200723053801.3616928-1-patrick.fu@intel.com>]
end of thread, other threads:[~2020-07-24 13:38 UTC | newest]
Thread overview: 4+ messages (download: mbox.gz / follow: Atom feed)
-- links below jump to the message on this page --
2020-07-24 13:38 [dpdk-test-report] |SUCCESS| pw74630 [PATCH] [v1] vhost: fix vring disable fail in async transfer dpdklab
-- strict thread matches above, loose matches on Subject: below --
2020-07-24 12:42 dpdklab
2020-07-23 23:02 dpdklab
[not found] <20200723053801.3616928-1-patrick.fu@intel.com>
2020-07-23 5:41 ` [dpdk-test-report] |SUCCESS| pw74630 [PATCH v1] " checkpatch
This is a public inbox, see mirroring instructions
for how to clone and mirror all data and code used for this inbox;
as well as URLs for NNTP newsgroup(s).