[-- Attachment #1: Type: text/plain, Size: 1276 bytes --] Test-Label: iol-broadcom-Performance Test-Status: SUCCESS http://dpdk.org/patch/74762 _Performance Testing PASS_ Submitter: Harry van Haaren <harry.van.haaren@intel.com> Date: Friday, July 24 2020 13:45:05 DPDK git baseline: Repo:dpdk Branch: master CommitID:3126c6e04118e92364571b7020f7bb1567bac694 74762-74763 --> performance testing pass Test environment and result as below: Ubuntu 18.04 Kernel: 4.15.0-65-generic Compiler: gcc gcc (Ubuntu 7.4.0-1ubuntu1~18.04.1) 7.4.0 NIC: Broadcom Inc. brcm_57414 25000 Mbps Target: x86_64-native-linuxapp-gcc Fail/Total: 0/2 Detail performance results: +------------+---------+-------------------------------------+ | frame_size | txd/rxd | throughput difference from expected | +============+=========+=====================================+ | 64 | 512 | -0.001 | +------------+---------+-------------------------------------+ | 64 | 2048 | 0.045 | +------------+---------+-------------------------------------+ To view detailed results, visit: https://lab.dpdk.org/results/dashboard/patchsets/12320/ UNH-IOL DPDK Community Lab To manage your email subscriptions, visit: https://lab.dpdk.org/results/dashboard/preferences/subscriptions/
[-- Attachment #1: Type: text/plain, Size: 1925 bytes --] Test-Label: iol-intel-Performance Test-Status: SUCCESS http://dpdk.org/patch/74762 _Performance Testing PASS_ Submitter: Harry van Haaren <harry.van.haaren@intel.com> Date: Friday, July 24 2020 13:45:05 DPDK git baseline: Repo:dpdk Branch: master CommitID:3126c6e04118e92364571b7020f7bb1567bac694 74762-74763 --> performance testing pass Test environment and result as below: Ubuntu 18.04 Kernel: 4.15.0-generic Compiler: gcc 7.4 NIC: Intel Corporation Ethernet Converged Network Adapter XL710-QDA2 40000 Mbps Target: x86_64-native-linuxapp-gcc Fail/Total: 0/2 Detail performance results: +------------+---------+-------------------------------------+ | frame_size | txd/rxd | throughput difference from expected | +============+=========+=====================================+ | 64 | 512 | 5.113 | +------------+---------+-------------------------------------+ | 64 | 2048 | 2.620 | +------------+---------+-------------------------------------+ Ubuntu 18.04 Kernel: 4.15.0-generic Compiler: gcc 7.4 NIC: Intel Corporation Ethernet Converged Network Adapter 82599ES 10000 Mbps Target: x86_64-native-linuxapp-gcc Fail/Total: 0/2 Detail performance results: +------------+---------+-------------------------------------+ | frame_size | txd/rxd | throughput difference from expected | +============+=========+=====================================+ | 64 | 512 | 2.367 | +------------+---------+-------------------------------------+ | 64 | 2048 | 1.868 | +------------+---------+-------------------------------------+ To view detailed results, visit: https://lab.dpdk.org/results/dashboard/patchsets/12320/ UNH-IOL DPDK Community Lab To manage your email subscriptions, visit: https://lab.dpdk.org/results/dashboard/preferences/subscriptions/
[-- Attachment #1: Type: text/plain, Size: 2920 bytes --] Test-Label: iol-testing Test-Status: SUCCESS http://dpdk.org/patch/74762 _Testing PASS_ Submitter: Harry van Haaren <harry.van.haaren@intel.com> Date: Friday, July 24 2020 13:45:05 DPDK git baseline: Repo:dpdk Branch: master CommitID:3126c6e04118e92364571b7020f7bb1567bac694 74762-74763 --> testing pass Test environment and result as below: +---------------------+--------------------+--------------+----------------+------------------+-------------------+ | Environment | dpdk_meson_compile | dpdk_compile | dpdk_unit_test | dpdk_compile_ovs | dpdk_compile_spdk | +=====================+====================+==============+================+==================+===================+ | Windows Server 2019 | PASS | SKIPPED | SKIPPED | SKIPPED | SKIPPED | +---------------------+--------------------+--------------+----------------+------------------+-------------------+ | FreeBSD 11.2 | PASS | PASS | SKIPPED | SKIPPED | PASS | +---------------------+--------------------+--------------+----------------+------------------+-------------------+ | Ubuntu 18.04 | PASS | PASS | PASS | PASS | PASS | +---------------------+--------------------+--------------+----------------+------------------+-------------------+ | Fedora 31 | PASS | PASS | SKIPPED | PASS | PASS | +---------------------+--------------------+--------------+----------------+------------------+-------------------+ | CentOS 8 | PASS | PASS | SKIPPED | PASS | PASS | +---------------------+--------------------+--------------+----------------+------------------+-------------------+ | openSUSE Leap 15 | PASS | PASS | SKIPPED | PASS | PASS | +---------------------+--------------------+--------------+----------------+------------------+-------------------+ | Arch Linux | PASS | PASS | SKIPPED | PASS | SKIPPED | +---------------------+--------------------+--------------+----------------+------------------+-------------------+ Windows Server 2019 Kernel: 10.0 Compiler: clang 9.0 FreeBSD 11.2 Kernel: 11.2 Compiler: gcc 8.3 Ubuntu 18.04 Kernel: 4.15.0-generic Compiler: gcc 7.4 Fedora 31 Kernel: 5.3.16 Compiler: gcc 9.2.1 CentOS 8 Kernel: 4.18.0.el8_0 Compiler: gcc 8.3.1 openSUSE Leap 15 Kernel: 4.12.14 Compiler: gcc 7.4.1 Arch Linux Kernel: latest Compiler: gcc latest To view detailed results, visit: https://lab.dpdk.org/results/dashboard/patchsets/12320/ UNH-IOL DPDK Community Lab To manage your email subscriptions, visit: https://lab.dpdk.org/results/dashboard/preferences/subscriptions/
[-- Attachment #1: Type: text/plain, Size: 3975 bytes --] Test-Label: iol-mellanox-Performance Test-Status: SUCCESS http://dpdk.org/patch/74762 _Performance Testing PASS_ Submitter: Harry van Haaren <harry.van.haaren@intel.com> Date: Friday, July 24 2020 13:45:05 DPDK git baseline: Repo:dpdk Branch: master CommitID:3126c6e04118e92364571b7020f7bb1567bac694 74762-74763 --> performance testing pass Test environment and result as below: Ubuntu 18.04 Kernel: 4.15.0-generic Compiler: gcc 7.4 NIC: Mellanox ConnectX-5 100000 Mbps Target: x86_64-native-linuxapp-gcc Fail/Total: 0/6 Detail performance results: +------------+---------+-------------------------------------+ | frame_size | txd/rxd | throughput difference from expected | +============+=========+=====================================+ | 64 | 256 | 0.182 | +------------+---------+-------------------------------------+ | 128 | 256 | -0.167 | +------------+---------+-------------------------------------+ | 256 | 256 | -0.241 | +------------+---------+-------------------------------------+ | 512 | 256 | -0.085 | +------------+---------+-------------------------------------+ | 1024 | 256 | 0.047 | +------------+---------+-------------------------------------+ | 1518 | 256 | 0.033 | +------------+---------+-------------------------------------+ Ubuntu 18.04 Kernel: 4.15.0-generic Compiler: gcc 7.4 NIC: Mellanox ConnectX-4 Lx 25000 Mbps Target: x86_64-native-linuxapp-gcc Fail/Total: 0/6 Detail performance results: +------------+---------+-------------------------------------+ | frame_size | txd/rxd | throughput difference from expected | +============+=========+=====================================+ | 64 | 256 | 0.337 | +------------+---------+-------------------------------------+ | 128 | 256 | 0.275 | +------------+---------+-------------------------------------+ | 256 | 256 | 0.232 | +------------+---------+-------------------------------------+ | 512 | 256 | -0.020 | +------------+---------+-------------------------------------+ | 1024 | 256 | 0 | +------------+---------+-------------------------------------+ | 1518 | 256 | -0.002 | +------------+---------+-------------------------------------+ Ubuntu 18.04 Kernel: 4.15.0-generic Compiler: gcc 7.4 NIC: Mellanox ConnectX-4 Lx 40000 Mbps Target: x86_64-native-linuxapp-gcc Fail/Total: 0/6 Detail performance results: +------------+---------+-------------------------------------+ | frame_size | txd/rxd | throughput difference from expected | +============+=========+=====================================+ | 64 | 256 | 0.058 | +------------+---------+-------------------------------------+ | 128 | 256 | -0.049 | +------------+---------+-------------------------------------+ | 256 | 256 | -0.023 | +------------+---------+-------------------------------------+ | 512 | 256 | 0.014 | +------------+---------+-------------------------------------+ | 1024 | 256 | -0.004 | +------------+---------+-------------------------------------+ | 1518 | 256 | -0.002 | +------------+---------+-------------------------------------+ To view detailed results, visit: https://lab.dpdk.org/results/dashboard/patchsets/12320/ UNH-IOL DPDK Community Lab To manage your email subscriptions, visit: https://lab.dpdk.org/results/dashboard/preferences/subscriptions/