Test-Label: checkpatch Test-Status: SUCCESS http://dpdk.org/patch/74922 _coding style OK_
[-- Attachment #1: Type: text/plain, Size: 1262 bytes --] Test-Label: iol-broadcom-Performance Test-Status: SUCCESS http://dpdk.org/patch/74922 _Performance Testing PASS_ Submitter: Wang, Xiao W <xiao.w.wang@intel.com> Date: Tuesday, July 28 2020 06:52:12 DPDK git baseline: Repo:dpdk Branch: master CommitID:ec0b862d5e52db12932c3125d06081307aea6af4 74922 --> performance testing pass Test environment and result as below: Ubuntu 18.04 Kernel: 4.15.0-65-generic Compiler: gcc gcc (Ubuntu 7.4.0-1ubuntu1~18.04.1) 7.4.0 NIC: Broadcom Inc. brcm_57414 25000 Mbps Target: x86_64-native-linuxapp-gcc Fail/Total: 0/2 Detail performance results: +------------+---------+-------------------------------------+ | frame_size | txd/rxd | throughput difference from expected | +============+=========+=====================================+ | 64 | 512 | 0.086 | +------------+---------+-------------------------------------+ | 64 | 2048 | -0.026 | +------------+---------+-------------------------------------+ To view detailed results, visit: https://lab.dpdk.org/results/dashboard/patchsets/12369/ UNH-IOL DPDK Community Lab To manage your email subscriptions, visit: https://lab.dpdk.org/results/dashboard/preferences/subscriptions/
[-- Attachment #1: Type: text/plain, Size: 1911 bytes --] Test-Label: iol-intel-Performance Test-Status: SUCCESS http://dpdk.org/patch/74922 _Performance Testing PASS_ Submitter: Wang, Xiao W <xiao.w.wang@intel.com> Date: Tuesday, July 28 2020 06:52:12 DPDK git baseline: Repo:dpdk Branch: master CommitID:ec0b862d5e52db12932c3125d06081307aea6af4 74922 --> performance testing pass Test environment and result as below: Ubuntu 18.04 Kernel: 4.15.0-generic Compiler: gcc 7.4 NIC: Intel Corporation Ethernet Converged Network Adapter XL710-QDA2 40000 Mbps Target: x86_64-native-linuxapp-gcc Fail/Total: 0/2 Detail performance results: +------------+---------+-------------------------------------+ | frame_size | txd/rxd | throughput difference from expected | +============+=========+=====================================+ | 64 | 512 | 4.872 | +------------+---------+-------------------------------------+ | 64 | 2048 | 2.732 | +------------+---------+-------------------------------------+ Ubuntu 18.04 Kernel: 4.15.0-generic Compiler: gcc 7.4 NIC: Intel Corporation Ethernet Converged Network Adapter 82599ES 10000 Mbps Target: x86_64-native-linuxapp-gcc Fail/Total: 0/2 Detail performance results: +------------+---------+-------------------------------------+ | frame_size | txd/rxd | throughput difference from expected | +============+=========+=====================================+ | 64 | 512 | 2.552 | +------------+---------+-------------------------------------+ | 64 | 2048 | 1.815 | +------------+---------+-------------------------------------+ To view detailed results, visit: https://lab.dpdk.org/results/dashboard/patchsets/12369/ UNH-IOL DPDK Community Lab To manage your email subscriptions, visit: https://lab.dpdk.org/results/dashboard/preferences/subscriptions/
[-- Attachment #1: Type: text/plain, Size: 2906 bytes --] Test-Label: iol-testing Test-Status: SUCCESS http://dpdk.org/patch/74922 _Testing PASS_ Submitter: Wang, Xiao W <xiao.w.wang@intel.com> Date: Tuesday, July 28 2020 06:52:12 DPDK git baseline: Repo:dpdk Branch: master CommitID:ec0b862d5e52db12932c3125d06081307aea6af4 74922 --> testing pass Test environment and result as below: +---------------------+--------------------+-------------------+----------------+--------------+------------------+ | Environment | dpdk_meson_compile | dpdk_compile_spdk | dpdk_unit_test | dpdk_compile | dpdk_compile_ovs | +=====================+====================+===================+================+==============+==================+ | Windows Server 2019 | PASS | SKIPPED | SKIPPED | SKIPPED | SKIPPED | +---------------------+--------------------+-------------------+----------------+--------------+------------------+ | FreeBSD 11.2 | PASS | PASS | SKIPPED | PASS | SKIPPED | +---------------------+--------------------+-------------------+----------------+--------------+------------------+ | Fedora 31 | PASS | PASS | SKIPPED | PASS | PASS | +---------------------+--------------------+-------------------+----------------+--------------+------------------+ | CentOS 8 | PASS | PASS | SKIPPED | PASS | PASS | +---------------------+--------------------+-------------------+----------------+--------------+------------------+ | openSUSE Leap 15 | PASS | PASS | SKIPPED | PASS | PASS | +---------------------+--------------------+-------------------+----------------+--------------+------------------+ | Ubuntu 18.04 | PASS | PASS | PASS | PASS | PASS | +---------------------+--------------------+-------------------+----------------+--------------+------------------+ | Arch Linux | PASS | SKIPPED | SKIPPED | PASS | PASS | +---------------------+--------------------+-------------------+----------------+--------------+------------------+ Windows Server 2019 Kernel: 10.0 Compiler: clang 9.0 FreeBSD 11.2 Kernel: 11.2 Compiler: gcc 8.3 Fedora 31 Kernel: 5.3.16 Compiler: gcc 9.2.1 CentOS 8 Kernel: 4.18.0.el8_0 Compiler: gcc 8.3.1 openSUSE Leap 15 Kernel: 4.12.14 Compiler: gcc 7.4.1 Ubuntu 18.04 Kernel: 4.15.0-generic Compiler: gcc 7.4 Arch Linux Kernel: latest Compiler: gcc latest To view detailed results, visit: https://lab.dpdk.org/results/dashboard/patchsets/12369/ UNH-IOL DPDK Community Lab To manage your email subscriptions, visit: https://lab.dpdk.org/results/dashboard/preferences/subscriptions/
[-- Attachment #1: Type: text/plain, Size: 3961 bytes --] Test-Label: iol-mellanox-Performance Test-Status: SUCCESS http://dpdk.org/patch/74922 _Performance Testing PASS_ Submitter: Wang, Xiao W <xiao.w.wang@intel.com> Date: Tuesday, July 28 2020 06:52:12 DPDK git baseline: Repo:dpdk Branch: master CommitID:ec0b862d5e52db12932c3125d06081307aea6af4 74922 --> performance testing pass Test environment and result as below: Ubuntu 18.04 Kernel: 4.15.0-generic Compiler: gcc 7.4 NIC: Mellanox ConnectX-5 100000 Mbps Target: x86_64-native-linuxapp-gcc Fail/Total: 0/6 Detail performance results: +------------+---------+-------------------------------------+ | frame_size | txd/rxd | throughput difference from expected | +============+=========+=====================================+ | 64 | 256 | -0.130 | +------------+---------+-------------------------------------+ | 128 | 256 | 0.127 | +------------+---------+-------------------------------------+ | 256 | 256 | -0.177 | +------------+---------+-------------------------------------+ | 512 | 256 | -0.132 | +------------+---------+-------------------------------------+ | 1024 | 256 | 0.007 | +------------+---------+-------------------------------------+ | 1518 | 256 | -0.019 | +------------+---------+-------------------------------------+ Ubuntu 18.04 Kernel: 4.15.0-generic Compiler: gcc 7.4 NIC: Mellanox ConnectX-4 Lx 25000 Mbps Target: x86_64-native-linuxapp-gcc Fail/Total: 0/6 Detail performance results: +------------+---------+-------------------------------------+ | frame_size | txd/rxd | throughput difference from expected | +============+=========+=====================================+ | 64 | 256 | 0.087 | +------------+---------+-------------------------------------+ | 128 | 256 | -0.070 | +------------+---------+-------------------------------------+ | 256 | 256 | -0.174 | +------------+---------+-------------------------------------+ | 512 | 256 | 0.019 | +------------+---------+-------------------------------------+ | 1024 | 256 | 0 | +------------+---------+-------------------------------------+ | 1518 | 256 | 0.011 | +------------+---------+-------------------------------------+ Ubuntu 18.04 Kernel: 4.15.0-generic Compiler: gcc 7.4 NIC: Mellanox ConnectX-4 Lx 40000 Mbps Target: x86_64-native-linuxapp-gcc Fail/Total: 0/6 Detail performance results: +------------+---------+-------------------------------------+ | frame_size | txd/rxd | throughput difference from expected | +============+=========+=====================================+ | 64 | 256 | 0.175 | +------------+---------+-------------------------------------+ | 128 | 256 | 0.132 | +------------+---------+-------------------------------------+ | 256 | 256 | -0.113 | +------------+---------+-------------------------------------+ | 512 | 256 | 0.005 | +------------+---------+-------------------------------------+ | 1024 | 256 | -0.002 | +------------+---------+-------------------------------------+ | 1518 | 256 | -0.011 | +------------+---------+-------------------------------------+ To view detailed results, visit: https://lab.dpdk.org/results/dashboard/patchsets/12369/ UNH-IOL DPDK Community Lab To manage your email subscriptions, visit: https://lab.dpdk.org/results/dashboard/preferences/subscriptions/